BEGIN:VCALENDAR
VERSION:2.0
PRODID:-//Tri-County Alliance - ECPv6.15.20//NONSGML v1.0//EN
CALSCALE:GREGORIAN
METHOD:PUBLISH
X-WR-CALNAME:Tri-County Alliance
X-ORIGINAL-URL:https://tri-countyalliance.com
X-WR-CALDESC:Events for Tri-County Alliance
REFRESH-INTERVAL;VALUE=DURATION:PT1H
X-Robots-Tag:noindex
X-PUBLISHED-TTL:PT1H
BEGIN:VTIMEZONE
TZID:UTC
BEGIN:STANDARD
TZOFFSETFROM:+0000
TZOFFSETTO:+0000
TZNAME:UTC
DTSTART:20220101T000000
END:STANDARD
END:VTIMEZONE
BEGIN:VEVENT
DTSTART;TZID=UTC:20230912T090000
DTEND;TZID=UTC:20230912T100000
DTSTAMP:20260426T002732
CREATED:20221207T154941Z
LAST-MODIFIED:20230623T191049Z
UID:16252-1694509200-1694512800@tri-countyalliance.com
SUMMARY:Board of Directors Meeting
DESCRIPTION:Topic: 2023 BOD meeting\nTime: This is a recurring meeting Meet anytime \nJoin Zoom Meeting\nhttps://us02web.zoom.us/j/81693857337?pwd=a3d3a2RtUVFCUitSSHVZT2ZWcU9aQT09 \nMeeting ID: 816 9385 7337\nPasscode: BOD ACCESS ONLY
URL:https://tri-countyalliance.com/calendar/board-of-directors-meeting-51/
LOCATION:Tri-County Alliance Office\, 186 E. Center Street\, Manchester\, CT\, 06040\, United States
CATEGORIES:Board of Directors Meetings
END:VEVENT
BEGIN:VEVENT
DTSTART;TZID=UTC:20230912T090000
DTEND;TZID=UTC:20230912T100000
DTSTAMP:20260426T002732
CREATED:20231229T211107Z
LAST-MODIFIED:20231229T211107Z
UID:16965-1694509200-1694512800@tri-countyalliance.com
SUMMARY:Board of Directors meeting
DESCRIPTION:
URL:https://tri-countyalliance.com/calendar/board-of-directors-meeting-57/
LOCATION:Tri-County Alliance Office\, 186 E. Center Street\, Manchester\, CT\, 06040\, United States
CATEGORIES:Board of Directors Meetings
END:VEVENT
END:VCALENDAR