BEGIN:VCALENDAR
VERSION:2.0
PRODID:-//Tri-County Alliance - ECPv6.15.20//NONSGML v1.0//EN
CALSCALE:GREGORIAN
METHOD:PUBLISH
X-ORIGINAL-URL:https://tri-countyalliance.com
X-WR-CALDESC:Events for Tri-County Alliance
REFRESH-INTERVAL;VALUE=DURATION:PT1H
X-Robots-Tag:noindex
X-PUBLISHED-TTL:PT1H
BEGIN:VTIMEZONE
TZID:UTC
BEGIN:STANDARD
TZOFFSETFROM:+0000
TZOFFSETTO:+0000
TZNAME:UTC
DTSTART:20150101T000000
END:STANDARD
END:VTIMEZONE
BEGIN:VEVENT
DTSTART;TZID=UTC:20160803T100000
DTEND;TZID=UTC:20160803T110000
DTSTAMP:20260423T115932
CREATED:20160728T183745Z
LAST-MODIFIED:20160728T183745Z
UID:1455-1470218400-1470222000@tri-countyalliance.com
SUMMARY:Budget Committee Meeting
DESCRIPTION:
URL:https://tri-countyalliance.com/calendar/budget-committee-meeting-2/
LOCATION:Tri-County Alliance Office\, 186 E. Center Street\, Manchester\, CT\, 06040\, United States
CATEGORIES:Committee Meetings
END:VEVENT
BEGIN:VEVENT
DTSTART;TZID=UTC:20160805T090000
DTEND;TZID=UTC:20160805T100000
DTSTAMP:20260423T115932
CREATED:20160722T125355Z
LAST-MODIFIED:20160722T125355Z
UID:1377-1470387600-1470391200@tri-countyalliance.com
SUMMARY:Nominating Committee Meeting
DESCRIPTION:
URL:https://tri-countyalliance.com/calendar/nominating-committee-meeting/
LOCATION:Tri-County Alliance Office\, 186 E. Center Street\, Manchester\, CT\, 06040\, United States
CATEGORIES:Committee Meetings
END:VEVENT
BEGIN:VEVENT
DTSTART;TZID=UTC:20160805T100000
DTEND;TZID=UTC:20160805T110000
DTSTAMP:20260423T115932
CREATED:20160722T125515Z
LAST-MODIFIED:20160722T125515Z
UID:1378-1470391200-1470394800@tri-countyalliance.com
SUMMARY:Membership Committee Meeting
DESCRIPTION:
URL:https://tri-countyalliance.com/calendar/membership-committee-meeting-8/
LOCATION:Tri-County Alliance Office\, 186 E. Center Street\, Manchester\, CT\, 06040\, United States
CATEGORIES:Committee Meetings
ORGANIZER;CN="Steve Ferrigno":MAILTO:steven@ferrignorealtors.com
END:VEVENT
BEGIN:VEVENT
DTSTART;TZID=UTC:20160817T100000
DTEND;TZID=UTC:20160817T110000
DTSTAMP:20260423T115932
CREATED:20160623T194656Z
LAST-MODIFIED:20160728T183853Z
UID:1332-1471428000-1471431600@tri-countyalliance.com
SUMMARY:Programs Meeting
DESCRIPTION:
URL:https://tri-countyalliance.com/calendar/programs-meeting/
LOCATION:Tri-County Alliance Office\, 186 E. Center Street\, Manchester\, CT\, 06040\, United States
CATEGORIES:Committee Meetings
END:VEVENT
BEGIN:VEVENT
DTSTART;TZID=UTC:20160818T100000
DTEND;TZID=UTC:20160818T110000
DTSTAMP:20260423T115932
CREATED:20160805T173238Z
LAST-MODIFIED:20161107T140253Z
UID:1469-1471514400-1471518000@tri-countyalliance.com
SUMMARY:Membership Committee Meeting
DESCRIPTION:
URL:https://tri-countyalliance.com/calendar/membership-committee-meeting-9/
LOCATION:Tri-County Alliance Office\, 186 E. Center Street\, Manchester\, CT\, 06040\, United States
CATEGORIES:Committee Meetings
END:VEVENT
END:VCALENDAR