BEGIN:VCALENDAR
VERSION:2.0
PRODID:-//Tri-County Alliance - ECPv6.15.20//NONSGML v1.0//EN
CALSCALE:GREGORIAN
METHOD:PUBLISH
X-ORIGINAL-URL:https://tri-countyalliance.com
X-WR-CALDESC:Events for Tri-County Alliance
REFRESH-INTERVAL;VALUE=DURATION:PT1H
X-Robots-Tag:noindex
X-PUBLISHED-TTL:PT1H
BEGIN:VTIMEZONE
TZID:UTC
BEGIN:STANDARD
TZOFFSETFROM:+0000
TZOFFSETTO:+0000
TZNAME:UTC
DTSTART:20160101T000000
END:STANDARD
END:VTIMEZONE
BEGIN:VEVENT
DTSTART;TZID=UTC:20171107T093000
DTEND;TZID=UTC:20171107T103000
DTSTAMP:20260422T113804
CREATED:20170926T104042Z
LAST-MODIFIED:20171030T200022Z
UID:2077-1510047000-1510050600@tri-countyalliance.com
SUMMARY:Education Committee Meeting
DESCRIPTION:
URL:https://tri-countyalliance.com/calendar/education-committee-meeting-10/
LOCATION:Tri-County Alliance Office\, 186 E. Center Street\, Manchester\, CT\, 06040\, United States
CATEGORIES:Committee Meetings
ORGANIZER;CN="Carol Cavalieri":MAILTO:carolcavalieri@sbcglobal.net
END:VEVENT
BEGIN:VEVENT
DTSTART;TZID=UTC:20171108T093000
DTEND;TZID=UTC:20171108T103000
DTSTAMP:20260422T113805
CREATED:20171031T184455Z
LAST-MODIFIED:20171031T184534Z
UID:2122-1510133400-1510137000@tri-countyalliance.com
SUMMARY:Membership Committee Meeting
DESCRIPTION:
URL:https://tri-countyalliance.com/calendar/memebership-committee-meeting/
LOCATION:Tri-County Alliance Office\, 186 E. Center Street\, Manchester\, CT\, 06040\, United States
CATEGORIES:Committee Meetings
ORGANIZER;CN="Steve Ferrigno":MAILTO:steven@ferrignorealtors.com
END:VEVENT
BEGIN:VEVENT
DTSTART;TZID=UTC:20171108T103000
DTEND;TZID=UTC:20171108T110000
DTSTAMP:20260422T113805
CREATED:20171107T214416Z
LAST-MODIFIED:20171107T214416Z
UID:2145-1510137000-1510138800@tri-countyalliance.com
SUMMARY:Outreach Committee Meeting
DESCRIPTION:Meeting Cancelled
URL:https://tri-countyalliance.com/calendar/outreach-committee-meeting-2/
LOCATION:Tri-County Alliance Office\, 186 E. Center Street\, Manchester\, CT\, 06040\, United States
CATEGORIES:Committee Meetings
ORGANIZER;CN="Marisol Dumeng":MAILTO:www.Tri.County@sbcglobal.net
END:VEVENT
BEGIN:VEVENT
DTSTART;TZID=UTC:20171108T110000
DTEND;TZID=UTC:20171108T120000
DTSTAMP:20260422T113805
CREATED:20170105T175501Z
LAST-MODIFIED:20171031T191215Z
UID:1702-1510138800-1510142400@tri-countyalliance.com
SUMMARY:Programs Committee Meeting
DESCRIPTION:
URL:https://tri-countyalliance.com/calendar/programs-committee-meeting-22/
LOCATION:Tri-County Alliance Office\, 186 E. Center Street\, Manchester\, CT\, 06040\, United States
CATEGORIES:Committee Meetings
ORGANIZER;CN="Marisol Dumeng":MAILTO:www.Tri.County@sbcglobal.net
END:VEVENT
END:VCALENDAR