BEGIN:VCALENDAR
VERSION:2.0
PRODID:-//Tri-County Alliance - ECPv6.15.20//NONSGML v1.0//EN
CALSCALE:GREGORIAN
METHOD:PUBLISH
X-WR-CALNAME:Tri-County Alliance
X-ORIGINAL-URL:https://tri-countyalliance.com
X-WR-CALDESC:Events for Tri-County Alliance
REFRESH-INTERVAL;VALUE=DURATION:PT1H
X-Robots-Tag:noindex
X-PUBLISHED-TTL:PT1H
BEGIN:VTIMEZONE
TZID:UTC
BEGIN:STANDARD
TZOFFSETFROM:+0000
TZOFFSETTO:+0000
TZNAME:UTC
DTSTART:20170101T000000
END:STANDARD
END:VTIMEZONE
BEGIN:VEVENT
DTSTART;TZID=UTC:20180404T093000
DTEND;TZID=UTC:20180404T103000
DTSTAMP:20260422T034754
CREATED:20180109T142437Z
LAST-MODIFIED:20180109T142437Z
UID:2331-1522834200-1522837800@tri-countyalliance.com
SUMMARY:Communications and Social Media Committee Meeting
DESCRIPTION:
URL:https://tri-countyalliance.com/calendar/communications-and-social-media-committee-meeting-5/
LOCATION:Tri-County Alliance Office\, 186 E. Center Street\, Manchester\, CT\, 06040\, United States
CATEGORIES:Committee Meetings
ORGANIZER;CN="Norm DeLaura":MAILTO:norm.delaura@flagstar.com
END:VEVENT
BEGIN:VEVENT
DTSTART;TZID=UTC:20180404T093000
DTEND;TZID=UTC:20180404T103000
DTSTAMP:20260422T034754
CREATED:20180109T153206Z
LAST-MODIFIED:20180109T153206Z
UID:2359-1522834200-1522837800@tri-countyalliance.com
SUMMARY:Membership Committee Meeting
DESCRIPTION:
URL:https://tri-countyalliance.com/calendar/membership-committee-meeting-26/
LOCATION:Tri-County Alliance Office\, 186 E. Center Street\, Manchester\, CT\, 06040\, United States
CATEGORIES:Committee Meetings
ORGANIZER;CN="Steve Ferrigno":MAILTO:steven@ferrignorealtors.com
END:VEVENT
BEGIN:VEVENT
DTSTART;TZID=UTC:20180418T093000
DTEND;TZID=UTC:20180418T100000
DTSTAMP:20260422T034754
CREATED:20171214T161206Z
LAST-MODIFIED:20171214T164203Z
UID:2242-1524043800-1524045600@tri-countyalliance.com
SUMMARY:Outreach Committee Meeting
DESCRIPTION:
URL:https://tri-countyalliance.com/calendar/outreach-committee-meeting-5/
LOCATION:Tri-County Alliance Office\, 186 E. Center Street\, Manchester\, CT\, 06040\, United States
CATEGORIES:Committee Meetings
ORGANIZER;CN="Peter Leeds":MAILTO:pcleeds54@gmail.com
END:VEVENT
BEGIN:VEVENT
DTSTART;TZID=UTC:20180418T100000
DTEND;TZID=UTC:20180418T110000
DTSTAMP:20260422T034754
CREATED:20171214T161057Z
LAST-MODIFIED:20171214T164147Z
UID:2241-1524045600-1524049200@tri-countyalliance.com
SUMMARY:Programs Committee Meeting
DESCRIPTION:
URL:https://tri-countyalliance.com/calendar/programs-committee-meeting-26/
LOCATION:Tri-County Alliance Office\, 186 E. Center Street\, Manchester\, CT\, 06040\, United States
CATEGORIES:Committee Meetings
ORGANIZER;CN="Lisa Daniels":MAILTO:lisasellshouses@cox.net
END:VEVENT
BEGIN:VEVENT
DTSTART;TZID=UTC:20180419T090000
DTEND;TZID=UTC:20180419T100000
DTSTAMP:20260422T034754
CREATED:20171214T161315Z
LAST-MODIFIED:20171214T164131Z
UID:2243-1524128400-1524132000@tri-countyalliance.com
SUMMARY:Education Committee Meeting
DESCRIPTION:
URL:https://tri-countyalliance.com/calendar/education-committee-meeting-16/
LOCATION:Tri-County Alliance Office\, 186 E. Center Street\, Manchester\, CT\, 06040\, United States
CATEGORIES:Committee Meetings
ORGANIZER;CN="Carol Cavalieri":MAILTO:carolcavalieri@sbcglobal.net
END:VEVENT
END:VCALENDAR