BEGIN:VCALENDAR
VERSION:2.0
PRODID:-//Tri-County Alliance - ECPv6.15.20//NONSGML v1.0//EN
CALSCALE:GREGORIAN
METHOD:PUBLISH
X-ORIGINAL-URL:https://tri-countyalliance.com
X-WR-CALDESC:Events for Tri-County Alliance
REFRESH-INTERVAL;VALUE=DURATION:PT1H
X-Robots-Tag:noindex
X-PUBLISHED-TTL:PT1H
BEGIN:VTIMEZONE
TZID:UTC
BEGIN:STANDARD
TZOFFSETFROM:+0000
TZOFFSETTO:+0000
TZNAME:UTC
DTSTART:20170101T000000
END:STANDARD
END:VTIMEZONE
BEGIN:VEVENT
DTSTART;TZID=UTC:20180502T093000
DTEND;TZID=UTC:20180502T103000
DTSTAMP:20260422T021620
CREATED:20180109T153242Z
LAST-MODIFIED:20180424T133416Z
UID:2360-1525253400-1525257000@tri-countyalliance.com
SUMMARY:Membership/Social Media Committee Meeting
DESCRIPTION:
URL:https://tri-countyalliance.com/calendar/membership-committee-meeting-27/
LOCATION:Tri-County Alliance Office\, 186 E. Center Street\, Manchester\, CT\, 06040\, United States
CATEGORIES:Committee Meetings
ORGANIZER;CN="Steve Ferrigno":MAILTO:steven@ferrignorealtors.com
END:VEVENT
BEGIN:VEVENT
DTSTART;TZID=UTC:20180517T090000
DTEND;TZID=UTC:20180517T100000
DTSTAMP:20260422T021620
CREATED:20171214T164047Z
LAST-MODIFIED:20171214T164047Z
UID:2252-1526547600-1526551200@tri-countyalliance.com
SUMMARY:Education Committee Meeting
DESCRIPTION:
URL:https://tri-countyalliance.com/calendar/education-committee-meeting-17/
LOCATION:Tri-County Alliance Office\, 186 E. Center Street\, Manchester\, CT\, 06040\, United States
CATEGORIES:Committee Meetings
ORGANIZER;CN="Carol Cavalieri":MAILTO:carolcavalieri@sbcglobal.net
END:VEVENT
BEGIN:VEVENT
DTSTART;TZID=UTC:20180517T130000
DTEND;TZID=UTC:20180517T140000
DTSTAMP:20260422T021620
CREATED:20171214T163637Z
LAST-MODIFIED:20180524T173029Z
UID:2249-1526562000-1526565600@tri-countyalliance.com
SUMMARY:Programs/Outreach Committee Meeting
DESCRIPTION:
URL:https://tri-countyalliance.com/calendar/programs-committee-meeting-27/
LOCATION:Tri-County Alliance Office\, 186 E. Center Street\, Manchester\, CT\, 06040\, United States
CATEGORIES:Committee Meetings
ORGANIZER;CN="Lisa Daniels":MAILTO:lisasellshouses@cox.net
END:VEVENT
BEGIN:VEVENT
DTSTART;TZID=UTC:20180524T103000
DTEND;TZID=UTC:20180524T113000
DTSTAMP:20260422T021620
CREATED:20180524T173243Z
LAST-MODIFIED:20180524T173243Z
UID:2641-1527157800-1527161400@tri-countyalliance.com
SUMMARY:RPAC Fundraising and Political Committee Meeting
DESCRIPTION:
URL:https://tri-countyalliance.com/calendar/rpac-fundraising-and-political-committee-meeting-5/
LOCATION:Tri-County Alliance Office\, 186 E. Center Street\, Manchester\, CT\, 06040\, United States
CATEGORIES:Committee Meetings
ORGANIZER;CN="Teri Gardner":MAILTO:terigardner21@comcast.net
END:VEVENT
END:VCALENDAR