BEGIN:VCALENDAR
VERSION:2.0
PRODID:-//Tri-County Alliance - ECPv6.15.20//NONSGML v1.0//EN
CALSCALE:GREGORIAN
METHOD:PUBLISH
X-WR-CALNAME:Tri-County Alliance
X-ORIGINAL-URL:https://tri-countyalliance.com
X-WR-CALDESC:Events for Tri-County Alliance
REFRESH-INTERVAL;VALUE=DURATION:PT1H
X-Robots-Tag:noindex
X-PUBLISHED-TTL:PT1H
BEGIN:VTIMEZONE
TZID:UTC
BEGIN:STANDARD
TZOFFSETFROM:+0000
TZOFFSETTO:+0000
TZNAME:UTC
DTSTART:20170101T000000
END:STANDARD
END:VTIMEZONE
BEGIN:VEVENT
DTSTART;TZID=UTC:20181003T093000
DTEND;TZID=UTC:20181003T103000
DTSTAMP:20260421T184129
CREATED:20180109T144250Z
LAST-MODIFIED:20180109T144250Z
UID:2336-1538559000-1538562600@tri-countyalliance.com
SUMMARY:Communications and Social Media Committee Meeting
DESCRIPTION:
URL:https://tri-countyalliance.com/calendar/communications-and-social-media-committee-meeting-10/
LOCATION:Tri-County Alliance Office\, 186 E. Center Street\, Manchester\, CT\, 06040\, United States
CATEGORIES:Committee Meetings
ORGANIZER;CN="Norm DeLaura":MAILTO:norm.delaura@flagstar.com
END:VEVENT
BEGIN:VEVENT
DTSTART;TZID=UTC:20181003T093000
DTEND;TZID=UTC:20181003T103000
DTSTAMP:20260421T184129
CREATED:20180109T153645Z
LAST-MODIFIED:20180109T153645Z
UID:2366-1538559000-1538562600@tri-countyalliance.com
SUMMARY:Membership Committee Meeting
DESCRIPTION:
URL:https://tri-countyalliance.com/calendar/membership-committee-meeting-32/
LOCATION:Tri-County Alliance Office\, 186 E. Center Street\, Manchester\, CT\, 06040\, United States
CATEGORIES:Committee Meetings
ORGANIZER;CN="Steve Ferrigno":MAILTO:steven@ferrignorealtors.com
END:VEVENT
BEGIN:VEVENT
DTSTART;TZID=UTC:20181005T090000
DTEND;TZID=UTC:20181005T100000
DTSTAMP:20260421T184129
CREATED:20181004T191111Z
LAST-MODIFIED:20181004T191111Z
UID:2959-1538730000-1538733600@tri-countyalliance.com
SUMMARY:Budget Committee Meeting
DESCRIPTION:
URL:https://tri-countyalliance.com/calendar/budget-committee-meeting-6/
LOCATION:Tri-County Alliance Office\, 186 E. Center Street\, Manchester\, CT\, 06040\, United States
CATEGORIES:Committee Meetings
ORGANIZER;CN="Marisol Dumeng":MAILTO:www.Tri.County@sbcglobal.net
END:VEVENT
BEGIN:VEVENT
DTSTART;TZID=UTC:20181018T090000
DTEND;TZID=UTC:20181018T100000
DTSTAMP:20260421T184129
CREATED:20171220T194030Z
LAST-MODIFIED:20171220T194030Z
UID:2292-1539853200-1539856800@tri-countyalliance.com
SUMMARY:Education Committee Meeting
DESCRIPTION:
URL:https://tri-countyalliance.com/calendar/education-committee-meeting-22/
LOCATION:Tri-County Alliance Office\, 186 E. Center Street\, Manchester\, CT\, 06040\, United States
CATEGORIES:Committee Meetings
ORGANIZER;CN="Carol Cavalieri":MAILTO:carolcavalieri@sbcglobal.net
END:VEVENT
BEGIN:VEVENT
DTSTART;TZID=UTC:20181024T100000
DTEND;TZID=UTC:20181024T110000
DTSTAMP:20260421T184129
CREATED:20171220T193909Z
LAST-MODIFIED:20180919T153637Z
UID:2290-1540375200-1540378800@tri-countyalliance.com
SUMMARY:Programs/Outreach Committee Meeting
DESCRIPTION:
URL:https://tri-countyalliance.com/calendar/programs-committee-meeting-31/
LOCATION:Tri-County Alliance Office\, 186 E. Center Street\, Manchester\, CT\, 06040\, United States
CATEGORIES:Committee Meetings
ORGANIZER;CN="Lisa Daniels":MAILTO:lisasellshouses@cox.net
END:VEVENT
END:VCALENDAR