BEGIN:VCALENDAR
VERSION:2.0
PRODID:-//Tri-County Alliance - ECPv6.15.20//NONSGML v1.0//EN
CALSCALE:GREGORIAN
METHOD:PUBLISH
X-WR-CALNAME:Tri-County Alliance
X-ORIGINAL-URL:https://tri-countyalliance.com
X-WR-CALDESC:Events for Tri-County Alliance
REFRESH-INTERVAL;VALUE=DURATION:PT1H
X-Robots-Tag:noindex
X-PUBLISHED-TTL:PT1H
BEGIN:VTIMEZONE
TZID:UTC
BEGIN:STANDARD
TZOFFSETFROM:+0000
TZOFFSETTO:+0000
TZNAME:UTC
DTSTART:20240101T000000
END:STANDARD
END:VTIMEZONE
BEGIN:VEVENT
DTSTART;TZID=UTC:20251104T090000
DTEND;TZID=UTC:20251104T100000
DTSTAMP:20260424T060419
CREATED:20250617T174316Z
LAST-MODIFIED:20250617T174316Z
UID:17446-1762246800-1762250400@tri-countyalliance.com
SUMMARY:Community and Engagement Committee Meeting
DESCRIPTION:The Community and Engagement Committee meets to strengthen connections between our organization and the broader community. During this meeting\, we will discuss outreach initiatives\, upcoming events\, volunteer opportunities\, and strategies for increasing community involvement and visibility. All members and interested participants are welcome to join the conversation and help shape our efforts.
URL:https://tri-countyalliance.com/calendar/community-and-engagement-committee-meeting-5/
CATEGORIES:Committee Meetings
END:VEVENT
END:VCALENDAR