BEGIN:VCALENDAR
VERSION:2.0
PRODID:-//Tri-County Alliance - ECPv6.15.20//NONSGML v1.0//EN
CALSCALE:GREGORIAN
METHOD:PUBLISH
X-ORIGINAL-URL:https://tri-countyalliance.com
X-WR-CALDESC:Events for Tri-County Alliance
REFRESH-INTERVAL;VALUE=DURATION:PT1H
X-Robots-Tag:noindex
X-PUBLISHED-TTL:PT1H
BEGIN:VTIMEZONE
TZID:UTC
BEGIN:STANDARD
TZOFFSETFROM:+0000
TZOFFSETTO:+0000
TZNAME:UTC
DTSTART:20160101T000000
END:STANDARD
END:VTIMEZONE
BEGIN:VEVENT
DTSTART;VALUE=DATE:20170429
DTEND;VALUE=DATE:20170430
DTSTAMP:20260421T083848
CREATED:20170305T130921Z
LAST-MODIFIED:20170411T200132Z
UID:1822-1493424000-1493510399@tri-countyalliance.com
SUMMARY:Rebuilding Together
DESCRIPTION:Rebuilding Together started with the simple act of neighbors helping neighbors. \nIn 1973\, a small group of people in Midland\, Texas\, realized a growing need in their community. Their neighbors’ homes had fallen into disrepair and the homeowners could not afford to fix them on their own. They volunteered their time and skills to rehabilitate the homes of their neighbors. Realizing the potential impact of this work\, the group formed Christmas in April\, with the intent of performing repair and rehabilitation work in their community every April. READ MORE \nPlease join us\, Saturday\, April 29th. Work involved mainly consists of landscaping and painting. Bring a friend!! This is also a great opportunity for high school students looking to complete community service hours. For more information\, or to sign up to help\, please contact Carol Cavalieri at carolcavalieri@sbcglobal.net.
URL:https://tri-countyalliance.com/calendar/rebuilding-together-2/
LOCATION:CT
CATEGORIES:Community Outreach
ORGANIZER;CN="Marisol Dumeng":MAILTO:www.Tri.County@sbcglobal.net
END:VEVENT
END:VCALENDAR