BEGIN:VCALENDAR
VERSION:2.0
PRODID:-//Tri-County Alliance - ECPv6.15.20//NONSGML v1.0//EN
CALSCALE:GREGORIAN
METHOD:PUBLISH
X-ORIGINAL-URL:https://tri-countyalliance.com
X-WR-CALDESC:Events for Tri-County Alliance
REFRESH-INTERVAL;VALUE=DURATION:PT1H
X-Robots-Tag:noindex
X-PUBLISHED-TTL:PT1H
BEGIN:VTIMEZONE
TZID:UTC
BEGIN:STANDARD
TZOFFSETFROM:+0000
TZOFFSETTO:+0000
TZNAME:UTC
DTSTART:20160101T000000
END:STANDARD
END:VTIMEZONE
BEGIN:VEVENT
DTSTART;TZID=UTC:20170816T170000
DTEND;TZID=UTC:20170816T190000
DTSTAMP:20260421T021228
CREATED:20170811T113840Z
LAST-MODIFIED:20170811T113840Z
UID:2011-1502902800-1502910000@tri-countyalliance.com
SUMMARY:Manchester Commercial Tour
DESCRIPTION:Manchester Empty Commercial Buildings Tour \nFollowed by Ice Cream Social Sponsored by Freedom Mortgage
URL:https://tri-countyalliance.com/calendar/manchester-commercial-tour/
LOCATION:Purnell Place Parking Lot\, 39 Purnell Place\, Manchester\, CT\, 06040\, United States
CATEGORIES:Community Outreach
ORGANIZER;CN="Marisol Dumeng":MAILTO:www.Tri.County@sbcglobal.net
END:VEVENT
END:VCALENDAR