BEGIN:VCALENDAR
VERSION:2.0
PRODID:-//Tri-County Alliance - ECPv6.15.20//NONSGML v1.0//EN
CALSCALE:GREGORIAN
METHOD:PUBLISH
X-ORIGINAL-URL:https://tri-countyalliance.com
X-WR-CALDESC:Events for Tri-County Alliance
REFRESH-INTERVAL;VALUE=DURATION:PT1H
X-Robots-Tag:noindex
X-PUBLISHED-TTL:PT1H
BEGIN:VTIMEZONE
TZID:UTC
BEGIN:STANDARD
TZOFFSETFROM:+0000
TZOFFSETTO:+0000
TZNAME:UTC
DTSTART:20180101T000000
END:STANDARD
END:VTIMEZONE
BEGIN:VEVENT
DTSTART;TZID=UTC:20190117T103000
DTEND;TZID=UTC:20190117T113000
DTSTAMP:20260419T232525
CREATED:20181226T180531Z
LAST-MODIFIED:20190111T175704Z
UID:3260-1547721000-1547724600@tri-countyalliance.com
SUMMARY:Programs/Outreach Committee Meeting
DESCRIPTION:
URL:https://tri-countyalliance.com/calendar/programs-outreach-committee-meeting-2/
LOCATION:Tri-County Alliance Office\, 186 E. Center Street\, Manchester\, CT\, 06040\, United States
CATEGORIES:Committee Meetings,Community Outreach
END:VEVENT
END:VCALENDAR