BEGIN:VCALENDAR
VERSION:2.0
PRODID:-//Tri-County Alliance - ECPv6.15.20//NONSGML v1.0//EN
CALSCALE:GREGORIAN
METHOD:PUBLISH
X-ORIGINAL-URL:https://tri-countyalliance.com
X-WR-CALDESC:Events for Tri-County Alliance
REFRESH-INTERVAL;VALUE=DURATION:PT1H
X-Robots-Tag:noindex
X-PUBLISHED-TTL:PT1H
BEGIN:VTIMEZONE
TZID:UTC
BEGIN:STANDARD
TZOFFSETFROM:+0000
TZOFFSETTO:+0000
TZNAME:UTC
DTSTART:20160101T000000
END:STANDARD
END:VTIMEZONE
BEGIN:VEVENT
DTSTART;TZID=UTC:20170228T083000
DTEND;TZID=UTC:20170228T100000
DTSTAMP:20260419T180805
CREATED:20170105T145737Z
LAST-MODIFIED:20170209T162407Z
UID:1626-1488270600-1488276000@tri-countyalliance.com
SUMMARY:Membership Breakfast Meeting
DESCRIPTION:featuring Noah Vertefeuille of Outside The Box Design\nHe will be exploring how to use social media to reach the various age groups REALTORS® encounter in their business. Topics will include Facebook\, LinkedIn\, Instagram\, YouTube\, and others. \nat A Villa Louisa\, 60 Villa Louisa Road in Bolton\nMembers $15       Non-Members $20\n\n Sponsored by \n\n \n  \n  \n*Full Breakfast Buffet *RPAC Prizes *Production Awards 3rd & 4th Quarter 2016\n\nREGISTRATION REQUIRED BY FEBRUARY 21\, 2017 – NO SHOWS WILL BE BILLED \nTo register: Email to Tri.County@sbcglobal.net or fax 860-649-4343 the registration form.\n \nBreakfast Meeting Registration Form.docx \nIf you wish to pay online via credit card (MasterCard or Visa only) sign on to your realtor.org account\, click on pay dues\, eMall\, and events. You will need to enter your realtor.org USER NAME and PASSWORD.
URL:https://tri-countyalliance.com/calendar/membership-breakfast-meeting-3/
LOCATION:A Villa Louisa\, 60 Villa Louisa Road\, Bolton\, CT\, 06043\, United States
CATEGORIES:Membership Breakfast Meeting
ORGANIZER;CN="Marisol Dumeng":MAILTO:www.Tri.County@sbcglobal.net
END:VEVENT
END:VCALENDAR