BEGIN:VCALENDAR
VERSION:2.0
PRODID:-//Tri-County Alliance - ECPv6.15.20//NONSGML v1.0//EN
CALSCALE:GREGORIAN
METHOD:PUBLISH
X-WR-CALNAME:Tri-County Alliance
X-ORIGINAL-URL:https://tri-countyalliance.com
X-WR-CALDESC:Events for Tri-County Alliance
REFRESH-INTERVAL;VALUE=DURATION:PT1H
X-Robots-Tag:noindex
X-PUBLISHED-TTL:PT1H
BEGIN:VTIMEZONE
TZID:UTC
BEGIN:STANDARD
TZOFFSETFROM:+0000
TZOFFSETTO:+0000
TZNAME:UTC
DTSTART:20210101T000000
END:STANDARD
END:VTIMEZONE
BEGIN:VEVENT
DTSTART;TZID=UTC:20220825T170000
DTEND;TZID=UTC:20220825T190000
DTSTAMP:20260421T090945
CREATED:20220817T152357Z
LAST-MODIFIED:20220824T195514Z
UID:15968-1661446800-1661454000@tri-countyalliance.com
SUMMARY:Mixer sponsored by First World Mortgage & Jeffrey T. Walsh\, Esq.
DESCRIPTION:
URL:https://tri-countyalliance.com/calendar/mixer-sponsored-by-first-world-mortgage/
LOCATION:Elicit\, 165 Adams St\, Manchester\, CT\, 06040\, United States
CATEGORIES:Mixers
END:VEVENT
END:VCALENDAR