BEGIN:VCALENDAR
VERSION:2.0
PRODID:-//Tri-County Alliance - ECPv6.15.20//NONSGML v1.0//EN
CALSCALE:GREGORIAN
METHOD:PUBLISH
X-ORIGINAL-URL:https://tri-countyalliance.com
X-WR-CALDESC:Events for Tri-County Alliance
REFRESH-INTERVAL;VALUE=DURATION:PT1H
X-Robots-Tag:noindex
X-PUBLISHED-TTL:PT1H
BEGIN:VTIMEZONE
TZID:UTC
BEGIN:STANDARD
TZOFFSETFROM:+0000
TZOFFSETTO:+0000
TZNAME:UTC
DTSTART:20210101T000000
END:STANDARD
END:VTIMEZONE
BEGIN:VEVENT
DTSTART;TZID=UTC:20221027T163000
DTEND;TZID=UTC:20221027T183000
DTSTAMP:20260421T062822
CREATED:20221024T194952Z
LAST-MODIFIED:20221024T194952Z
UID:16154-1666888200-1666895400@tri-countyalliance.com
SUMMARY:Mixer sponsored by Jeffrey T Walsh & Associates
DESCRIPTION:All are welcome!  No pre-registration required.
URL:https://tri-countyalliance.com/calendar/mixer-sponsored-by-jeffrey-t-walsh-associates/
LOCATION:CT
CATEGORIES:Mixers
END:VEVENT
END:VCALENDAR