BEGIN:VCALENDAR
VERSION:2.0
PRODID:-//Tri-County Alliance - ECPv6.15.20//NONSGML v1.0//EN
CALSCALE:GREGORIAN
METHOD:PUBLISH
X-WR-CALNAME:Tri-County Alliance
X-ORIGINAL-URL:https://tri-countyalliance.com
X-WR-CALDESC:Events for Tri-County Alliance
REFRESH-INTERVAL;VALUE=DURATION:PT1H
X-Robots-Tag:noindex
X-PUBLISHED-TTL:PT1H
BEGIN:VTIMEZONE
TZID:UTC
BEGIN:STANDARD
TZOFFSETFROM:+0000
TZOFFSETTO:+0000
TZNAME:UTC
DTSTART:20220101T000000
END:STANDARD
END:VTIMEZONE
BEGIN:VEVENT
DTSTART;TZID=UTC:20230126T163000
DTEND;TZID=UTC:20230126T183000
DTSTAMP:20260421T015750
CREATED:20230102T163729Z
LAST-MODIFIED:20230102T163729Z
UID:16327-1674750600-1674757800@tri-countyalliance.com
SUMMARY:Mixer sponsored by Kim Cyr with Total Mortgage
DESCRIPTION:
URL:https://tri-countyalliance.com/calendar/mixer-sponsored-by-kim-cyr-with-total-mortgage/
LOCATION:Dimitri’s Restaurant\, 3444 Main Street\, Coventry\, 06238
CATEGORIES:Mixers
ATTACH;FMTTYPE=image/jpeg:https://tri-countyalliance.com/https:/tri-countyalliance.com/wp-admin/upload/2022/07/total-mortgage-2.jpg
ORGANIZER;CN="Tri-County Alliance of REALTORS%C2%AE":MAILTO:tri.county@sbcglobal.net
END:VEVENT
END:VCALENDAR