BEGIN:VCALENDAR
VERSION:2.0
PRODID:-//Tri-County Alliance - ECPv6.15.20//NONSGML v1.0//EN
CALSCALE:GREGORIAN
METHOD:PUBLISH
X-ORIGINAL-URL:https://tri-countyalliance.com
X-WR-CALDESC:Events for Tri-County Alliance
REFRESH-INTERVAL;VALUE=DURATION:PT1H
X-Robots-Tag:noindex
X-PUBLISHED-TTL:PT1H
BEGIN:VTIMEZONE
TZID:UTC
BEGIN:STANDARD
TZOFFSETFROM:+0000
TZOFFSETTO:+0000
TZNAME:UTC
DTSTART:20220101T000000
END:STANDARD
END:VTIMEZONE
BEGIN:VEVENT
DTSTART;TZID=UTC:20230425T190000
DTEND;TZID=UTC:20230425T210000
DTSTAMP:20260420T211425
CREATED:20230412T135626Z
LAST-MODIFIED:20230412T135626Z
UID:16543-1682449200-1682456400@tri-countyalliance.com
SUMMARY:Trivia Night!
DESCRIPTION:Click HERE to sign up online\nClick HERE to download the sign up form
URL:https://tri-countyalliance.com/calendar/trivia-night/
LOCATION:Labyrinth\, 148 Forest St\, Manchester\, CT\, 06040\, United States
CATEGORIES:Membership Meetings,Mixers
ATTACH;FMTTYPE=image/png:https://tri-countyalliance.com/https:/tri-countyalliance.com/wp-admin/upload/2023/04/Norm.png
END:VEVENT
END:VCALENDAR