BEGIN:VCALENDAR
VERSION:2.0
PRODID:-//Tri-County Alliance - ECPv6.15.20//NONSGML v1.0//EN
CALSCALE:GREGORIAN
METHOD:PUBLISH
X-WR-CALNAME:Tri-County Alliance
X-ORIGINAL-URL:https://tri-countyalliance.com
X-WR-CALDESC:Events for Tri-County Alliance
REFRESH-INTERVAL;VALUE=DURATION:PT1H
X-Robots-Tag:noindex
X-PUBLISHED-TTL:PT1H
BEGIN:VTIMEZONE
TZID:UTC
BEGIN:STANDARD
TZOFFSETFROM:+0000
TZOFFSETTO:+0000
TZNAME:UTC
DTSTART:20220101T000000
END:STANDARD
END:VTIMEZONE
BEGIN:VEVENT
DTSTART;TZID=UTC:20230615T163000
DTEND;TZID=UTC:20230615T183000
DTSTAMP:20260420T174757
CREATED:20230412T164255Z
LAST-MODIFIED:20230517T164738Z
UID:16556-1686846600-1686853800@tri-countyalliance.com
SUMMARY:Mixer hosted by Supreme Lending
DESCRIPTION:
URL:https://tri-countyalliance.com/calendar/mixer-hosted-by-greene-moving-storage/
LOCATION:Labyrinth\, 148 Forest St\, Manchester\, CT\, 06040\, United States
CATEGORIES:Mixers
END:VEVENT
END:VCALENDAR