BEGIN:VCALENDAR
VERSION:2.0
PRODID:-//Tri-County Alliance - ECPv6.15.20//NONSGML v1.0//EN
CALSCALE:GREGORIAN
METHOD:PUBLISH
X-WR-CALNAME:Tri-County Alliance
X-ORIGINAL-URL:https://tri-countyalliance.com
X-WR-CALDESC:Events for Tri-County Alliance
REFRESH-INTERVAL;VALUE=DURATION:PT1H
X-Robots-Tag:noindex
X-PUBLISHED-TTL:PT1H
BEGIN:VTIMEZONE
TZID:UTC
BEGIN:STANDARD
TZOFFSETFROM:+0000
TZOFFSETTO:+0000
TZNAME:UTC
DTSTART:20220101T000000
END:STANDARD
END:VTIMEZONE
BEGIN:VEVENT
DTSTART;TZID=UTC:20230720T163000
DTEND;TZID=UTC:20230720T183000
DTSTAMP:20260420T161336
CREATED:20230623T185747Z
LAST-MODIFIED:20230623T185747Z
UID:16744-1689870600-1689877800@tri-countyalliance.com
SUMMARY:Mixer sponsored by Jeffrey T Walsh\, Esq. @ Main Pub
DESCRIPTION:
URL:https://tri-countyalliance.com/calendar/mixer-sponsored-by-jeffrey-t-walsh-esq-main-pub/
LOCATION:MainPub\, 306 Main St\, Manchester\, CT\, 06040\, United States
CATEGORIES:Mixers
ATTACH;FMTTYPE=image/png:https://tri-countyalliance.com/https:/tri-countyalliance.com/wp-admin/upload/2023/06/072023-Jeff-Walsh-mixer-flyer-2.png
ORGANIZER;CN="Tri-County Alliance of REALTORS%C2%AE":MAILTO:tri.county@sbcglobal.net
END:VEVENT
END:VCALENDAR