BEGIN:VCALENDAR
VERSION:2.0
PRODID:-//Tri-County Alliance - ECPv6.15.20//NONSGML v1.0//EN
CALSCALE:GREGORIAN
METHOD:PUBLISH
X-ORIGINAL-URL:https://tri-countyalliance.com
X-WR-CALDESC:Events for Tri-County Alliance
REFRESH-INTERVAL;VALUE=DURATION:PT1H
X-Robots-Tag:noindex
X-PUBLISHED-TTL:PT1H
BEGIN:VTIMEZONE
TZID:UTC
BEGIN:STANDARD
TZOFFSETFROM:+0000
TZOFFSETTO:+0000
TZNAME:UTC
DTSTART:20220101T000000
END:STANDARD
END:VTIMEZONE
BEGIN:VEVENT
DTSTART;TZID=UTC:20230817T163000
DTEND;TZID=UTC:20230817T183000
DTSTAMP:20260420T144313
CREATED:20230608T180114Z
LAST-MODIFIED:20230623T191316Z
UID:16630-1692289800-1692297000@tri-countyalliance.com
SUMMARY:Mixer hosted by Greene Moving & Storage @ Elicit Brewing
DESCRIPTION:
URL:https://tri-countyalliance.com/calendar/mixer-hosted-by-greene-moving-storage-elicit-brewing/
LOCATION:Elicit\, 165 Adams St\, Manchester\, CT\, 06040\, United States
CATEGORIES:Mixers
END:VEVENT
END:VCALENDAR