BEGIN:VCALENDAR
VERSION:2.0
PRODID:-//Tri-County Alliance - ECPv6.15.20//NONSGML v1.0//EN
CALSCALE:GREGORIAN
METHOD:PUBLISH
X-ORIGINAL-URL:https://tri-countyalliance.com
X-WR-CALDESC:Events for Tri-County Alliance
REFRESH-INTERVAL;VALUE=DURATION:PT1H
X-Robots-Tag:noindex
X-PUBLISHED-TTL:PT1H
BEGIN:VTIMEZONE
TZID:UTC
BEGIN:STANDARD
TZOFFSETFROM:+0000
TZOFFSETTO:+0000
TZNAME:UTC
DTSTART:20240101T000000
END:STANDARD
END:VTIMEZONE
BEGIN:VEVENT
DTSTART;TZID=UTC:20250627T163000
DTEND;TZID=UTC:20250627T190000
DTSTAMP:20260421T221314
CREATED:20250602T175411Z
LAST-MODIFIED:20250602T175425Z
UID:17357-1751041800-1751050800@tri-countyalliance.com
SUMMARY:TCAR Picnic in the Park
DESCRIPTION:TCAR Picnic in the Park \n\nA day of fun\, food\, and unforgettable memories!\n\n\n\n Where:\nPatriots Park Lodge\n172 Lake St\, Coventry\, CT 06238\n\n\n\n When:\nFriday\, June 27\, 2025\n4:30 PM – 7:00 PM\n\n\n\n What to Bring:\nYour favorite bathing suit\, sunscreen\, and good vibes!\n\n\n\n Activities Include:\n\n\nSwimming\n\n\nLawn games\n\n\nHanging out on the deck\n\n\nChillin’ in the AC\n\n\nFamily-friendly fun!\n\n\n\n Surrounded by blooming flowers and chirping birds\, this is your chance to relax\, reconnect\, and enjoy the sunshine with fellow TCAR members\, families\, and friends!\n\n\n\nRSVP HERE: https://www.eventbrite.com/…/picnic-in-the-park-2025…\n\n\n\n We can’t wait to see you there!
URL:https://tri-countyalliance.com/calendar/17357/
LOCATION:Patriots Park\, 3104\, 124 Lake St\, Coventry\, CT\, 06238
CATEGORIES:Picnic
ORGANIZER;CN="Tri-County Alliance of REALTORS%C2%AE":MAILTO:tri.county@sbcglobal.net
END:VEVENT
END:VCALENDAR