BEGIN:VCALENDAR
VERSION:2.0
PRODID:-//Tri-County Alliance - ECPv6.15.20//NONSGML v1.0//EN
CALSCALE:GREGORIAN
METHOD:PUBLISH
X-ORIGINAL-URL:https://tri-countyalliance.com
X-WR-CALDESC:Events for Tri-County Alliance
REFRESH-INTERVAL;VALUE=DURATION:PT1H
X-Robots-Tag:noindex
X-PUBLISHED-TTL:PT1H
BEGIN:VTIMEZONE
TZID:UTC
BEGIN:STANDARD
TZOFFSETFROM:+0000
TZOFFSETTO:+0000
TZNAME:UTC
DTSTART:20190101T000000
END:STANDARD
END:VTIMEZONE
BEGIN:VEVENT
DTSTART;TZID=UTC:20200204T173000
DTEND;TZID=UTC:20200204T203000
DTSTAMP:20260425T000206
CREATED:20191220T193528Z
LAST-MODIFIED:20191220T193528Z
UID:4344-1580837400-1580848200@tri-countyalliance.com
SUMMARY:Real Estate P&P Class
DESCRIPTION:
URL:https://tri-countyalliance.com/calendar/real-estate-pp-class-26/
LOCATION:Tri-County Alliance Office\, 186 E. Center Street\, Manchester\, CT\, 06040\, United States
CATEGORIES:P&P Class
END:VEVENT
BEGIN:VEVENT
DTSTART;TZID=UTC:20200206T173000
DTEND;TZID=UTC:20200206T203000
DTSTAMP:20260425T000206
CREATED:20191227T144509Z
LAST-MODIFIED:20191227T144509Z
UID:4360-1581010200-1581021000@tri-countyalliance.com
SUMMARY:Real Estate P&P Class
DESCRIPTION:
URL:https://tri-countyalliance.com/calendar/real-estate-pp-class-27/
LOCATION:Tri-County Alliance Office\, 186 E. Center Street\, Manchester\, CT\, 06040\, United States
CATEGORIES:P&P Class
END:VEVENT
BEGIN:VEVENT
DTSTART;TZID=UTC:20200211T173000
DTEND;TZID=UTC:20200211T203000
DTSTAMP:20260425T000206
CREATED:20191227T144737Z
LAST-MODIFIED:20191227T144737Z
UID:4362-1581442200-1581453000@tri-countyalliance.com
SUMMARY:Real Estate P&P Class
DESCRIPTION:
URL:https://tri-countyalliance.com/calendar/real-estate-pp-class-28/
LOCATION:Tri-County Alliance Office\, 186 E. Center Street\, Manchester\, CT\, 06040\, United States
CATEGORIES:P&P Class
END:VEVENT
BEGIN:VEVENT
DTSTART;TZID=UTC:20200213T173000
DTEND;TZID=UTC:20200213T203000
DTSTAMP:20260425T000206
CREATED:20191227T145059Z
LAST-MODIFIED:20191227T145059Z
UID:4365-1581615000-1581625800@tri-countyalliance.com
SUMMARY:Real Estate P&P Class
DESCRIPTION:
URL:https://tri-countyalliance.com/calendar/real-estate-pp-class-29/
LOCATION:Tri-County Alliance Office\, 186 E. Center Street\, Manchester\, CT\, 06040\, United States
CATEGORIES:P&P Class
END:VEVENT
BEGIN:VEVENT
DTSTART;TZID=UTC:20200218T173000
DTEND;TZID=UTC:20200218T203000
DTSTAMP:20260425T000206
CREATED:20191230T144741Z
LAST-MODIFIED:20191230T144741Z
UID:4372-1582047000-1582057800@tri-countyalliance.com
SUMMARY:Real Estate P&P Class
DESCRIPTION:
URL:https://tri-countyalliance.com/calendar/real-estate-pp-class-30/
LOCATION:Tri-County Alliance Office\, 186 E. Center Street\, Manchester\, CT\, 06040\, United States
CATEGORIES:P&P Class
END:VEVENT
BEGIN:VEVENT
DTSTART;TZID=UTC:20200220T173000
DTEND;TZID=UTC:20200220T203000
DTSTAMP:20260425T000206
CREATED:20191230T145835Z
LAST-MODIFIED:20191230T145835Z
UID:4377-1582219800-1582230600@tri-countyalliance.com
SUMMARY:Real Estate P&P Class
DESCRIPTION:
URL:https://tri-countyalliance.com/calendar/real-estate-pp-class-31/
LOCATION:Tri-County Alliance Office\, 186 E. Center Street\, Manchester\, CT\, 06040\, United States
CATEGORIES:P&P Class
END:VEVENT
BEGIN:VEVENT
DTSTART;TZID=UTC:20200225T173000
DTEND;TZID=UTC:20200225T203000
DTSTAMP:20260425T000206
CREATED:20191230T150404Z
LAST-MODIFIED:20191230T150404Z
UID:4379-1582651800-1582662600@tri-countyalliance.com
SUMMARY:Real Estate P&P Class
DESCRIPTION:
URL:https://tri-countyalliance.com/calendar/real-estate-pp-class-32/
LOCATION:Tri-County Alliance Office\, 186 E. Center Street\, Manchester\, CT\, 06040\, United States
CATEGORIES:P&P Class
END:VEVENT
BEGIN:VEVENT
DTSTART;TZID=UTC:20200227T173000
DTEND;TZID=UTC:20200227T203000
DTSTAMP:20260425T000206
CREATED:20191230T150512Z
LAST-MODIFIED:20191230T150512Z
UID:4381-1582824600-1582835400@tri-countyalliance.com
SUMMARY:Real Estate P&P Class
DESCRIPTION:
URL:https://tri-countyalliance.com/calendar/real-estate-pp-class-33/
LOCATION:Tri-County Alliance Office\, 186 E. Center Street\, Manchester\, CT\, 06040\, United States
CATEGORIES:P&P Class
END:VEVENT
END:VCALENDAR