BEGIN:VCALENDAR
VERSION:2.0
PRODID:-//Tri-County Alliance - ECPv6.15.20//NONSGML v1.0//EN
CALSCALE:GREGORIAN
METHOD:PUBLISH
X-WR-CALNAME:Tri-County Alliance
X-ORIGINAL-URL:https://tri-countyalliance.com
X-WR-CALDESC:Events for Tri-County Alliance
REFRESH-INTERVAL;VALUE=DURATION:PT1H
X-Robots-Tag:noindex
X-PUBLISHED-TTL:PT1H
BEGIN:VTIMEZONE
TZID:UTC
BEGIN:STANDARD
TZOFFSETFROM:+0000
TZOFFSETTO:+0000
TZNAME:UTC
DTSTART:20150101T000000
END:STANDARD
END:VTIMEZONE
BEGIN:VEVENT
DTSTART;VALUE=DATE:20160101
DTEND;VALUE=DATE:20160102
DTSTAMP:20260426T032826
CREATED:20160104T120735Z
LAST-MODIFIED:20160104T120735Z
UID:819-1451606400-1451692799@tri-countyalliance.com
SUMMARY:Office Closed
DESCRIPTION:Happy New Year!!
URL:https://tri-countyalliance.com/calendar/office-closed/
CATEGORIES:Office Closings
END:VEVENT
BEGIN:VEVENT
DTSTART;TZID=UTC:20160106T090000
DTEND;TZID=UTC:20160106T100000
DTSTAMP:20260426T032826
CREATED:20160104T115451Z
LAST-MODIFIED:20160104T115451Z
UID:807-1452070800-1452074400@tri-countyalliance.com
SUMMARY:Programs Committee Meeting
DESCRIPTION:
URL:https://tri-countyalliance.com/calendar/programs-committee-meeting/
LOCATION:Tri-County Alliance Office\, 186 E. Center Street\, Manchester\, CT\, 06040\, United States
CATEGORIES:Committee Meetings
END:VEVENT
BEGIN:VEVENT
DTSTART;TZID=UTC:20160106T100000
DTEND;TZID=UTC:20160106T110000
DTSTAMP:20260426T032826
CREATED:20160104T115849Z
LAST-MODIFIED:20160104T115849Z
UID:811-1452074400-1452078000@tri-countyalliance.com
SUMMARY:Membership Committee Meeting
DESCRIPTION:
URL:https://tri-countyalliance.com/calendar/membership-committee-meeting-2/
LOCATION:Tri-County Alliance Office\, 186 E. Center Street\, Manchester\, CT\, 06040\, United States
CATEGORIES:Committee Meetings
END:VEVENT
BEGIN:VEVENT
DTSTART;TZID=UTC:20160112T090000
DTEND;TZID=UTC:20160112T100000
DTSTAMP:20260426T032826
CREATED:20160104T115632Z
LAST-MODIFIED:20160104T115751Z
UID:809-1452589200-1452592800@tri-countyalliance.com
SUMMARY:Board of Directors Meeting
DESCRIPTION:
URL:https://tri-countyalliance.com/calendar/membership-committee-meeting/
LOCATION:Tri-County Alliance Office\, 186 E. Center Street\, Manchester\, CT\, 06040\, United States
CATEGORIES:Board of Directors Meetings
END:VEVENT
BEGIN:VEVENT
DTSTART;TZID=UTC:20160113T114500
DTEND;TZID=UTC:20160113T130000
DTSTAMP:20260426T032826
CREATED:20160104T120023Z
LAST-MODIFIED:20161010T113851Z
UID:813-1452685500-1452690000@tri-countyalliance.com
SUMMARY:Lunch & Learn
DESCRIPTION:Sponsored by Gagliardi\, Doucette & Geraghty LLC \nTopic: Closing on Condominiums and other Common Interest Communities in Connecticut
URL:https://tri-countyalliance.com/calendar/lunch-learn-2/
LOCATION:Tri-County Alliance Office\, 186 E. Center Street\, Manchester\, CT\, 06040\, United States
CATEGORIES:Lunch & Learn
END:VEVENT
BEGIN:VEVENT
DTSTART;TZID=UTC:20160120T163000
DTEND;TZID=UTC:20160120T183000
DTSTAMP:20260426T032826
CREATED:20160104T120146Z
LAST-MODIFIED:20160113T230210Z
UID:815-1453307400-1453314600@tri-countyalliance.com
SUMMARY:Mixer
DESCRIPTION:at Dimitri’s Restaurant in Coventry \nSponsored by First Niagara
URL:https://tri-countyalliance.com/calendar/mixer/
LOCATION:Dimitri’s Restaurant\, 3444 Main Street\, Coventry\, 06238
CATEGORIES:Mixers
ORGANIZER;CN="Marisol Dumeng":MAILTO:www.Tri.County@sbcglobal.net
END:VEVENT
BEGIN:VEVENT
DTSTART;TZID=UTC:20160126T114500
DTEND;TZID=UTC:20160126T130000
DTSTAMP:20260426T032826
CREATED:20160104T120347Z
LAST-MODIFIED:20161010T113915Z
UID:817-1453808700-1453813200@tri-countyalliance.com
SUMMARY:Lunch & Learn
DESCRIPTION:Sponsored by Freedom Mortgage \nTopic: What the Heck to Expect in 2016! TRID\, FHA\, 203K
URL:https://tri-countyalliance.com/calendar/lunch-learn-3/
LOCATION:Tri-County Alliance Office\, 186 E. Center Street\, Manchester\, CT\, 06040\, United States
CATEGORIES:Lunch & Learn
END:VEVENT
END:VCALENDAR