BEGIN:VCALENDAR
VERSION:2.0
PRODID:-//Tri-County Alliance - ECPv6.15.20//NONSGML v1.0//EN
CALSCALE:GREGORIAN
METHOD:PUBLISH
X-ORIGINAL-URL:https://tri-countyalliance.com
X-WR-CALDESC:Events for Tri-County Alliance
REFRESH-INTERVAL;VALUE=DURATION:PT1H
X-Robots-Tag:noindex
X-PUBLISHED-TTL:PT1H
BEGIN:VTIMEZONE
TZID:UTC
BEGIN:STANDARD
TZOFFSETFROM:+0000
TZOFFSETTO:+0000
TZNAME:UTC
DTSTART:20150101T000000
END:STANDARD
END:VTIMEZONE
BEGIN:VEVENT
DTSTART;TZID=UTC:20160203T090000
DTEND;TZID=UTC:20160203T100000
DTSTAMP:20260426T021419
CREATED:20160208T132315Z
LAST-MODIFIED:20160208T132315Z
UID:940-1454490000-1454493600@tri-countyalliance.com
SUMMARY:Programs Committee Meeting
DESCRIPTION:
URL:https://tri-countyalliance.com/calendar/programs-committee-meeting-2/
LOCATION:Tri-County Alliance Office\, 186 E. Center Street\, Manchester\, CT\, 06040\, United States
CATEGORIES:Committee Meetings
END:VEVENT
BEGIN:VEVENT
DTSTART;TZID=UTC:20160203T100000
DTEND;TZID=UTC:20160203T110000
DTSTAMP:20260426T021419
CREATED:20160208T132350Z
LAST-MODIFIED:20160208T132350Z
UID:941-1454493600-1454497200@tri-countyalliance.com
SUMMARY:Membership Committee Meeting
DESCRIPTION:
URL:https://tri-countyalliance.com/calendar/membership-committee-meeting-3/
LOCATION:Tri-County Alliance Office\, 186 E. Center Street\, Manchester\, CT\, 06040\, United States
CATEGORIES:Committee Meetings
END:VEVENT
BEGIN:VEVENT
DTSTART;TZID=UTC:20160209T090000
DTEND;TZID=UTC:20160209T100000
DTSTAMP:20260426T021419
CREATED:20160104T120929Z
LAST-MODIFIED:20160208T132129Z
UID:821-1455008400-1455012000@tri-countyalliance.com
SUMMARY:Board of Directors Meeting
DESCRIPTION:
URL:https://tri-countyalliance.com/calendar/board-of-directors-meeting/
LOCATION:Tri-County Alliance Office\, 186 E. Center Street\, Manchester\, CT\, 06040\, United States
CATEGORIES:Board of Directors Meetings
END:VEVENT
BEGIN:VEVENT
DTSTART;TZID=UTC:20160217T163000
DTEND;TZID=UTC:20160217T183000
DTSTAMP:20260426T021419
CREATED:20160104T121132Z
LAST-MODIFIED:20160113T231312Z
UID:823-1455726600-1455733800@tri-countyalliance.com
SUMMARY:Mixer
DESCRIPTION:at CW’s Chops N Catch in Manchester \nSponsored by Bank of America
URL:https://tri-countyalliance.com/calendar/mixer-2/
LOCATION:Cw’s Chops N Catch\, 706 Hartford Road\, Manchester\, 06040
CATEGORIES:Mixers
ORGANIZER;CN="Marisol Dumeng":MAILTO:www.Tri.County@sbcglobal.net
END:VEVENT
BEGIN:VEVENT
DTSTART;TZID=UTC:20160217T170000
DTEND;TZID=UTC:20160217T200000
DTSTAMP:20260426T021419
CREATED:20160127T145858Z
LAST-MODIFIED:20160218T155906Z
UID:930-1455728400-1455739200@tri-countyalliance.com
SUMMARY:Continuing Education Class
DESCRIPTION:Code of Ethics – presented by Dynamic Directions\nSponsored by Primary Residential Mortgage
URL:https://tri-countyalliance.com/calendar/continuing-education-class-4/
LOCATION:Manchester Country Club\, 305 South Main Street\, Manchester\, CT\, 06040\, United States
CATEGORIES:Education
ORGANIZER;CN="Marisol Dumeng":MAILTO:www.Tri.County@sbcglobal.net
END:VEVENT
BEGIN:VEVENT
DTSTART;TZID=UTC:20160225T083000
DTEND;TZID=UTC:20160225T100000
DTSTAMP:20260426T021419
CREATED:20160104T121442Z
LAST-MODIFIED:20160127T150647Z
UID:824-1456389000-1456394400@tri-countyalliance.com
SUMMARY:Membership Breakfast Meeting
DESCRIPTION:Sponsored by Freedom Mortgage
URL:https://tri-countyalliance.com/calendar/membership-breakfast-meeting/
LOCATION:Manchester Country Club\, 305 South Main Street\, Manchester\, CT\, 06040\, United States
CATEGORIES:Membership Breakfast Meeting
ORGANIZER;CN="Marisol Dumeng":MAILTO:www.Tri.County@sbcglobal.net
END:VEVENT
BEGIN:VEVENT
DTSTART;TZID=UTC:20160225T170000
DTEND;TZID=UTC:20160225T200000
DTSTAMP:20260426T021419
CREATED:20160127T150346Z
LAST-MODIFIED:20160208T133110Z
UID:931-1456419600-1456430400@tri-countyalliance.com
SUMMARY:Continuing Education Class
DESCRIPTION:CT Real Estate Legal Review & Update – presented by Tiger RE School\nSponsored by First Niagara \n 
URL:https://tri-countyalliance.com/calendar/continuing-education-class-5/
LOCATION:Herrick Park\, 29 Hebron Road\, Bolton\, CT\, 06043\, United States
CATEGORIES:Education
END:VEVENT
BEGIN:VEVENT
DTSTART;TZID=UTC:20160229T090000
DTEND;TZID=UTC:20160229T170000
DTSTAMP:20260426T021419
CREATED:20160212T191813Z
LAST-MODIFIED:20160212T192558Z
UID:952-1456736400-1456765200@tri-countyalliance.com
SUMMARY:GRI SERIES: GRI-1 (Day 1 of 4)
DESCRIPTION:Date: Monday & Wednesday\nFebruary 29\, March 2\, 7\, 9 \nCost:\n$399 (within 14 days of course)\n$424 walk-in fee (if space available) \nFor more information and to register CLICK HERE
URL:https://tri-countyalliance.com/calendar/gri-series-gri-1/
LOCATION:Tri-County Alliance Office\, 186 E. Center Street\, Manchester\, CT\, 06040\, United States
CATEGORIES:Education
END:VEVENT
END:VCALENDAR