BEGIN:VCALENDAR
VERSION:2.0
PRODID:-//Tri-County Alliance - ECPv6.15.20//NONSGML v1.0//EN
CALSCALE:GREGORIAN
METHOD:PUBLISH
X-WR-CALNAME:Tri-County Alliance
X-ORIGINAL-URL:https://tri-countyalliance.com
X-WR-CALDESC:Events for Tri-County Alliance
REFRESH-INTERVAL;VALUE=DURATION:PT1H
X-Robots-Tag:noindex
X-PUBLISHED-TTL:PT1H
BEGIN:VTIMEZONE
TZID:UTC
BEGIN:STANDARD
TZOFFSETFROM:+0000
TZOFFSETTO:+0000
TZNAME:UTC
DTSTART:20150101T000000
END:STANDARD
END:VTIMEZONE
BEGIN:VEVENT
DTSTART;TZID=UTC:20160301T114500
DTEND;TZID=UTC:20160301T130000
DTSTAMP:20260426T003547
CREATED:20160215T131324Z
LAST-MODIFIED:20161104T155001Z
UID:960-1456832700-1456837200@tri-countyalliance.com
SUMMARY:Lunch & Learn
DESCRIPTION:
URL:https://tri-countyalliance.com/calendar/lunch-learn-4/
LOCATION:Tri-County Alliance Office\, 186 E. Center Street\, Manchester\, CT\, 06040\, United States
CATEGORIES:Lunch & Learn
END:VEVENT
BEGIN:VEVENT
DTSTART;TZID=UTC:20160302T090000
DTEND;TZID=UTC:20160302T170000
DTSTAMP:20260426T003547
CREATED:20160212T192408Z
LAST-MODIFIED:20160212T192620Z
UID:953-1456909200-1456938000@tri-countyalliance.com
SUMMARY:GRI SERIES: GRI-1  (Day 2 of 4)
DESCRIPTION:Date: Monday & Wednesday\nFebruary 29\, March 2\, 7\, 9 \nCost:\n$399 (within 14 days of course)\n$424 walk-in fee (if space available) \nFor more information and to register CLICK HERE
URL:https://tri-countyalliance.com/calendar/gri-series-gri-1-4-days-class/
LOCATION:Tri-County Alliance Office\, 186 E. Center Street\, Manchester\, CT\, 06040\, United States
CATEGORIES:Education
END:VEVENT
BEGIN:VEVENT
DTSTART;TZID=UTC:20160303T090000
DTEND;TZID=UTC:20160303T120000
DTSTAMP:20260426T003547
CREATED:20160104T122226Z
LAST-MODIFIED:20160302T144558Z
UID:828-1456995600-1457006400@tri-countyalliance.com
SUMMARY:Continuing Education Class
DESCRIPTION:CT Real Estate Legal Review and Update – presented by Dynamic Directions\nInstructor: Rhonda Lentini\nSponsored by First World Mortgage
URL:https://tri-countyalliance.com/calendar/continuing-education-class/
LOCATION:Manchester Country Club\, 305 South Main Street\, Manchester\, CT\, 06040\, United States
CATEGORIES:Education
ORGANIZER;CN="Marisol Dumeng":MAILTO:www.Tri.County@sbcglobal.net
END:VEVENT
BEGIN:VEVENT
DTSTART;TZID=UTC:20160303T130000
DTEND;TZID=UTC:20160303T160000
DTSTAMP:20260426T003547
CREATED:20160104T122052Z
LAST-MODIFIED:20160215T130516Z
UID:827-1457010000-1457020800@tri-countyalliance.com
SUMMARY:Continuing Education Class
DESCRIPTION:Mold to Sold! Fact vs. Fiction – presented by Tiger RE School\nInstructor: Bill Denslow\nSponsored by Freedom Mortgage
URL:https://tri-countyalliance.com/calendar/continuing-education-classes/
LOCATION:Manchester Country Club\, 305 South Main Street\, Manchester\, CT\, 06040\, United States
CATEGORIES:Education
ORGANIZER;CN="Marisol Dumeng":MAILTO:www.Tri.County@sbcglobal.net
END:VEVENT
BEGIN:VEVENT
DTSTART;TZID=UTC:20160307T090000
DTEND;TZID=UTC:20160307T170000
DTSTAMP:20260426T003547
CREATED:20160212T192746Z
LAST-MODIFIED:20160331T131813Z
UID:956-1457341200-1457370000@tri-countyalliance.com
SUMMARY:GRI SERIES: GRI-1  (Day 3 of 4)
DESCRIPTION:Date: Monday & Wednesday\nFebruary 29\, March 2\, 7\, 9 \nCost:\n$399 (within 14 days of course)\n$424 walk-in fee (if space available) \nFor more information and to register CLICK HERE
URL:https://tri-countyalliance.com/calendar/gri-series-gri-1-day-3-of-4/
LOCATION:Tri-County Alliance Office\, 186 E. Center Street\, Manchester\, CT\, 06040\, United States
CATEGORIES:Certification Classes
END:VEVENT
BEGIN:VEVENT
DTSTART;TZID=UTC:20160309T090000
DTEND;TZID=UTC:20160309T120000
DTSTAMP:20260426T003547
CREATED:20160104T122729Z
LAST-MODIFIED:20160215T130703Z
UID:832-1457514000-1457524800@tri-countyalliance.com
SUMMARY:Continuing Education Class
DESCRIPTION:Code of Ethics- presented by Dynamic Directions\nInstructor: Rhonda Lentini\nSponsored by United Bank
URL:https://tri-countyalliance.com/calendar/continuing-education-class-2/
LOCATION:Manchester Country Club\, 305 South Main Street\, Manchester\, CT\, 06040\, United States
CATEGORIES:Education
ORGANIZER;CN="Marisol Dumeng":MAILTO:www.Tri.County@sbcglobal.net
END:VEVENT
BEGIN:VEVENT
DTSTART;TZID=UTC:20160309T090000
DTEND;TZID=UTC:20160309T170000
DTSTAMP:20260426T003547
CREATED:20160212T192850Z
LAST-MODIFIED:20160331T131831Z
UID:957-1457514000-1457542800@tri-countyalliance.com
SUMMARY:GRI SERIES: GRI-1  (Day 4 of 4)
DESCRIPTION:Date: Monday & Wednesday\nFebruary 29\, March 2\, 7\, 9 \nCost:\n$399 (within 14 days of course)\n$424 walk-in fee (if space available) \nFor more information and to register CLICK HERE
URL:https://tri-countyalliance.com/calendar/gri-series-gri-1-day-4-of-4/
LOCATION:Tri-County Alliance Office\, 186 E. Center Street\, Manchester\, CT\, 06040\, United States
CATEGORIES:Certification Classes
END:VEVENT
BEGIN:VEVENT
DTSTART;TZID=UTC:20160309T130000
DTEND;TZID=UTC:20160309T160000
DTSTAMP:20260426T003547
CREATED:20160104T122836Z
LAST-MODIFIED:20160215T130729Z
UID:833-1457528400-1457539200@tri-countyalliance.com
SUMMARY:Continuing Education Class
DESCRIPTION:The Unconventional Transaction- presented by Dynamic Directions\nInstructor: Rhonda Lentini\nSponsored by Freedom Mortgage
URL:https://tri-countyalliance.com/calendar/continuing-education-class-3/
LOCATION:Manchester Country Club\, 305 South Main Street\, Manchester\, CT\, 06040\, United States
CATEGORIES:Education
ORGANIZER;CN="Marisol Dumeng":MAILTO:www.Tri.County@sbcglobal.net
END:VEVENT
BEGIN:VEVENT
DTSTART;TZID=UTC:20160310T163000
DTEND;TZID=UTC:20160310T183000
DTSTAMP:20260426T003547
CREATED:20160104T122926Z
LAST-MODIFIED:20160208T133306Z
UID:834-1457627400-1457634600@tri-countyalliance.com
SUMMARY:Mixer
DESCRIPTION:at Wood-N-Tap in Vernon\nSponsored by Freedom Mortgage \n 
URL:https://tri-countyalliance.com/calendar/mixer-3/
LOCATION:Wood-N-Tap\, 236 Hartford Tpke\, Vernon\, 06066
CATEGORIES:Mixers
ORGANIZER;CN="Marisol Dumeng":MAILTO:www.Tri.County@sbcglobal.net
END:VEVENT
BEGIN:VEVENT
DTSTART;TZID=UTC:20160316T090000
DTEND;TZID=UTC:20160316T100000
DTSTAMP:20260426T003547
CREATED:20160215T130909Z
LAST-MODIFIED:20160215T131046Z
UID:958-1458118800-1458122400@tri-countyalliance.com
SUMMARY:Programs Committee Meeting
DESCRIPTION:
URL:https://tri-countyalliance.com/calendar/programs-committee-meeting-3/
LOCATION:Tri-County Alliance Office\, 186 E. Center Street\, Manchester\, CT\, 06040\, United States
CATEGORIES:Committee Meetings
END:VEVENT
BEGIN:VEVENT
DTSTART;TZID=UTC:20160317T120000
DTEND;TZID=UTC:20160317T130000
DTSTAMP:20260426T003547
CREATED:20160215T130951Z
LAST-MODIFIED:20160301T162549Z
UID:959-1458216000-1458219600@tri-countyalliance.com
SUMMARY:Membership Committee Meeting
DESCRIPTION:
URL:https://tri-countyalliance.com/calendar/membership-committee-meeting-4/
LOCATION:Tri-County Alliance Office\, 186 E. Center Street\, Manchester\, CT\, 06040\, United States
CATEGORIES:Committee Meetings
END:VEVENT
BEGIN:VEVENT
DTSTART;TZID=UTC:20160322T090000
DTEND;TZID=UTC:20160322T100000
DTSTAMP:20260426T003547
CREATED:20160104T122553Z
LAST-MODIFIED:20160307T234855Z
UID:831-1458637200-1458640800@tri-countyalliance.com
SUMMARY:Board of Directors Meeting
DESCRIPTION:
URL:https://tri-countyalliance.com/calendar/board-of-directors-meeting-2/
LOCATION:Tri-County Alliance Office\, 186 E. Center Street\, Manchester\, CT\, 06040\, United States
CATEGORIES:Board of Directors Meetings
END:VEVENT
BEGIN:VEVENT
DTSTART;TZID=UTC:20160323T114500
DTEND;TZID=UTC:20160323T130000
DTSTAMP:20260426T003547
CREATED:20160215T131437Z
LAST-MODIFIED:20161010T114024Z
UID:961-1458733500-1458738000@tri-countyalliance.com
SUMMARY:Lunch & Learn
DESCRIPTION:Sponsored by First World Mortgage \nTopic: Fannie Mae’s Home Ready Program
URL:https://tri-countyalliance.com/calendar/lunch-learn-5/
LOCATION:Tri-County Alliance Office\, 186 E. Center Street\, Manchester\, CT\, 06040\, United States
CATEGORIES:Lunch & Learn
END:VEVENT
BEGIN:VEVENT
DTSTART;TZID=UTC:20160330T114500
DTEND;TZID=UTC:20160330T130000
DTSTAMP:20260426T003547
CREATED:20160215T131525Z
LAST-MODIFIED:20161010T114212Z
UID:962-1459338300-1459342800@tri-countyalliance.com
SUMMARY:Lunch & Learn
DESCRIPTION:Sponsored by Tankworks Removal & Replacement LLC \nTopic: Learn all you need to know about both underground or basement oil and gasoline tanks to ensure that your closing goes smoothly.
URL:https://tri-countyalliance.com/calendar/lunch-learn-6/
LOCATION:Tri-County Alliance Office\, 186 E. Center Street\, Manchester\, CT\, 06040\, United States
CATEGORIES:Lunch & Learn
END:VEVENT
END:VCALENDAR