BEGIN:VCALENDAR
VERSION:2.0
PRODID:-//Tri-County Alliance - ECPv6.15.20//NONSGML v1.0//EN
CALSCALE:GREGORIAN
METHOD:PUBLISH
X-WR-CALNAME:Tri-County Alliance
X-ORIGINAL-URL:https://tri-countyalliance.com
X-WR-CALDESC:Events for Tri-County Alliance
REFRESH-INTERVAL;VALUE=DURATION:PT1H
X-Robots-Tag:noindex
X-PUBLISHED-TTL:PT1H
BEGIN:VTIMEZONE
TZID:UTC
BEGIN:STANDARD
TZOFFSETFROM:+0000
TZOFFSETTO:+0000
TZNAME:UTC
DTSTART:20150101T000000
END:STANDARD
END:VTIMEZONE
BEGIN:VEVENT
DTSTART;TZID=UTC:20160407T120000
DTEND;TZID=UTC:20160407T130000
DTSTAMP:20260425T230956
CREATED:20160331T125626Z
LAST-MODIFIED:20160331T125626Z
UID:1056-1460030400-1460034000@tri-countyalliance.com
SUMMARY:Membership Committee Meeting
DESCRIPTION:
URL:https://tri-countyalliance.com/calendar/membership-committee-meeting-5/
LOCATION:Tri-County Alliance Office\, 186 E. Center Street\, Manchester\, CT\, 06040\, United States
CATEGORIES:Committee Meetings
END:VEVENT
BEGIN:VEVENT
DTSTART;TZID=UTC:20160412T090000
DTEND;TZID=UTC:20160412T100000
DTSTAMP:20260425T230956
CREATED:20160331T125809Z
LAST-MODIFIED:20160331T125809Z
UID:1057-1460451600-1460455200@tri-countyalliance.com
SUMMARY:Board of Directors Meeting
DESCRIPTION:
URL:https://tri-countyalliance.com/calendar/board-of-directors-meeting-3/
LOCATION:Tri-County Alliance Office\, 186 E. Center Street\, Manchester\, CT\, 06040\, United States
CATEGORIES:Board of Directors Meetings
END:VEVENT
BEGIN:VEVENT
DTSTART;TZID=UTC:20160413T043000
DTEND;TZID=UTC:20160413T183000
DTSTAMP:20260425T230956
CREATED:20160308T003944Z
LAST-MODIFIED:20160331T130156Z
UID:1015-1460521800-1460572200@tri-countyalliance.com
SUMMARY:Mixer
DESCRIPTION:at Tomato Joe’s & Shea’s\nSponsored by Flagstar Bank\, Farmer’s Insurance\, Jacobs\, Walker\, Rice & Barry
URL:https://tri-countyalliance.com/calendar/mixer-4/
LOCATION:Tomato Joe’s & Shea’s\, 103 Tolland Turnpike\, Manchester\, CT\, 06042\, United States
CATEGORIES:Mixers
ORGANIZER;CN="Marisol Dumeng":MAILTO:www.Tri.County@sbcglobal.net
END:VEVENT
BEGIN:VEVENT
DTSTART;TZID=UTC:20160413T114500
DTEND;TZID=UTC:20160413T130000
DTSTAMP:20260425T230956
CREATED:20160331T131715Z
LAST-MODIFIED:20161010T114350Z
UID:1061-1460547900-1460552400@tri-countyalliance.com
SUMMARY:Lunch & Learn
DESCRIPTION:Sponsored by Tavano\, McCuin & Bonanno \nTopic: Contract Dates and Deposits\, How to Keep Them\, How to Lose Them\, and other Topics of Interest
URL:https://tri-countyalliance.com/calendar/lunch-learn-7/
LOCATION:Tri-County Alliance Office\, 186 E. Center Street\, Manchester\, CT\, 06040\, United States
CATEGORIES:Lunch & Learn
ORGANIZER;CN="Marisol Dumeng":MAILTO:www.Tri.County@sbcglobal.net
END:VEVENT
BEGIN:VEVENT
DTSTART;TZID=UTC:20160418T090000
DTEND;TZID=UTC:20160418T120000
DTSTAMP:20260425T230956
CREATED:20160329T144003Z
LAST-MODIFIED:20160407T155321Z
UID:1031-1460970000-1460980800@tri-countyalliance.com
SUMMARY:Continuing Education Class
DESCRIPTION:Cultural Diversity & Real Estate Brokerage\, CLA – presented by Cape School\, Inc.\nInstructor: Alan Leibowitz\nSponsored by First Niagara \nPlease fill out the following registration form and email to Tri-County@sbcglobal.net or fax to 860-649-4343. \nCultural Diversity Registration Form
URL:https://tri-countyalliance.com/calendar/continuing-education-class-6/
LOCATION:Tri-County Alliance Office\, 186 E. Center Street\, Manchester\, CT\, 06040\, United States
CATEGORIES:Education
ORGANIZER;CN="Marisol Dumeng":MAILTO:www.Tri.County@sbcglobal.net
END:VEVENT
BEGIN:VEVENT
DTSTART;TZID=UTC:20160419T090000
DTEND;TZID=UTC:20160419T100000
DTSTAMP:20260425T230956
CREATED:20160419T151128Z
LAST-MODIFIED:20160419T151128Z
UID:1080-1461056400-1461060000@tri-countyalliance.com
SUMMARY:Programs Committee Meeting
DESCRIPTION:
URL:https://tri-countyalliance.com/calendar/programs-committee-meeting-5/
LOCATION:Tri-County Alliance Office\, 186 E. Center Street\, Manchester\, CT\, 06040\, United States
CATEGORIES:Committee Meetings
END:VEVENT
BEGIN:VEVENT
DTSTART;TZID=UTC:20160420T090000
DTEND;TZID=UTC:20160420T160000
DTSTAMP:20260425T230956
CREATED:20160104T121050Z
LAST-MODIFIED:20160419T151341Z
UID:822-1461142800-1461168000@tri-countyalliance.com
SUMMARY:New Member Orientation
DESCRIPTION:Lunch Sponsored by American Eagle
URL:https://tri-countyalliance.com/calendar/new-member-orientation/
LOCATION:Tri-County Alliance Office\, 186 E. Center Street\, Manchester\, CT\, 06040\, United States
CATEGORIES:New Member Orientation
ORGANIZER;CN="Marisol Dumeng":MAILTO:www.Tri.County@sbcglobal.net
END:VEVENT
BEGIN:VEVENT
DTSTART;TZID=UTC:20160421T050000
DTEND;TZID=UTC:20160421T190000
DTSTAMP:20260425T230956
CREATED:20160308T002729Z
LAST-MODIFIED:20160331T131237Z
UID:1014-1461214800-1461265200@tri-countyalliance.com
SUMMARY:Affiliate Night
DESCRIPTION:at A Villa Louisa \nMembers $10  Non-Members $15 \nPRE-REGISTRATION REQUIRED BY APRIL 14th Affiliate Night Registration Form \nNO SHOWS WILL BE BILLED $15  \n*We will be collecting non-perishable food items for local pantries. If you would like to donate\, please bring that evening or drop off at the Board office 186 East Center Street\, Manchester.
URL:https://tri-countyalliance.com/calendar/affiliate-night/
LOCATION:A Villa Louisa\, 60 Villa Louisa Road\, Bolton\, CT\, 06043\, United States
CATEGORIES:Affiliate Night
ORGANIZER;CN="Marisol Dumeng":MAILTO:www.Tri.County@sbcglobal.net
END:VEVENT
BEGIN:VEVENT
DTSTART;TZID=UTC:20160428T114500
DTEND;TZID=UTC:20160428T130000
DTSTAMP:20260425T230956
CREATED:20160331T132149Z
LAST-MODIFIED:20161010T114510Z
UID:1063-1461843900-1461848400@tri-countyalliance.com
SUMMARY:Lunch & Learn
DESCRIPTION:Sponsored by First Niagara \nTopic: No PMI Affordable Mortgage
URL:https://tri-countyalliance.com/calendar/lunch-learn-8/
LOCATION:Tri-County Alliance Office\, 186 E. Center Street\, Manchester\, CT\, 06040\, United States
CATEGORIES:Lunch & Learn
ORGANIZER;CN="Marisol Dumeng":MAILTO:www.Tri.County@sbcglobal.net
END:VEVENT
BEGIN:VEVENT
DTSTART;TZID=UTC:20160430T083000
DTEND;TZID=UTC:20160430T103000
DTSTAMP:20260425T230956
CREATED:20160331T133134Z
LAST-MODIFIED:20160331T133304Z
UID:1064-1462005000-1462012200@tri-countyalliance.com
SUMMARY:Rebuilding Together
DESCRIPTION:Rebuilding Together is an organization assisting those in need of general home repair and improvements. \nPlease take the time to help out a neighbor in need. Please email carolcavalieri@sbcglobal.net if you’re able to spend a couple of hours at a home (address to be determined) to clean\, or paint\, or clean the yard…..whatever is needed. \nThere is a picnic following as well.
URL:https://tri-countyalliance.com/calendar/rebuilding-together/
CATEGORIES:Community Outreach
ORGANIZER;CN="Carol Cavalieri":MAILTO:carolcavalieri@sbcglobal.net
END:VEVENT
END:VCALENDAR