BEGIN:VCALENDAR
VERSION:2.0
PRODID:-//Tri-County Alliance - ECPv6.15.20//NONSGML v1.0//EN
CALSCALE:GREGORIAN
METHOD:PUBLISH
X-ORIGINAL-URL:https://tri-countyalliance.com
X-WR-CALDESC:Events for Tri-County Alliance
REFRESH-INTERVAL;VALUE=DURATION:PT1H
X-Robots-Tag:noindex
X-PUBLISHED-TTL:PT1H
BEGIN:VTIMEZONE
TZID:UTC
BEGIN:STANDARD
TZOFFSETFROM:+0000
TZOFFSETTO:+0000
TZNAME:UTC
DTSTART:20150101T000000
END:STANDARD
END:VTIMEZONE
BEGIN:VEVENT
DTSTART;TZID=UTC:20160502T113000
DTEND;TZID=UTC:20160502T140000
DTSTAMP:20260425T205308
CREATED:20160308T000407Z
LAST-MODIFIED:20160419T150933Z
UID:1011-1462188600-1462197600@tri-countyalliance.com
SUMMARY:REALTORS at the Capitol
DESCRIPTION:The Connecticut REALTORS® presents the 32nd Annual REALTORS® at the Capitol event on: \nMonday\, May 2\, 2016 \nRegister Today!\nREALTORS® from all around Connecticut will gather together to meet with legislators to share our views on the issues that affect our business. Your participation will help show the legislators that REALTORS® are engaged in the legislative process and we vote. Having a significant size group at this event will make a difference – there is strength in numbers. \nThe Agenda: \n10:15 a.m. – Bus departs from Marlborough Parking Lot Rt 2 @ West Rd. (Exit 12) \n11:00 a.m. – Bus departs from Forest Street Parking Lot 1050 Main St. in Manchester (corner of Forest & Main St.) \n11:30 a.m. – 1:00 p.m.\nLunch provided by The Connecticut Association of REALTORS and Issues Briefing at The Bushnell in Hartford \n1:00 p.m. – 2:00 p.m.\nLegislator Meetings at the LOB/Capitol Room 1A \nHere are some of the issues currently important to our industry: \n\nConveyance taxes and/or other closing costs\nFix to the Property Condition Form\nEfforts to lower property taxes\nSprinkler and smoke detector issues\nEnergy efficiency and radon reporting mandates\n\nPlease contact Jim Heckman\, CTR’s General Counsel and Government Affairs Director with any questions. \nTri-County will be providing a bus. Please call the office for more info! \nA big THANK YOU to United Bank for providing snacks on the bus!!
URL:https://tri-countyalliance.com/calendar/realtors-at-the-capitol/
LOCATION:The Bushnell\, 166 Capitol Avene\, Hartford\, CT\, 06106\, United States
CATEGORIES:Realtors at the Capitol
ORGANIZER;CN="Marisol Dumeng":MAILTO:www.Tri.County@sbcglobal.net
END:VEVENT
BEGIN:VEVENT
DTSTART;TZID=UTC:20160510T090000
DTEND;TZID=UTC:20160510T100000
DTSTAMP:20260425T205308
CREATED:20160419T150602Z
LAST-MODIFIED:20160419T151517Z
UID:1078-1462870800-1462874400@tri-countyalliance.com
SUMMARY:Board of Directors Meeting
DESCRIPTION:
URL:https://tri-countyalliance.com/calendar/bod-meeting/
LOCATION:Tri-County Alliance Office\, 186 E. Center Street\, Manchester\, CT\, 06040\, United States
CATEGORIES:Board of Directors Meetings
ORGANIZER;CN="Marisol Dumeng":MAILTO:www.Tri.County@sbcglobal.net
END:VEVENT
BEGIN:VEVENT
DTSTART;TZID=UTC:20160512T114500
DTEND;TZID=UTC:20160512T130000
DTSTAMP:20260425T205308
CREATED:20160419T151053Z
LAST-MODIFIED:20160503T180714Z
UID:1079-1463053500-1463058000@tri-countyalliance.com
SUMMARY:Lunch & Learn
DESCRIPTION:Sponsored by Schaefer Inspection\nTopic: Codes vs. Home Inspection Recommendations
URL:https://tri-countyalliance.com/calendar/lunch-learn-9/
LOCATION:Tri-County Alliance Office\, 186 E. Center Street\, Manchester\, CT\, 06040\, United States
CATEGORIES:Lunch & Learn
ORGANIZER;CN="Marisol Dumeng":MAILTO:www.Tri.County@sbcglobal.net
END:VEVENT
BEGIN:VEVENT
DTSTART;TZID=UTC:20160518T090000
DTEND;TZID=UTC:20160518T100000
DTSTAMP:20260425T205308
CREATED:20160331T132031Z
LAST-MODIFIED:20160419T152639Z
UID:1062-1463562000-1463565600@tri-countyalliance.com
SUMMARY:Programs Committee Meeting
DESCRIPTION:
URL:https://tri-countyalliance.com/calendar/programs-committee-meeting-4/
LOCATION:Tri-County Alliance Office\, 186 E. Center Street\, Manchester\, CT\, 06040\, United States
CATEGORIES:Committee Meetings
END:VEVENT
BEGIN:VEVENT
DTSTART;TZID=UTC:20160518T100000
DTEND;TZID=UTC:20160518T110000
DTSTAMP:20260425T205308
CREATED:20160503T180845Z
LAST-MODIFIED:20160512T172153Z
UID:1107-1463565600-1463569200@tri-countyalliance.com
SUMMARY:Membership Committee Meeting
DESCRIPTION:
URL:https://tri-countyalliance.com/calendar/membership-committee-meeting-6/
LOCATION:Tri-County Alliance Office\, 186 E. Center Street\, Manchester\, CT\, 06040\, United States
CATEGORIES:Committee Meetings
ORGANIZER;CN="Marisol Dumeng":MAILTO:www.Tri.County@sbcglobal.net
END:VEVENT
BEGIN:VEVENT
DTSTART;TZID=UTC:20160519T083000
DTEND;TZID=UTC:20160519T100000
DTSTAMP:20260425T205308
CREATED:20160419T151225Z
LAST-MODIFIED:20160509T175318Z
UID:1081-1463646600-1463652000@tri-countyalliance.com
SUMMARY:Breakfast Meeting
DESCRIPTION:featuring our famous Lawyer Panel\nStephen M. Bacon\, Esp. of KAHAN\, KERENSKY & CAPOSSELA\, LLP\nDavid H. Blackwell\, Esq. of Blackwell & Spadaccini\, LLC\nGary D. Lavigne\, Esq. of Lavigne\, Mark\, Rogers & Bruggeman\, LLC \nTopic of Discussion: Update on TRID \nat A Villa Louisa\, 60 Villa Louisa Road in Bolton\nMembers $15       Non-Members $20\n\n Sponsored by First Niagara\n\n*Full Breakfast Buffet *RPAC Prizes *Member Drawing\n*Production Awards 3rd & 4th Quarter 2015 and 1st Quarter 2016\nREGISTRATION REQUIRED BY MAY 16\, 2016 – NO SHOWS WILL BE BILLED $20 \nTo register: Email to Tri.County@sbcglobal.net or fax 860-649-4343 the registration form.\nMAY 2016 Breakfast Meeting Registration Form \nIf you wish to pay online via credit card (MasterCard or Visa only) please visit: http://www.realtor.org/ecommenu.nsf/ecommenu?OpenForm&Menu.  You will need to enter your realtor.org USER NAME and PASSWORD.
URL:https://tri-countyalliance.com/calendar/breakfast-meeting/
LOCATION:A Villa Louisa\, 60 Villa Louisa Road\, Bolton\, CT\, 06043\, United States
CATEGORIES:Membership Breakfast Meeting
ORGANIZER;CN="Marisol Dumeng":MAILTO:www.Tri.County@sbcglobal.net
END:VEVENT
BEGIN:VEVENT
DTSTART;TZID=UTC:20160524T113000
DTEND;TZID=UTC:20160524T130000
DTSTAMP:20260425T205308
CREATED:20160419T151318Z
LAST-MODIFIED:20161010T115404Z
UID:1082-1464089400-1464094800@tri-countyalliance.com
SUMMARY:Lunch & Learn
DESCRIPTION:Sponsored by Precision Mortgage – Cancelled\, To be Rescheduled
URL:https://tri-countyalliance.com/calendar/lunch-learn-10/
LOCATION:Tri-County Alliance Office\, 186 E. Center Street\, Manchester\, CT\, 06040\, United States
CATEGORIES:Lunch & Learn
ORGANIZER;CN="Marisol Dumeng":MAILTO:www.Tri.County@sbcglobal.net
END:VEVENT
BEGIN:VEVENT
DTSTART;TZID=UTC:20160525T090000
DTEND;TZID=UTC:20160525T100000
DTSTAMP:20260425T205308
CREATED:20160523T174149Z
LAST-MODIFIED:20160523T174149Z
UID:1275-1464166800-1464170400@tri-countyalliance.com
SUMMARY:Programs Committee Meeting
DESCRIPTION:
URL:https://tri-countyalliance.com/calendar/programs-committee-meeting-7/
LOCATION:Tri-County Alliance Office\, 186 E. Center Street\, Manchester\, CT\, 06040\, United States
CATEGORIES:Committee Meetings
END:VEVENT
BEGIN:VEVENT
DTSTART;TZID=UTC:20160526T163000
DTEND;TZID=UTC:20160526T183000
DTSTAMP:20260425T205308
CREATED:20160419T151957Z
LAST-MODIFIED:20160623T195617Z
UID:1083-1464280200-1464287400@tri-countyalliance.com
SUMMARY:Mixer
DESCRIPTION:at Rooftop 120 in Glastonbury\nSponsored by Tiger Home & Building Inspection
URL:https://tri-countyalliance.com/calendar/mixer-5/
LOCATION:Rooftop 120\, 120 Hebron Avenue\, Glastonbury\, 06033\, United States
CATEGORIES:Mixers
ORGANIZER;CN="Marisol Dumeng":MAILTO:www.Tri.County@sbcglobal.net
END:VEVENT
BEGIN:VEVENT
DTSTART;VALUE=DATE:20160530
DTEND;VALUE=DATE:20160531
DTSTAMP:20260425T205308
CREATED:20160419T152155Z
LAST-MODIFIED:20160623T195659Z
UID:1085-1464566400-1464652799@tri-countyalliance.com
SUMMARY:Office Closed
DESCRIPTION:Happy Memorial Day!!
URL:https://tri-countyalliance.com/calendar/office-closed-2/
CATEGORIES:Office Closings
END:VEVENT
END:VCALENDAR