BEGIN:VCALENDAR
VERSION:2.0
PRODID:-//Tri-County Alliance - ECPv6.15.20//NONSGML v1.0//EN
CALSCALE:GREGORIAN
METHOD:PUBLISH
X-WR-CALNAME:Tri-County Alliance
X-ORIGINAL-URL:https://tri-countyalliance.com
X-WR-CALDESC:Events for Tri-County Alliance
REFRESH-INTERVAL;VALUE=DURATION:PT1H
X-Robots-Tag:noindex
X-PUBLISHED-TTL:PT1H
BEGIN:VTIMEZONE
TZID:UTC
BEGIN:STANDARD
TZOFFSETFROM:+0000
TZOFFSETTO:+0000
TZNAME:UTC
DTSTART:20150101T000000
END:STANDARD
END:VTIMEZONE
BEGIN:VEVENT
DTSTART;VALUE=DATE:20160704
DTEND;VALUE=DATE:20160705
DTSTAMP:20260425T181555
CREATED:20160623T193633Z
LAST-MODIFIED:20160623T193708Z
UID:1323-1467590400-1467676799@tri-countyalliance.com
SUMMARY:Office Closed
DESCRIPTION:Happy 4th of July!!
URL:https://tri-countyalliance.com/calendar/office-closed-3/
CATEGORIES:Office Closings
END:VEVENT
BEGIN:VEVENT
DTSTART;TZID=UTC:20160707T090000
DTEND;TZID=UTC:20160707T100000
DTSTAMP:20260425T181555
CREATED:20160623T193838Z
LAST-MODIFIED:20160623T193838Z
UID:1324-1467882000-1467885600@tri-countyalliance.com
SUMMARY:Budget Committee Meeting
DESCRIPTION:
URL:https://tri-countyalliance.com/calendar/budget-committee-meeting/
LOCATION:Tri-County Alliance Office\, 186 E. Center Street\, Manchester\, CT\, 06040\, United States
CATEGORIES:Committee Meetings
END:VEVENT
BEGIN:VEVENT
DTSTART;TZID=UTC:20160721T163000
DTEND;TZID=UTC:20160721T183000
DTSTAMP:20260425T181555
CREATED:20160623T194258Z
LAST-MODIFIED:20160623T195240Z
UID:1327-1469118600-1469125800@tri-countyalliance.com
SUMMARY:Mixer
DESCRIPTION:at The Mill on the River in South Windsor\nAppetizers Sponsored by Freedom Mortgage
URL:https://tri-countyalliance.com/calendar/mixer-7/
LOCATION:The Mill on the River\, 989 Ellington Road\, South Windsor\, CT\, 06074\, United States
CATEGORIES:Mixers
ORGANIZER;CN="Marisol Dumeng":MAILTO:www.Tri.County@sbcglobal.net
END:VEVENT
END:VCALENDAR