BEGIN:VCALENDAR
VERSION:2.0
PRODID:-//Tri-County Alliance - ECPv6.15.20//NONSGML v1.0//EN
CALSCALE:GREGORIAN
METHOD:PUBLISH
X-ORIGINAL-URL:https://tri-countyalliance.com
X-WR-CALDESC:Events for Tri-County Alliance
REFRESH-INTERVAL;VALUE=DURATION:PT1H
X-Robots-Tag:noindex
X-PUBLISHED-TTL:PT1H
BEGIN:VTIMEZONE
TZID:UTC
BEGIN:STANDARD
TZOFFSETFROM:+0000
TZOFFSETTO:+0000
TZNAME:UTC
DTSTART:20150101T000000
END:STANDARD
END:VTIMEZONE
BEGIN:VEVENT
DTSTART;VALUE=DATE:20160905
DTEND;VALUE=DATE:20160906
DTSTAMP:20260425T153011
CREATED:20160623T195952Z
LAST-MODIFIED:20160623T195952Z
UID:1335-1473033600-1473119999@tri-countyalliance.com
SUMMARY:Office Closed
DESCRIPTION:Happy Labor Day!!
URL:https://tri-countyalliance.com/calendar/office-closed-4/
CATEGORIES:Office Closings
END:VEVENT
BEGIN:VEVENT
DTSTART;TZID=UTC:20160907T090000
DTEND;TZID=UTC:20160907T100000
DTSTAMP:20260425T153011
CREATED:20160818T161648Z
LAST-MODIFIED:20170327T120313Z
UID:1489-1473238800-1473242400@tri-countyalliance.com
SUMMARY:Membership Committee Meeting
DESCRIPTION:
URL:https://tri-countyalliance.com/calendar/membership-committee-meeting-10/
LOCATION:Tri-County Alliance Office\, 186 E. Center Street\, Manchester\, CT\, 06040\, United States
CATEGORIES:Committee Meetings
END:VEVENT
BEGIN:VEVENT
DTSTART;TZID=UTC:20160913T090000
DTEND;TZID=UTC:20160913T100000
DTSTAMP:20260425T153011
CREATED:20160623T200057Z
LAST-MODIFIED:20160623T200057Z
UID:1336-1473757200-1473760800@tri-countyalliance.com
SUMMARY:Board of Directors Meeting
DESCRIPTION:
URL:https://tri-countyalliance.com/calendar/board-of-directors-meeting-6/
LOCATION:Tri-County Alliance Office\, 186 E. Center Street\, Manchester\, CT\, 06040\, United States
CATEGORIES:Board of Directors Meetings
END:VEVENT
BEGIN:VEVENT
DTSTART;TZID=UTC:20160913T100000
DTEND;TZID=UTC:20160913T130000
DTSTAMP:20260425T153011
CREATED:20160623T200236Z
LAST-MODIFIED:20160623T200236Z
UID:1337-1473760800-1473771600@tri-countyalliance.com
SUMMARY:RPAC Phone-A-Thon
DESCRIPTION:
URL:https://tri-countyalliance.com/calendar/rpac-phone-a-thon/
LOCATION:Tri-County Alliance Office\, 186 E. Center Street\, Manchester\, CT\, 06040\, United States
CATEGORIES:RPAC Phone-A-Thon
ORGANIZER;CN="Marisol Dumeng":MAILTO:www.Tri.County@sbcglobal.net
END:VEVENT
BEGIN:VEVENT
DTSTART;TZID=UTC:20160914T114500
DTEND;TZID=UTC:20160914T130000
DTSTAMP:20260425T153011
CREATED:20160623T200409Z
LAST-MODIFIED:20161010T120013Z
UID:1338-1473853500-1473858000@tri-countyalliance.com
SUMMARY:Lunch & Learn
DESCRIPTION:Sponsored by Jeffrey T. Walsh & Associates PC \nTopic: Roof Mounted Solar Panels Generate Many Purchase/Sale Questions\, and Some Electricity. Are there any real answers? Come join the discussion.
URL:https://tri-countyalliance.com/calendar/lunch-learn-14/
LOCATION:Tri-County Alliance Office\, 186 E. Center Street\, Manchester\, CT\, 06040\, United States
CATEGORIES:Lunch & Learn
ORGANIZER;CN="Marisol Dumeng":MAILTO:www.Tri.County@sbcglobal.net
END:VEVENT
BEGIN:VEVENT
DTSTART;TZID=UTC:20160920T083000
DTEND;TZID=UTC:20160920T100000
DTSTAMP:20260425T153011
CREATED:20160623T200537Z
LAST-MODIFIED:20160912T155909Z
UID:1339-1474360200-1474365600@tri-countyalliance.com
SUMMARY:Membership Breakfast Meeting
DESCRIPTION:Featured Speaker\,\nErin Kemple\, Executive Director with CT Fair Housing \n*Full Breakfast Buffet *2017 Slate of Officers Vote *RPAC Prizes\n*Member Drawing *Production Awards – 2nd Qtr. 2016 \nMembers $15\nNon-Members $20 \nREGISTRATION REQUIRED BY SEPTEMBER 13\, 2016\nNO SHOWS WILL BE BILLED \nTo register online sign onto your realtor.org account and click on Pay Dues then click on eMall. To register via email click on the registration from below and email to Tri.County@sbcglobal.net. To register via phone call 860-646-2450. \nFALL BREAKFAST MEETING REGISTRATION FORM 9-20-16 \nCOMMUNITY OUTREACH PROJECT – INTERVAL HOUSE\nBring a $10 or more gift card (for any goods anywhere) to donate to Interval House Domestic Violence Shelter and receive a $5 off coupon to our February\, 2017 Breakfast Meeting (one coupon per person) \nTo learn more about Interval House visit www.intervalhousect.org \n  \n 
URL:https://tri-countyalliance.com/calendar/membership-breakfast-meeting-2/
LOCATION:Manchester Country Club\, 305 South Main Street\, Manchester\, CT\, 06040\, United States
CATEGORIES:Membership Breakfast Meeting
ORGANIZER;CN="Marisol Dumeng":MAILTO:www.Tri.County@sbcglobal.net
END:VEVENT
BEGIN:VEVENT
DTSTART;TZID=UTC:20160921T100000
DTEND;TZID=UTC:20160921T110000
DTSTAMP:20260425T153011
CREATED:20160623T200616Z
LAST-MODIFIED:20160815T134804Z
UID:1340-1474452000-1474455600@tri-countyalliance.com
SUMMARY:Programs Committee Meeting
DESCRIPTION:
URL:https://tri-countyalliance.com/calendar/programs-committee-meeting-9/
LOCATION:Tri-County Alliance Office\, 186 E. Center Street\, Manchester\, CT\, 06040\, United States
CATEGORIES:Committee Meetings
END:VEVENT
BEGIN:VEVENT
DTSTART;TZID=UTC:20160922T163000
DTEND;TZID=UTC:20160922T183000
DTSTAMP:20260425T153011
CREATED:20160623T200905Z
LAST-MODIFIED:20160623T201108Z
UID:1341-1474561800-1474569000@tri-countyalliance.com
SUMMARY:Mixer
DESCRIPTION:at Beni’s Restaurant in Vernon\nAppetizers Sponsored by Precision Mortgage
URL:https://tri-countyalliance.com/calendar/mixer-9/
LOCATION:Beni’s Restaurant\, 1280 Hartford Turnpike\, Vernon\, CT\, 06066\, United States
CATEGORIES:Mixers
ORGANIZER;CN="Marisol Dumeng":MAILTO:www.Tri.County@sbcglobal.net
END:VEVENT
BEGIN:VEVENT
DTSTART;VALUE=DATE:20160927
DTEND;VALUE=DATE:20160929
DTSTAMP:20260425T153011
CREATED:20160722T131152Z
LAST-MODIFIED:20170105T122321Z
UID:1381-1474934400-1475107199@tri-countyalliance.com
SUMMARY:New England REALTORS Conference
DESCRIPTION:NERC2016\n\nABOUT THE PROGRAM\nJoin us in Newport\, Rhode Island for the 2016 New England REALTORS® Committee Conference at the award-winning Hotel Viking. Attendees will be part of lively discussions with housing market experts like Jonathan Smoke\, Chief Economist of Move Inc.\, Nobu Hata\, Director of Member Engagement for the National Association of REALTORS® (NAR) and Elizabeth Mendenhall\, 2016 NAR First Vice President. Network with REALTOR® leaders at the International Tennis Hall of Fame Cocktail Reception following the presentations on Day One and end your stay in Newport with an Elms Mansion tour or Amazing Grace harbor cruise. \nJam-packed with informative presentations and fun-filled networking events\, NERC Conference 2016 promises to be an event you won’t want to miss! \nVIEW FULL PROGRAM \n\nClick Here for more information
URL:https://tri-countyalliance.com/calendar/new-england-realtors-committee-conference/
LOCATION:Hotel Viking\, 1 Bellevue Avenue\, Newport\, RI\, 02840\, United States
CATEGORIES:NERC Conference
END:VEVENT
BEGIN:VEVENT
DTSTART;TZID=UTC:20160929T114500
DTEND;TZID=UTC:20160929T130000
DTSTAMP:20260425T153011
CREATED:20160623T201220Z
LAST-MODIFIED:20160928T175429Z
UID:1343-1475149500-1475154000@tri-countyalliance.com
SUMMARY:Lunch & Learn - Rescheduled - NEW DATE TBD
DESCRIPTION:Sponsored by Village Mortgage \n 
URL:https://tri-countyalliance.com/calendar/lunch-learn-15/
LOCATION:Tri-County Alliance Office\, 186 E. Center Street\, Manchester\, CT\, 06040\, United States
CATEGORIES:Lunch & Learn
ORGANIZER;CN="Marisol Dumeng":MAILTO:www.Tri.County@sbcglobal.net
END:VEVENT
END:VCALENDAR