BEGIN:VCALENDAR
VERSION:2.0
PRODID:-//Tri-County Alliance - ECPv6.15.20//NONSGML v1.0//EN
CALSCALE:GREGORIAN
METHOD:PUBLISH
X-WR-CALNAME:Tri-County Alliance
X-ORIGINAL-URL:https://tri-countyalliance.com
X-WR-CALDESC:Events for Tri-County Alliance
REFRESH-INTERVAL;VALUE=DURATION:PT1H
X-Robots-Tag:noindex
X-PUBLISHED-TTL:PT1H
BEGIN:VTIMEZONE
TZID:UTC
BEGIN:STANDARD
TZOFFSETFROM:+0000
TZOFFSETTO:+0000
TZNAME:UTC
DTSTART:20150101T000000
END:STANDARD
END:VTIMEZONE
BEGIN:VEVENT
DTSTART;TZID=UTC:20161011T090000
DTEND;TZID=UTC:20161011T100000
DTSTAMP:20260425T135012
CREATED:20160623T201352Z
LAST-MODIFIED:20160623T201352Z
UID:1344-1476176400-1476180000@tri-countyalliance.com
SUMMARY:Board of Directors Meeting
DESCRIPTION:
URL:https://tri-countyalliance.com/calendar/board-of-directors-meeting-7/
LOCATION:Tri-County Alliance Office\, 186 E. Center Street\, Manchester\, CT\, 06040\, United States
CATEGORIES:Board of Directors Meetings
END:VEVENT
BEGIN:VEVENT
DTSTART;TZID=UTC:20161012T100000
DTEND;TZID=UTC:20161012T110000
DTSTAMP:20260425T135012
CREATED:20161010T112619Z
LAST-MODIFIED:20161107T140234Z
UID:1512-1476266400-1476270000@tri-countyalliance.com
SUMMARY:Membership Committee Meeting
DESCRIPTION:
URL:https://tri-countyalliance.com/calendar/membership-committee-meeting-11/
LOCATION:Tri-County Alliance Office\, 186 E. Center Street\, Manchester\, CT\, 06040\, United States
CATEGORIES:Committee Meetings
END:VEVENT
BEGIN:VEVENT
DTSTART;TZID=UTC:20161013T114500
DTEND;TZID=UTC:20161013T130000
DTSTAMP:20260425T135012
CREATED:20160623T201530Z
LAST-MODIFIED:20161010T113039Z
UID:1345-1476359100-1476363600@tri-countyalliance.com
SUMMARY:Lunch & Learn
DESCRIPTION:Sponsored by First World Mortgage \nProfessional photography helps you sell homes faster\, and closer to full-asking price. But many real estate agents can’t justify the going rate of $100 to $150 for professional photography for each listing. That’s why First World Mortgage Corporation created\, Listing Pro! Their new program provides you with professional real estate photography\, and a custom listing flyer\, for only $30. Come by for a brief presentation to learn more about the program\, what to expect\, and how to place an order!
URL:https://tri-countyalliance.com/calendar/lunch-learn-16/
LOCATION:Tri-County Alliance Office\, 186 E. Center Street\, Manchester\, CT\, 06040\, United States
CATEGORIES:Lunch & Learn
ORGANIZER;CN="Marisol Dumeng":MAILTO:www.Tri.County@sbcglobal.net
END:VEVENT
BEGIN:VEVENT
DTSTART;TZID=UTC:20161018T090000
DTEND;TZID=UTC:20161018T160000
DTSTAMP:20260425T135012
CREATED:20160623T201626Z
LAST-MODIFIED:20160623T201626Z
UID:1346-1476781200-1476806400@tri-countyalliance.com
SUMMARY:New Member Orientation
DESCRIPTION:Lunch Sponsored by First World Mortgage
URL:https://tri-countyalliance.com/calendar/new-member-orientation-3/
LOCATION:Tri-County Alliance Office\, 186 E. Center Street\, Manchester\, CT\, 06040\, United States
CATEGORIES:New Member Orientation
ORGANIZER;CN="Marisol Dumeng":MAILTO:www.Tri.County@sbcglobal.net
END:VEVENT
BEGIN:VEVENT
DTSTART;TZID=UTC:20161019T100000
DTEND;TZID=UTC:20161019T110000
DTSTAMP:20260425T135012
CREATED:20160623T201715Z
LAST-MODIFIED:20160815T134744Z
UID:1347-1476871200-1476874800@tri-countyalliance.com
SUMMARY:Programs Committee Meeting
DESCRIPTION:
URL:https://tri-countyalliance.com/calendar/programs-committee-meeting-10/
LOCATION:Tri-County Alliance Office\, 186 E. Center Street\, Manchester\, CT\, 06040\, United States
CATEGORIES:Committee Meetings
END:VEVENT
BEGIN:VEVENT
DTSTART;TZID=UTC:20161025T120000
DTEND;TZID=UTC:20161025T130000
DTSTAMP:20260425T135012
CREATED:20160726T184123Z
LAST-MODIFIED:20161019T112726Z
UID:1387-1477396800-1477400400@tri-countyalliance.com
SUMMARY:Lunch & Learn
DESCRIPTION:Topic: Learn the advantage of a Credit PreApproved Mortgage vs. a PreQual \nSponsored by Key Bank \nTo register please email tri.county@sbcglobal.net \nor call the office at 860-646-2450
URL:https://tri-countyalliance.com/calendar/lunch-learn-19/
LOCATION:Watkins Building – Level H Cafe\, 935 Main Street\, Manchester\, 06040
CATEGORIES:Lunch & Learn
ORGANIZER;CN="Marisol Dumeng":MAILTO:www.Tri.County@sbcglobal.net
END:VEVENT
BEGIN:VEVENT
DTSTART;TZID=UTC:20161026T163000
DTEND;TZID=UTC:20161026T183000
DTSTAMP:20260425T135012
CREATED:20160623T202037Z
LAST-MODIFIED:20161012T150956Z
UID:1348-1477499400-1477506600@tri-countyalliance.com
SUMMARY:Mixer
DESCRIPTION:at The Bidwell Tavern in Coventry\nAppetizers Sponsored by Key Bank
URL:https://tri-countyalliance.com/calendar/mixer-10/
LOCATION:The Bidwell Tavern & Cafe\, 1260 Main Street\, Coventry\, CT\, 06238\, United States
CATEGORIES:Mixers
ORGANIZER;CN="Marisol Dumeng":MAILTO:www.Tri.County@sbcglobal.net
END:VEVENT
END:VCALENDAR