BEGIN:VCALENDAR
VERSION:2.0
PRODID:-//Tri-County Alliance - ECPv6.15.20//NONSGML v1.0//EN
CALSCALE:GREGORIAN
METHOD:PUBLISH
X-WR-CALNAME:Tri-County Alliance
X-ORIGINAL-URL:https://tri-countyalliance.com
X-WR-CALDESC:Events for Tri-County Alliance
REFRESH-INTERVAL;VALUE=DURATION:PT1H
X-Robots-Tag:noindex
X-PUBLISHED-TTL:PT1H
BEGIN:VTIMEZONE
TZID:UTC
BEGIN:STANDARD
TZOFFSETFROM:+0000
TZOFFSETTO:+0000
TZNAME:UTC
DTSTART:20150101T000000
END:STANDARD
END:VTIMEZONE
BEGIN:VEVENT
DTSTART;TZID=UTC:20161207T100000
DTEND;TZID=UTC:20161207T110000
DTSTAMP:20260425T102955
CREATED:20160623T202749Z
LAST-MODIFIED:20160815T134659Z
UID:1356-1481104800-1481108400@tri-countyalliance.com
SUMMARY:Programs Committee Meeting
DESCRIPTION:
URL:https://tri-countyalliance.com/calendar/programs-committee-meeting-12/
CATEGORIES:Committee Meetings
END:VEVENT
BEGIN:VEVENT
DTSTART;TZID=UTC:20161209T180000
DTEND;TZID=UTC:20161209T220000
DTSTAMP:20260425T102955
CREATED:20160623T202853Z
LAST-MODIFIED:20161122T180150Z
UID:1357-1481306400-1481320800@tri-countyalliance.com
SUMMARY:Holiday Party at A Villa Louisa in Bolton
DESCRIPTION:  \n  \n  \n  \n  \n  \nClick Here to purchase your ticket online. \nClick Here for a printable invite. \nClick Here for a printable order form.
URL:https://tri-countyalliance.com/calendar/holiday-party/
LOCATION:A Villa Louisa\, 60 Villa Louisa Road\, Bolton\, CT\, 06043\, United States
CATEGORIES:Holiday Party
ORGANIZER;CN="Marisol Dumeng":MAILTO:www.Tri.County@sbcglobal.net
END:VEVENT
BEGIN:VEVENT
DTSTART;TZID=UTC:20161213T090000
DTEND;TZID=UTC:20161213T100000
DTSTAMP:20260425T102955
CREATED:20160623T202937Z
LAST-MODIFIED:20160623T202937Z
UID:1358-1481619600-1481623200@tri-countyalliance.com
SUMMARY:Board of Directors Meeting
DESCRIPTION:
URL:https://tri-countyalliance.com/calendar/board-of-directors-meeting-9/
LOCATION:Tri-County Alliance Office\, 186 E. Center Street\, Manchester\, CT\, 06040\, United States
CATEGORIES:Board of Directors Meetings
END:VEVENT
BEGIN:VEVENT
DTSTART;TZID=UTC:20161214T114500
DTEND;TZID=UTC:20161214T130000
DTSTAMP:20260425T102955
CREATED:20161107T140208Z
LAST-MODIFIED:20161107T140208Z
UID:1550-1481715900-1481720400@tri-countyalliance.com
SUMMARY:Lunch & Learn
DESCRIPTION:Sponsored by Freedom Mortgage
URL:https://tri-countyalliance.com/calendar/lunch-learn-20/
LOCATION:Tri-County Alliance Office\, 186 E. Center Street\, Manchester\, CT\, 06040\, United States
CATEGORIES:Lunch & Learn
ORGANIZER;CN="Marisol Dumeng":MAILTO:www.Tri.County@sbcglobal.net
END:VEVENT
BEGIN:VEVENT
DTSTART;VALUE=DATE:20161223
DTEND;VALUE=DATE:20161227
DTSTAMP:20260425T102955
CREATED:20160623T203018Z
LAST-MODIFIED:20161107T140431Z
UID:1359-1482451200-1482796799@tri-countyalliance.com
SUMMARY:Office Closed
DESCRIPTION:Happy Holidays!!
URL:https://tri-countyalliance.com/calendar/office-closed-6/
CATEGORIES:Office Closings
END:VEVENT
END:VCALENDAR