BEGIN:VCALENDAR
VERSION:2.0
PRODID:-//Tri-County Alliance - ECPv6.15.20//NONSGML v1.0//EN
CALSCALE:GREGORIAN
METHOD:PUBLISH
X-ORIGINAL-URL:https://tri-countyalliance.com
X-WR-CALDESC:Events for Tri-County Alliance
REFRESH-INTERVAL;VALUE=DURATION:PT1H
X-Robots-Tag:noindex
X-PUBLISHED-TTL:PT1H
BEGIN:VTIMEZONE
TZID:UTC
BEGIN:STANDARD
TZOFFSETFROM:+0000
TZOFFSETTO:+0000
TZNAME:UTC
DTSTART:20160101T000000
END:STANDARD
END:VTIMEZONE
BEGIN:VEVENT
DTSTART;TZID=UTC:20170502T090000
DTEND;TZID=UTC:20170502T100000
DTSTAMP:20260425T032203
CREATED:20170105T170047Z
LAST-MODIFIED:20170105T170047Z
UID:1682-1493715600-1493719200@tri-countyalliance.com
SUMMARY:Board of Directors Meeting
DESCRIPTION:
URL:https://tri-countyalliance.com/calendar/board-of-directors-meeting-14/
LOCATION:Tri-County Alliance Office\, 186 E. Center Street\, Manchester\, CT\, 06040\, United States
CATEGORIES:Board of Directors Meetings
ORGANIZER;CN="Marisol Dumeng":MAILTO:www.Tri.County@sbcglobal.net
END:VEVENT
BEGIN:VEVENT
DTSTART;TZID=UTC:20170504T104500
DTEND;TZID=UTC:20170504T114500
DTSTAMP:20260425T032203
CREATED:20170503T140033Z
LAST-MODIFIED:20170503T140033Z
UID:1901-1493894700-1493898300@tri-countyalliance.com
SUMMARY:RPAC Fundraising and Political Committee Meeting
DESCRIPTION:
URL:https://tri-countyalliance.com/calendar/rpac-fundraising-and-political-committee-meeting-3/
LOCATION:Tri-County Alliance Office\, 186 E. Center Street\, Manchester\, CT\, 06040\, United States
CATEGORIES:Committee Meetings
END:VEVENT
BEGIN:VEVENT
DTSTART;TZID=UTC:20170504T114500
DTEND;TZID=UTC:20170504T130000
DTSTAMP:20260425T032203
CREATED:20170105T152142Z
LAST-MODIFIED:20170525T121027Z
UID:1639-1493898300-1493902800@tri-countyalliance.com
SUMMARY:Lunch & Learn
DESCRIPTION:Topic: Real Estate Apps\nSponsored by Freedom Mortgage
URL:https://tri-countyalliance.com/calendar/lunch-learn-29/
LOCATION:Tri-County Alliance Office\, 186 E. Center Street\, Manchester\, CT\, 06040\, United States
CATEGORIES:Lunch & Learn
ORGANIZER;CN="Marisol Dumeng":MAILTO:www.Tri.County@sbcglobal.net
END:VEVENT
BEGIN:VEVENT
DTSTART;VALUE=DATE:20170509
DTEND;VALUE=DATE:20170510
DTSTAMP:20260425T032203
CREATED:20170105T144514Z
LAST-MODIFIED:20170411T200814Z
UID:1624-1494288000-1494374399@tri-countyalliance.com
SUMMARY:REALTORS at the Capitol
DESCRIPTION:Support the American Dream of Home Ownership. \nAttend the rally on May 9\, 2017 as we make a big statement to our lawmakers and encourage them to give us a Connecticut to sell! \nYou do not want to miss this historic event! Buses will be provided. Please call the board office if you will be joining us on the bus. \nClick here to register today
URL:https://tri-countyalliance.com/calendar/realtors-at-the-capitol-2/
CATEGORIES:Realtors at the Capitol
ORGANIZER;CN="Marisol Dumeng":MAILTO:www.Tri.County@sbcglobal.net
END:VEVENT
BEGIN:VEVENT
DTSTART;VALUE=DATE:20170515
DTEND;VALUE=DATE:20170521
DTSTAMP:20260425T032203
CREATED:20170105T171417Z
LAST-MODIFIED:20170105T171417Z
UID:1685-1494806400-1495324799@tri-countyalliance.com
SUMMARY:NAR REALTOR Party Convention
DESCRIPTION:Washington\, DC\nVisit: NAR REALTORS Party Convention
URL:https://tri-countyalliance.com/calendar/nar-realtor-party-convention/
CATEGORIES:NAR REALTOR Party Convention
END:VEVENT
BEGIN:VEVENT
DTSTART;TZID=UTC:20170516T103000
DTEND;TZID=UTC:20170516T113000
DTSTAMP:20260425T032203
CREATED:20170424T135549Z
LAST-MODIFIED:20170424T135549Z
UID:1894-1494930600-1494934200@tri-countyalliance.com
SUMMARY:Education Committee Meeting
DESCRIPTION:
URL:https://tri-countyalliance.com/calendar/education-committee-meeting-5/
LOCATION:Tri-County Alliance Office\, 186 E. Center Street\, Manchester\, CT\, 06040\, United States
CATEGORIES:Committee Meetings
ORGANIZER;CN="Marisol Dumeng":MAILTO:www.Tri.County@sbcglobal.net
END:VEVENT
BEGIN:VEVENT
DTSTART;TZID=UTC:20170517T100000
DTEND;TZID=UTC:20170517T110000
DTSTAMP:20260425T032203
CREATED:20170105T170142Z
LAST-MODIFIED:20170105T170142Z
UID:1683-1495015200-1495018800@tri-countyalliance.com
SUMMARY:Programs Committee Meeting
DESCRIPTION:
URL:https://tri-countyalliance.com/calendar/programs-committee-meeting-16/
LOCATION:Tri-County Alliance Office\, 186 E. Center Street\, Manchester\, CT\, 06040\, United States
CATEGORIES:Committee Meetings
ORGANIZER;CN="Marisol Dumeng":MAILTO:www.Tri.County@sbcglobal.net
END:VEVENT
BEGIN:VEVENT
DTSTART;TZID=UTC:20170517T163000
DTEND;TZID=UTC:20170517T183000
DTSTAMP:20260425T032203
CREATED:20170105T155450Z
LAST-MODIFIED:20170424T135624Z
UID:1660-1495038600-1495045800@tri-countyalliance.com
SUMMARY:Mixer
DESCRIPTION:Sponsored by McCue Mortgage
URL:https://tri-countyalliance.com/calendar/mixer-16/
LOCATION:Rooftop 120\, 120 Hebron Avenue\, Glastonbury\, 06033\, United States
CATEGORIES:Mixers
ORGANIZER;CN="Marisol Dumeng":MAILTO:www.Tri.County@sbcglobal.net
END:VEVENT
BEGIN:VEVENT
DTSTART;VALUE=DATE:20170518
DTEND;VALUE=DATE:20170519
DTSTAMP:20260425T032203
CREATED:20170503T140142Z
LAST-MODIFIED:20170503T140142Z
UID:1902-1495065600-1495151999@tri-countyalliance.com
SUMMARY:Office Closed
DESCRIPTION:
URL:https://tri-countyalliance.com/calendar/office-closed-16/
CATEGORIES:Office Closings
END:VEVENT
BEGIN:VEVENT
DTSTART;TZID=UTC:20170523T083000
DTEND;TZID=UTC:20170523T100000
DTSTAMP:20260425T032203
CREATED:20170105T145954Z
LAST-MODIFIED:20170511T194241Z
UID:1627-1495528200-1495533600@tri-countyalliance.com
SUMMARY:Membership Breakfast Meeting
DESCRIPTION:  \n  \n  \n  \n  \n  \n  \n  \n  \n  \n  \n  \n  \n  \n  \n  \n  \n  \nTo register online and pay via credit card (MasterCard or Visa Only)\, sign onto your realtor.org account and click on pay dues\, eMall\, and events. To register via email click on the registration form below and email to Tri.County@sbcglobal.net or fax to 860-649-4343. To register by phone call 860-646-2450. \nMAY 2017 BREAKFAST MEETING REGISTRATION FORM
URL:https://tri-countyalliance.com/calendar/membership-breakfast-meeting-4/
LOCATION:Manchester Country Club\, 305 South Main Street\, Manchester\, CT\, 06040\, United States
CATEGORIES:Membership Breakfast Meeting
ORGANIZER;CN="Marisol Dumeng":MAILTO:www.Tri.County@sbcglobal.net
END:VEVENT
BEGIN:VEVENT
DTSTART;TZID=UTC:20170525T114500
DTEND;TZID=UTC:20170525T130000
DTSTAMP:20260425T032203
CREATED:20170105T152244Z
LAST-MODIFIED:20170525T115136Z
UID:1640-1495712700-1495717200@tri-countyalliance.com
SUMMARY:Lunch & Learn
DESCRIPTION:Topic: Understanding Credit in Today’s Market\nSponsored by Cheney Mortgage
URL:https://tri-countyalliance.com/calendar/lunch-learn-30/
LOCATION:Tri-County Alliance Office\, 186 E. Center Street\, Manchester\, CT\, 06040\, United States
CATEGORIES:Lunch & Learn
ORGANIZER;CN="Marisol Dumeng":MAILTO:www.Tri.County@sbcglobal.net
END:VEVENT
BEGIN:VEVENT
DTSTART;VALUE=DATE:20170529
DTEND;VALUE=DATE:20170530
DTSTAMP:20260425T032203
CREATED:20170105T170220Z
LAST-MODIFIED:20170105T170220Z
UID:1684-1496016000-1496102399@tri-countyalliance.com
SUMMARY:Office Closed
DESCRIPTION:
URL:https://tri-countyalliance.com/calendar/office-closed-8/
CATEGORIES:Office Closings
END:VEVENT
BEGIN:VEVENT
DTSTART;TZID=UTC:20170531T093000
DTEND;TZID=UTC:20170531T103000
DTSTAMP:20260425T032203
CREATED:20170525T115023Z
LAST-MODIFIED:20170525T115023Z
UID:1935-1496223000-1496226600@tri-countyalliance.com
SUMMARY:Membership Committee Meeting
DESCRIPTION:
URL:https://tri-countyalliance.com/calendar/membership-committee-meeting-17/
LOCATION:Tri-County Alliance Office\, 186 E. Center Street\, Manchester\, CT\, 06040\, United States
CATEGORIES:Committee Meetings
ORGANIZER;CN="Steve Ferrigno":MAILTO:steven@ferrignorealtors.com
END:VEVENT
END:VCALENDAR