BEGIN:VCALENDAR
VERSION:2.0
PRODID:-//Tri-County Alliance - ECPv6.15.20//NONSGML v1.0//EN
CALSCALE:GREGORIAN
METHOD:PUBLISH
X-ORIGINAL-URL:https://tri-countyalliance.com
X-WR-CALDESC:Events for Tri-County Alliance
REFRESH-INTERVAL;VALUE=DURATION:PT1H
X-Robots-Tag:noindex
X-PUBLISHED-TTL:PT1H
BEGIN:VTIMEZONE
TZID:UTC
BEGIN:STANDARD
TZOFFSETFROM:+0000
TZOFFSETTO:+0000
TZNAME:UTC
DTSTART:20160101T000000
END:STANDARD
END:VTIMEZONE
BEGIN:VEVENT
DTSTART;VALUE=DATE:20170704
DTEND;VALUE=DATE:20170705
DTSTAMP:20260425T000206
CREATED:20170105T172023Z
LAST-MODIFIED:20170105T172023Z
UID:1689-1499126400-1499212799@tri-countyalliance.com
SUMMARY:Office Closed
DESCRIPTION:
URL:https://tri-countyalliance.com/calendar/office-closed-9/
CATEGORIES:Office Closings
END:VEVENT
BEGIN:VEVENT
DTSTART;TZID=UTC:20170706T114500
DTEND;TZID=UTC:20170706T130000
DTSTAMP:20260425T000206
CREATED:20170123T174913Z
LAST-MODIFIED:20170627T191339Z
UID:1740-1499341500-1499346000@tri-countyalliance.com
SUMMARY:Lunch & Learn
DESCRIPTION:Topic: Home Safety and Preventative Maintenance\nSponsored by Schaefer Inspections
URL:https://tri-countyalliance.com/calendar/lunch-learn-46/
LOCATION:Tri-County Alliance Office\, 186 E. Center Street\, Manchester\, CT\, 06040\, United States
CATEGORIES:Lunch & Learn
ORGANIZER;CN="Marisol Dumeng":MAILTO:www.Tri.County@sbcglobal.net
END:VEVENT
BEGIN:VEVENT
DTSTART;TZID=UTC:20170718T090000
DTEND;TZID=UTC:20170718T100000
DTSTAMP:20260425T000206
CREATED:20170627T190739Z
LAST-MODIFIED:20170711T155005Z
UID:1965-1500368400-1500372000@tri-countyalliance.com
SUMMARY:Education Committee Meeting
DESCRIPTION:
URL:https://tri-countyalliance.com/calendar/education-committee-meeting-7/
LOCATION:Tri-County Alliance Office\, 186 E. Center Street\, Manchester\, CT\, 06040\, United States
CATEGORIES:Committee Meetings
ORGANIZER;CN="Carol Cavalieri":MAILTO:carolcavalieri@sbcglobal.net
END:VEVENT
BEGIN:VEVENT
DTSTART;TZID=UTC:20170718T114500
DTEND;TZID=UTC:20170718T130000
DTSTAMP:20260425T000206
CREATED:20170105T152758Z
LAST-MODIFIED:20170717T165348Z
UID:1644-1500378300-1500382800@tri-countyalliance.com
SUMMARY:Lunch & Learn-Cancelled
DESCRIPTION:CANCELLED-Stay tuned for new date \nTopic: Builder Best Extended Rate Lock Program\nSponsored by Wells Fargo
URL:https://tri-countyalliance.com/calendar/lunch-learn-34/
LOCATION:Tri-County Alliance Office\, 186 E. Center Street\, Manchester\, CT\, 06040\, United States
CATEGORIES:Lunch & Learn
ORGANIZER;CN="Marisol Dumeng":MAILTO:www.Tri.County@sbcglobal.net
END:VEVENT
BEGIN:VEVENT
DTSTART;TZID=UTC:20170719T100000
DTEND;TZID=UTC:20170719T110000
DTSTAMP:20260425T000206
CREATED:20170105T172137Z
LAST-MODIFIED:20170105T172137Z
UID:1690-1500458400-1500462000@tri-countyalliance.com
SUMMARY:Programs Committee Meeting
DESCRIPTION:
URL:https://tri-countyalliance.com/calendar/programs-committee-meeting-18/
LOCATION:Tri-County Alliance Office\, 186 E. Center Street\, Manchester\, CT\, 06040\, United States
CATEGORIES:Committee Meetings
ORGANIZER;CN="Marisol Dumeng":MAILTO:www.Tri.County@sbcglobal.net
END:VEVENT
BEGIN:VEVENT
DTSTART;TZID=UTC:20170719T143000
DTEND;TZID=UTC:20170719T160000
DTSTAMP:20260425T000206
CREATED:20170627T191031Z
LAST-MODIFIED:20170627T191031Z
UID:1966-1500474600-1500480000@tri-countyalliance.com
SUMMARY:Matrix 7.0 Update Training
DESCRIPTION:
URL:https://tri-countyalliance.com/calendar/matrix-7-0-update-training/
LOCATION:Hilton Garden Inn\, 85 Glastonbury Blvd.\, Glastonbury\, CT\, 06033\, United States
CATEGORIES:Education
END:VEVENT
BEGIN:VEVENT
DTSTART;TZID=UTC:20170719T163000
DTEND;TZID=UTC:20170719T183000
DTSTAMP:20260425T000206
CREATED:20170627T190611Z
LAST-MODIFIED:20170717T165155Z
UID:1963-1500481800-1500489000@tri-countyalliance.com
SUMMARY:Mixer
DESCRIPTION:Appetizers Sponsored by Farmers Insurance-Peter Gallasso Agency
URL:https://tri-countyalliance.com/calendar/mixer-18/
LOCATION:Artisanal Burger Company\, 1436 Pleasant Valley Road\, Manchester\, CT\, 06042\, United States
ORGANIZER;CN="Marisol Dumeng":MAILTO:www.Tri.County@sbcglobal.net
END:VEVENT
BEGIN:VEVENT
DTSTART;TZID=UTC:20170727T093000
DTEND;TZID=UTC:20170727T103000
DTSTAMP:20260425T000206
CREATED:20170717T165609Z
LAST-MODIFIED:20170717T165609Z
UID:1990-1501147800-1501151400@tri-countyalliance.com
SUMMARY:Membership Committee Meeting
DESCRIPTION:
URL:https://tri-countyalliance.com/calendar/membership-committee-meeting-19/
LOCATION:Tri-County Alliance Office\, 186 E. Center Street\, Manchester\, CT\, 06040\, United States
CATEGORIES:Committee Meetings
ORGANIZER;CN="Steve Ferrigno":MAILTO:steven@ferrignorealtors.com
END:VEVENT
BEGIN:VEVENT
DTSTART;VALUE=DATE:20170731
DTEND;VALUE=DATE:20170802
DTSTAMP:20260425T000206
CREATED:20170717T165810Z
LAST-MODIFIED:20170717T165848Z
UID:1991-1501459200-1501631999@tri-countyalliance.com
SUMMARY:Office Closed
DESCRIPTION:Office Closed-Attending an offsite meeting
URL:https://tri-countyalliance.com/calendar/office-closed-17/
CATEGORIES:Office Closings
ORGANIZER;CN="Marisol Dumeng":MAILTO:www.Tri.County@sbcglobal.net
END:VEVENT
END:VCALENDAR