BEGIN:VCALENDAR
VERSION:2.0
PRODID:-//Tri-County Alliance - ECPv6.15.20//NONSGML v1.0//EN
CALSCALE:GREGORIAN
METHOD:PUBLISH
X-ORIGINAL-URL:https://tri-countyalliance.com
X-WR-CALDESC:Events for Tri-County Alliance
REFRESH-INTERVAL;VALUE=DURATION:PT1H
X-Robots-Tag:noindex
X-PUBLISHED-TTL:PT1H
BEGIN:VTIMEZONE
TZID:UTC
BEGIN:STANDARD
TZOFFSETFROM:+0000
TZOFFSETTO:+0000
TZNAME:UTC
DTSTART:20160101T000000
END:STANDARD
END:VTIMEZONE
BEGIN:VEVENT
DTSTART;VALUE=DATE:20170731
DTEND;VALUE=DATE:20170802
DTSTAMP:20260424T222524
CREATED:20170717T165810Z
LAST-MODIFIED:20170717T165848Z
UID:1991-1501459200-1501631999@tri-countyalliance.com
SUMMARY:Office Closed
DESCRIPTION:Office Closed-Attending an offsite meeting
URL:https://tri-countyalliance.com/calendar/office-closed-17/
CATEGORIES:Office Closings
ORGANIZER;CN="Marisol Dumeng":MAILTO:www.Tri.County@sbcglobal.net
END:VEVENT
BEGIN:VEVENT
DTSTART;TZID=UTC:20170808T090000
DTEND;TZID=UTC:20170808T100000
DTSTAMP:20260424T222524
CREATED:20170105T173017Z
LAST-MODIFIED:20170105T173017Z
UID:1693-1502182800-1502186400@tri-countyalliance.com
SUMMARY:Board of Directors Meeting
DESCRIPTION:
URL:https://tri-countyalliance.com/calendar/board-of-directors-meeting-16/
LOCATION:Tri-County Alliance Office\, 186 E. Center Street\, Manchester\, CT\, 06040\, United States
CATEGORIES:Board of Directors Meetings
ORGANIZER;CN="Marisol Dumeng":MAILTO:www.Tri.County@sbcglobal.net
END:VEVENT
BEGIN:VEVENT
DTSTART;TZID=UTC:20170808T103000
DTEND;TZID=UTC:20170808T113000
DTSTAMP:20260424T222524
CREATED:20170718T152257Z
LAST-MODIFIED:20170718T152257Z
UID:1994-1502188200-1502191800@tri-countyalliance.com
SUMMARY:Nominating Committee Meeting
DESCRIPTION:
URL:https://tri-countyalliance.com/calendar/nominating-committee-meeting-2/
LOCATION:Tri-County Alliance Office\, 186 E. Center Street\, Manchester\, CT\, 06040\, United States
CATEGORIES:Committee Meetings
ORGANIZER;CN="Marisol Dumeng":MAILTO:www.Tri.County@sbcglobal.net
END:VEVENT
BEGIN:VEVENT
DTSTART;TZID=UTC:20170811T093000
DTEND;TZID=UTC:20170811T103000
DTSTAMP:20260424T222524
CREATED:20170718T152046Z
LAST-MODIFIED:20170811T113222Z
UID:1993-1502443800-1502447400@tri-countyalliance.com
SUMMARY:Education Committee Meeting
DESCRIPTION:
URL:https://tri-countyalliance.com/calendar/education-committee-meeting-8/
LOCATION:Tri-County Alliance Office\, 186 E. Center Street\, Manchester\, CT\, 06040\, United States
CATEGORIES:Committee Meetings
ORGANIZER;CN="Carol Cavalieri":MAILTO:carolcavalieri@sbcglobal.net
END:VEVENT
BEGIN:VEVENT
DTSTART;VALUE=DATE:20170814
DTEND;VALUE=DATE:20170816
DTSTAMP:20260424T222524
CREATED:20170105T172916Z
LAST-MODIFIED:20170717T170059Z
UID:1692-1502668800-1502841599@tri-countyalliance.com
SUMMARY:Office Closed-NAR Leadership Summit
DESCRIPTION:Office Closed attending Leardership Summit in Chicago\, IL\nVisit: NAR Leadership Summit
URL:https://tri-countyalliance.com/calendar/nar-leadership-summit/
CATEGORIES:NAR Leadership Summit
END:VEVENT
BEGIN:VEVENT
DTSTART;TZID=UTC:20170816T100000
DTEND;TZID=UTC:20170816T110000
DTSTAMP:20260424T222524
CREATED:20170105T173104Z
LAST-MODIFIED:20170105T173104Z
UID:1694-1502877600-1502881200@tri-countyalliance.com
SUMMARY:Programs Committee Meeting
DESCRIPTION:
URL:https://tri-countyalliance.com/calendar/programs-committee-meeting-19/
LOCATION:Tri-County Alliance Office\, 186 E. Center Street\, Manchester\, CT\, 06040\, United States
CATEGORIES:Committee Meetings
ORGANIZER;CN="Marisol Dumeng":MAILTO:www.Tri.County@sbcglobal.net
END:VEVENT
BEGIN:VEVENT
DTSTART;TZID=UTC:20170816T170000
DTEND;TZID=UTC:20170816T190000
DTSTAMP:20260424T222524
CREATED:20170811T113840Z
LAST-MODIFIED:20170811T113840Z
UID:2011-1502902800-1502910000@tri-countyalliance.com
SUMMARY:Manchester Commercial Tour
DESCRIPTION:Manchester Empty Commercial Buildings Tour \nFollowed by Ice Cream Social Sponsored by Freedom Mortgage
URL:https://tri-countyalliance.com/calendar/manchester-commercial-tour/
LOCATION:Purnell Place Parking Lot\, 39 Purnell Place\, Manchester\, CT\, 06040\, United States
CATEGORIES:Community Outreach
ORGANIZER;CN="Marisol Dumeng":MAILTO:www.Tri.County@sbcglobal.net
END:VEVENT
BEGIN:VEVENT
DTSTART;TZID=UTC:20170817T163000
DTEND;TZID=UTC:20170817T183000
DTSTAMP:20260424T222524
CREATED:20170105T160422Z
LAST-MODIFIED:20170124T174005Z
UID:1663-1502987400-1502994600@tri-countyalliance.com
SUMMARY:Mixer
DESCRIPTION:Appetizers Sponsored by Freedom Mortgage
URL:https://tri-countyalliance.com/calendar/mixer-19/
LOCATION:The Market Grille\, 110 Buckland Hills Drive\, Manchester\, CT\, 06042\, United States
CATEGORIES:Mixers
ORGANIZER;CN="Marisol Dumeng":MAILTO:www.Tri.County@sbcglobal.net
END:VEVENT
BEGIN:VEVENT
DTSTART;VALUE=DATE:20170821
DTEND;VALUE=DATE:20170824
DTSTAMP:20260424T222524
CREATED:20170811T114153Z
LAST-MODIFIED:20170811T114237Z
UID:2013-1503273600-1503532799@tri-countyalliance.com
SUMMARY:Office Closed
DESCRIPTION:Office Closed – AE Vacation
URL:https://tri-countyalliance.com/calendar/office-closed-18/
END:VEVENT
BEGIN:VEVENT
DTSTART;TZID=UTC:20170824T114500
DTEND;TZID=UTC:20170824T130000
DTSTAMP:20260424T222524
CREATED:20170105T152953Z
LAST-MODIFIED:20170823T155532Z
UID:1646-1503575100-1503579600@tri-countyalliance.com
SUMMARY:CANCELLED-Lunch & Learn
DESCRIPTION:CANCELLED- To be rescheduled \nTopic: Safety First\nSponsored by First World Mortgage
URL:https://tri-countyalliance.com/calendar/lunch-learn-36/
LOCATION:Tri-County Alliance Office\, 186 E. Center Street\, Manchester\, CT\, 06040\, United States
CATEGORIES:Lunch & Learn
ORGANIZER;CN="Marisol Dumeng":MAILTO:www.Tri.County@sbcglobal.net
END:VEVENT
END:VCALENDAR