BEGIN:VCALENDAR
VERSION:2.0
PRODID:-//Tri-County Alliance - ECPv6.15.20//NONSGML v1.0//EN
CALSCALE:GREGORIAN
METHOD:PUBLISH
X-ORIGINAL-URL:https://tri-countyalliance.com
X-WR-CALDESC:Events for Tri-County Alliance
REFRESH-INTERVAL;VALUE=DURATION:PT1H
X-Robots-Tag:noindex
X-PUBLISHED-TTL:PT1H
BEGIN:VTIMEZONE
TZID:UTC
BEGIN:STANDARD
TZOFFSETFROM:+0000
TZOFFSETTO:+0000
TZNAME:UTC
DTSTART:20160101T000000
END:STANDARD
END:VTIMEZONE
BEGIN:VEVENT
DTSTART;TZID=UTC:20171002T170000
DTEND;TZID=UTC:20171002T200000
DTSTAMP:20260424T191743
CREATED:20170926T104704Z
LAST-MODIFIED:20170928T153608Z
UID:2079-1506963600-1506974400@tri-countyalliance.com
SUMMARY:CE Classes
DESCRIPTION:Elective: Code of Ethics: Our Promise of Professionalism \nInstructor: Micki Gebhardt \nSponsored by \n \n  \n  \n  \n  \n  \nCLICK HERE FOR REGISTRATION FORM
URL:https://tri-countyalliance.com/calendar/ce-classes/
LOCATION:Manchester Country Club\, 305 South Main Street\, Manchester\, CT\, 06040\, United States
CATEGORIES:CE Classes
ORGANIZER;CN="Marisol Dumeng":MAILTO:www.Tri.County@sbcglobal.net
END:VEVENT
BEGIN:VEVENT
DTSTART;TZID=UTC:20171010T090000
DTEND;TZID=UTC:20171010T100000
DTSTAMP:20260424T191743
CREATED:20170105T174906Z
LAST-MODIFIED:20170105T174906Z
UID:1699-1507626000-1507629600@tri-countyalliance.com
SUMMARY:Board of Directors Meeting
DESCRIPTION:
URL:https://tri-countyalliance.com/calendar/board-of-directors-meeting-18/
LOCATION:Tri-County Alliance Office\, 186 E. Center Street\, Manchester\, CT\, 06040\, United States
CATEGORIES:Board of Directors Meetings
ORGANIZER;CN="Marisol Dumeng":MAILTO:www.Tri.County@sbcglobal.net
END:VEVENT
BEGIN:VEVENT
DTSTART;TZID=UTC:20171010T114500
DTEND;TZID=UTC:20171010T130000
DTSTAMP:20260424T191743
CREATED:20170105T153307Z
LAST-MODIFIED:20171030T200155Z
UID:1649-1507635900-1507640400@tri-countyalliance.com
SUMMARY:Lunch & Learn
DESCRIPTION:Topic: Home Staging 101\nSponsored by Infinite Home Design
URL:https://tri-countyalliance.com/calendar/lunch-learn-39/
LOCATION:Tri-County Alliance Office\, 186 E. Center Street\, Manchester\, CT\, 06040\, United States
CATEGORIES:Lunch & Learn
ORGANIZER;CN="Marisol Dumeng":MAILTO:www.Tri.County@sbcglobal.net
END:VEVENT
BEGIN:VEVENT
DTSTART;VALUE=DATE:20171011
DTEND;VALUE=DATE:20171012
DTSTAMP:20260424T191743
CREATED:20171010T230109Z
LAST-MODIFIED:20171010T230235Z
UID:2103-1507680000-1507766399@tri-countyalliance.com
SUMMARY:CE Classes
DESCRIPTION:Time: 9am – Noon \nElective: Code of Ethics: Our Promise of Professionalism \nInstructor: Micki Gebhardt \nSponsored by \n \n  \n  \n  \n  \n  \nTime: 1pm-4pm \nElective: CT Real Estate Law Update \nInstructor: Alan Leibowitz \nSponsored by \n \n  \n  \n  \nCLICK HERE FOR REGISTRATION FORM
URL:https://tri-countyalliance.com/calendar/ce-classes-2/
LOCATION:Manchester Country Club\, 305 South Main Street\, Manchester\, CT\, 06040\, United States
ORGANIZER;CN="Marisol Dumeng":MAILTO:www.Tri.County@sbcglobal.net
END:VEVENT
BEGIN:VEVENT
DTSTART;TZID=UTC:20171012T140000
DTEND;TZID=UTC:20171012T150000
DTSTAMP:20260424T191743
CREATED:20171107T212558Z
LAST-MODIFIED:20171107T212558Z
UID:2138-1507816800-1507820400@tri-countyalliance.com
SUMMARY:Education Committee Meeting
DESCRIPTION:
URL:https://tri-countyalliance.com/calendar/education-committee-meeting-12/
LOCATION:Tri-County Alliance Office\, 186 E. Center Street\, Manchester\, CT\, 06040\, United States
CATEGORIES:Committee Meetings
ORGANIZER;CN="Carol Cavalieri":MAILTO:carolcavalieri@sbcglobal.net
END:VEVENT
BEGIN:VEVENT
DTSTART;TZID=UTC:20171017T090000
DTEND;TZID=UTC:20171017T160000
DTSTAMP:20260424T191743
CREATED:20171107T213520Z
LAST-MODIFIED:20171107T213520Z
UID:2140-1508230800-1508256000@tri-countyalliance.com
SUMMARY:CE Classes
DESCRIPTION:Time: 9am – Noon \nElective: Fair Housing \nInstructor: Elizabeth Doll \nSponsored by \n \n  \n  \nTime: 1pm-4pm \nElective:  Smart Energy Solutions \nInstructor:  Bill Rourke \nSponsored by \n \n  \n  \n  \nCLICK HERE FOR REGISTRATION FORM
URL:https://tri-countyalliance.com/calendar/ce-classes-3/
LOCATION:Manchester Country Club\, 305 South Main Street\, Manchester\, CT\, 06040\, United States
ORGANIZER;CN="Marisol Dumeng":MAILTO:www.Tri.County@sbcglobal.net
END:VEVENT
BEGIN:VEVENT
DTSTART;TZID=UTC:20171018T093000
DTEND;TZID=UTC:20171018T100000
DTSTAMP:20260424T191743
CREATED:20170926T103917Z
LAST-MODIFIED:20171107T212334Z
UID:2076-1508319000-1508320800@tri-countyalliance.com
SUMMARY:Outreach Committee Meeting
DESCRIPTION:Meeting Cancelled
URL:https://tri-countyalliance.com/calendar/outreach-committee-meeting/
LOCATION:Tri-County Alliance Office\, 186 E. Center Street\, Manchester\, CT\, 06040\, United States
CATEGORIES:Committee Meetings
ORGANIZER;CN="Marisol Dumeng":MAILTO:www.Tri.County@sbcglobal.net
END:VEVENT
BEGIN:VEVENT
DTSTART;TZID=UTC:20171018T100000
DTEND;TZID=UTC:20171018T110000
DTSTAMP:20260424T191743
CREATED:20170105T175046Z
LAST-MODIFIED:20171107T212237Z
UID:1700-1508320800-1508324400@tri-countyalliance.com
SUMMARY:Programs Committee Meeting
DESCRIPTION:Meeting Cancelled
URL:https://tri-countyalliance.com/calendar/programs-committee-meeting-21/
LOCATION:Tri-County Alliance Office\, 186 E. Center Street\, Manchester\, CT\, 06040\, United States
CATEGORIES:Committee Meetings
ORGANIZER;CN="Marisol Dumeng":MAILTO:www.Tri.County@sbcglobal.net
END:VEVENT
BEGIN:VEVENT
DTSTART;TZID=UTC:20171019T090000
DTEND;TZID=UTC:20171019T100000
DTSTAMP:20260424T191743
CREATED:20171107T212501Z
LAST-MODIFIED:20171107T212619Z
UID:2137-1508403600-1508407200@tri-countyalliance.com
SUMMARY:Education Committee Meeting
DESCRIPTION:Meeting Cancelled
URL:https://tri-countyalliance.com/calendar/education-committee-meeting-11/
LOCATION:Tri-County Alliance Office\, 186 E. Center Street\, Manchester\, CT\, 06040\, United States
CATEGORIES:Committee Meetings
ORGANIZER;CN="Carol Cavalieri":MAILTO:carolcavalieri@sbcglobal.net
END:VEVENT
BEGIN:VEVENT
DTSTART;TZID=UTC:20171019T163000
DTEND;TZID=UTC:20171019T183000
DTSTAMP:20260424T191743
CREATED:20170105T161103Z
LAST-MODIFIED:20170124T173914Z
UID:1665-1508430600-1508437800@tri-countyalliance.com
SUMMARY:Mixer
DESCRIPTION:Appetizers Sponsored by KeyBank
URL:https://tri-countyalliance.com/calendar/mixer-21/
LOCATION:Lake View Restaurant\, 50 Lake Street\, Coventry\, CT\, 06238\, United States
CATEGORIES:Mixers
ORGANIZER;CN="Marisol Dumeng":MAILTO:www.Tri.County@sbcglobal.net
END:VEVENT
BEGIN:VEVENT
DTSTART;TZID=UTC:20171024T090000
DTEND;TZID=UTC:20171024T160000
DTSTAMP:20260424T191743
CREATED:20170105T150751Z
LAST-MODIFIED:20170105T150751Z
UID:1631-1508835600-1508860800@tri-countyalliance.com
SUMMARY:New Member Orientation
DESCRIPTION:Sponsored by Freedom Mortgage
URL:https://tri-countyalliance.com/calendar/new-member-orientation-6/
LOCATION:Tri-County Alliance Office\, 186 E. Center Street\, Manchester\, CT\, 06040\, United States
CATEGORIES:New Member Orientation
ORGANIZER;CN="Marisol Dumeng":MAILTO:www.Tri.County@sbcglobal.net
END:VEVENT
BEGIN:VEVENT
DTSTART;TZID=UTC:20171026T170000
DTEND;TZID=UTC:20171026T200000
DTSTAMP:20260424T191743
CREATED:20171107T213921Z
LAST-MODIFIED:20171107T213921Z
UID:2143-1509037200-1509048000@tri-countyalliance.com
SUMMARY:CE Classes
DESCRIPTION:Time: 5pm-8pm \nElective:  Fair Housing \nInstructor:  Elizabeth Doll \nSponsored by \n \n  \n  \n  \nCLICK HERE FOR REGISTRATION FORM
URL:https://tri-countyalliance.com/calendar/ce-classes-4/
LOCATION:Manchester Country Club\, 305 South Main Street\, Manchester\, CT\, 06040\, United States
ORGANIZER;CN="Marisol Dumeng":MAILTO:www.Tri.County@sbcglobal.net
END:VEVENT
BEGIN:VEVENT
DTSTART;TZID=UTC:20171030T090000
DTEND;TZID=UTC:20171030T163000
DTSTAMP:20260424T191743
CREATED:20170926T104225Z
LAST-MODIFIED:20170926T104225Z
UID:2078-1509354000-1509381000@tri-countyalliance.com
SUMMARY:Image 1 Studios Photographic Services
DESCRIPTION:
URL:https://tri-countyalliance.com/calendar/image-1-studios-photographic-services/
LOCATION:Tri-County Alliance Office\, 186 E. Center Street\, Manchester\, CT\, 06040\, United States
ORGANIZER;CN="Marisol Dumeng":MAILTO:www.Tri.County@sbcglobal.net
END:VEVENT
END:VCALENDAR