BEGIN:VCALENDAR
VERSION:2.0
PRODID:-//Tri-County Alliance - ECPv6.15.20//NONSGML v1.0//EN
CALSCALE:GREGORIAN
METHOD:PUBLISH
X-ORIGINAL-URL:https://tri-countyalliance.com
X-WR-CALDESC:Events for Tri-County Alliance
REFRESH-INTERVAL;VALUE=DURATION:PT1H
X-Robots-Tag:noindex
X-PUBLISHED-TTL:PT1H
BEGIN:VTIMEZONE
TZID:UTC
BEGIN:STANDARD
TZOFFSETFROM:+0000
TZOFFSETTO:+0000
TZNAME:UTC
DTSTART:20160101T000000
END:STANDARD
END:VTIMEZONE
BEGIN:VEVENT
DTSTART;VALUE=DATE:20171201
DTEND;VALUE=DATE:20171202
DTSTAMP:20260424T160721
CREATED:20171129T154003Z
LAST-MODIFIED:20171129T163120Z
UID:2182-1512086400-1512172799@tri-countyalliance.com
SUMMARY:It's Dues Renewal Time
DESCRIPTION:Click Here for Instructions for Online Payment
URL:https://tri-countyalliance.com/calendar/2018-dues-invoice/
ORGANIZER;CN="Marisol Dumeng":MAILTO:www.Tri.County@sbcglobal.net
END:VEVENT
BEGIN:VEVENT
DTSTART;TZID=UTC:20171205T093000
DTEND;TZID=UTC:20171205T103000
DTSTAMP:20260424T160721
CREATED:20171128T203636Z
LAST-MODIFIED:20171128T203636Z
UID:2181-1512466200-1512469800@tri-countyalliance.com
SUMMARY:Communications and Social Media Committee
DESCRIPTION:
URL:https://tri-countyalliance.com/calendar/communications-and-social-media-committee/
LOCATION:Tri-County Alliance Office\, 186 E. Center Street\, Manchester\, CT\, 06040\, United States
ORGANIZER;CN="Marisol Dumeng":MAILTO:www.Tri.County@sbcglobal.net
END:VEVENT
BEGIN:VEVENT
DTSTART;TZID=UTC:20171206T093000
DTEND;TZID=UTC:20171206T103000
DTSTAMP:20260424T160721
CREATED:20171128T203509Z
LAST-MODIFIED:20171128T203509Z
UID:2180-1512552600-1512556200@tri-countyalliance.com
SUMMARY:Membership Committee Meeting
DESCRIPTION:
URL:https://tri-countyalliance.com/calendar/membership-committee-meeting-21/
LOCATION:Tri-County Alliance Office\, 186 E. Center Street\, Manchester\, CT\, 06040\, United States
CATEGORIES:Committee Meetings
ORGANIZER;CN="Steve Ferrigno":MAILTO:steven@ferrignorealtors.com
END:VEVENT
BEGIN:VEVENT
DTSTART;TZID=UTC:20171207T090000
DTEND;TZID=UTC:20171207T100000
DTSTAMP:20260424T160721
CREATED:20171128T203338Z
LAST-MODIFIED:20171128T203338Z
UID:2179-1512637200-1512640800@tri-countyalliance.com
SUMMARY:Education Committee Meeting
DESCRIPTION:
URL:https://tri-countyalliance.com/calendar/education-committee-meeting-13/
LOCATION:Tri-County Alliance Office\, 186 E. Center Street\, Manchester\, CT\, 06040\, United States
CATEGORIES:Committee Meetings
ORGANIZER;CN="Carol Cavalieri":MAILTO:carolcavalieri@sbcglobal.net
END:VEVENT
BEGIN:VEVENT
DTSTART;TZID=UTC:20171212T090000
DTEND;TZID=UTC:20171212T100000
DTSTAMP:20260424T160721
CREATED:20170105T180406Z
LAST-MODIFIED:20170105T180406Z
UID:1705-1513069200-1513072800@tri-countyalliance.com
SUMMARY:Board of Directors Meeting
DESCRIPTION:
URL:https://tri-countyalliance.com/calendar/board-of-directors-meeting-20/
LOCATION:Tri-County Alliance Office\, 186 E. Center Street\, Manchester\, CT\, 06040\, United States
CATEGORIES:Board of Directors Meetings
ORGANIZER;CN="Marisol Dumeng":MAILTO:www.Tri.County@sbcglobal.net
END:VEVENT
BEGIN:VEVENT
DTSTART;TZID=UTC:20171212T103000
DTEND;TZID=UTC:20171212T113000
DTSTAMP:20260424T160721
CREATED:20170105T180504Z
LAST-MODIFIED:20171128T203747Z
UID:1706-1513074600-1513078200@tri-countyalliance.com
SUMMARY:Programs Committee Meeting
DESCRIPTION:
URL:https://tri-countyalliance.com/calendar/programs-committee-meeting-23/
LOCATION:Tri-County Alliance Office\, 186 E. Center Street\, Manchester\, CT\, 06040\, United States
CATEGORIES:Committee Meetings
ORGANIZER;CN="Marisol Dumeng":MAILTO:www.Tri.County@sbcglobal.net
END:VEVENT
BEGIN:VEVENT
DTSTART;TZID=UTC:20171213T114500
DTEND;TZID=UTC:20171213T130000
DTSTAMP:20260424T160721
CREATED:20170111T173758Z
LAST-MODIFIED:20171213T133227Z
UID:1715-1513165500-1513170000@tri-countyalliance.com
SUMMARY:POSTPONED-Lunch & Learn
DESCRIPTION:Stay tuned\, new date to be determined…\nSponsored by American Eagle Financial Credit Union
URL:https://tri-countyalliance.com/calendar/lunch-learn-45/
LOCATION:Tri-County Alliance Office\, 186 E. Center Street\, Manchester\, CT\, 06040\, United States
CATEGORIES:Lunch & Learn
ORGANIZER;CN="Marisol Dumeng":MAILTO:www.Tri.County@sbcglobal.net
END:VEVENT
BEGIN:VEVENT
DTSTART;TZID=UTC:20171215T180000
DTEND;TZID=UTC:20171215T220000
DTSTAMP:20260424T160721
CREATED:20171113T214903Z
LAST-MODIFIED:20171113T214903Z
UID:2161-1513360800-1513375200@tri-countyalliance.com
SUMMARY:2017 Holiday Party
DESCRIPTION:  \n  \n  \n  \n  \n  \n  \n  \n  \n  \n  \n  \n  \n  \n  \n  \n  \n  \n  \n  \n  \n  \n  \n  \n  \n  \nCLICK HERE FOR PRINTABLE RSVP FORM
URL:https://tri-countyalliance.com/calendar/2017-holiday-party/
LOCATION:A Villa Louisa\, 60 Villa Louisa Road\, Bolton\, CT\, 06043\, United States
CATEGORIES:Holiday Party
ORGANIZER;CN="Marisol Dumeng":MAILTO:www.Tri.County@sbcglobal.net
END:VEVENT
BEGIN:VEVENT
DTSTART;VALUE=DATE:20171225
DTEND;VALUE=DATE:20171226
DTSTAMP:20260424T160721
CREATED:20170105T180615Z
LAST-MODIFIED:20170105T180615Z
UID:1707-1514160000-1514246399@tri-countyalliance.com
SUMMARY:Office Closed
DESCRIPTION:
URL:https://tri-countyalliance.com/calendar/office-closed-12/
CATEGORIES:Office Closings
END:VEVENT
END:VCALENDAR