BEGIN:VCALENDAR
VERSION:2.0
PRODID:-//Tri-County Alliance - ECPv6.15.20//NONSGML v1.0//EN
CALSCALE:GREGORIAN
METHOD:PUBLISH
X-WR-CALNAME:Tri-County Alliance
X-ORIGINAL-URL:https://tri-countyalliance.com
X-WR-CALDESC:Events for Tri-County Alliance
REFRESH-INTERVAL;VALUE=DURATION:PT1H
X-Robots-Tag:noindex
X-PUBLISHED-TTL:PT1H
BEGIN:VTIMEZONE
TZID:UTC
BEGIN:STANDARD
TZOFFSETFROM:+0000
TZOFFSETTO:+0000
TZNAME:UTC
DTSTART:20170101T000000
END:STANDARD
END:VTIMEZONE
BEGIN:VEVENT
DTSTART;VALUE=DATE:20180101
DTEND;VALUE=DATE:20180102
DTSTAMP:20260424T144015
CREATED:20171213T192559Z
LAST-MODIFIED:20180102T222001Z
UID:2197-1514764800-1514851199@tri-countyalliance.com
SUMMARY:Office Closed
DESCRIPTION:New Year’s Day
URL:https://tri-countyalliance.com/calendar/office-closed-19/
CATEGORIES:Office Closings
END:VEVENT
BEGIN:VEVENT
DTSTART;TZID=UTC:20180103T093000
DTEND;TZID=UTC:20180103T103000
DTSTAMP:20260424T144015
CREATED:20171213T192734Z
LAST-MODIFIED:20171213T192734Z
UID:2198-1514971800-1514975400@tri-countyalliance.com
SUMMARY:Membership Committee Meeting
DESCRIPTION:
URL:https://tri-countyalliance.com/calendar/membership-committee-meeting-22/
LOCATION:Tri-County Alliance Office\, 186 E. Center Street\, Manchester\, CT\, 06040\, United States
CATEGORIES:Committee Meetings
ORGANIZER;CN="Steve Ferrigno":MAILTO:steven@ferrignorealtors.com
END:VEVENT
BEGIN:VEVENT
DTSTART;TZID=UTC:20180109T084500
DTEND;TZID=UTC:20180109T100000
DTSTAMP:20260424T144015
CREATED:20171214T142841Z
LAST-MODIFIED:20180108T203037Z
UID:2203-1515487500-1515492000@tri-countyalliance.com
SUMMARY:Board of Directors Meeting
DESCRIPTION:
URL:https://tri-countyalliance.com/calendar/board-of-directors-meeting-21/
LOCATION:Tri-County Alliance Office\, 186 E. Center Street\, Manchester\, CT\, 06040\, United States
CATEGORIES:Board of Directors Meetings
ORGANIZER;CN="Marisol Dumeng":MAILTO:www.Tri.County@sbcglobal.net
END:VEVENT
BEGIN:VEVENT
DTSTART;TZID=UTC:20180110T093000
DTEND;TZID=UTC:20180110T103000
DTSTAMP:20260424T144015
CREATED:20171213T192953Z
LAST-MODIFIED:20180102T220436Z
UID:2199-1515576600-1515580200@tri-countyalliance.com
SUMMARY:Communications and Social Media Committee Meeting
DESCRIPTION:
URL:https://tri-countyalliance.com/calendar/communications-and-social-media-committee-meeting-2/
LOCATION:Tri-County Alliance Office\, 186 E. Center Street\, Manchester\, CT\, 06040\, United States
CATEGORIES:Committee Meetings
ORGANIZER;CN="Norm DeLaura":MAILTO:norm.delaura@flagstar.com
END:VEVENT
BEGIN:VEVENT
DTSTART;TZID=UTC:20180110T120000
DTEND;TZID=UTC:20180110T133000
DTSTAMP:20260424T144015
CREATED:20171213T194319Z
LAST-MODIFIED:20180202T215034Z
UID:2201-1515585600-1515591000@tri-countyalliance.com
SUMMARY:Lunch and Learn
DESCRIPTION:Topic: Staging Designation Certification\nSponsored by AnnieMac Home Mortgage
URL:https://tri-countyalliance.com/calendar/lunch-and-learn/
LOCATION:Tri-County Alliance Office\, 186 E. Center Street\, Manchester\, CT\, 06040\, United States
CATEGORIES:Lunch & Learn
ORGANIZER;CN="Marisol Dumeng":MAILTO:www.Tri.County@sbcglobal.net
END:VEVENT
BEGIN:VEVENT
DTSTART;VALUE=DATE:20180115
DTEND;VALUE=DATE:20180116
DTSTAMP:20260424T144015
CREATED:20171214T142924Z
LAST-MODIFIED:20180102T222056Z
UID:2204-1515974400-1516060799@tri-countyalliance.com
SUMMARY:Office Closed
DESCRIPTION:Martin Luther King Day
URL:https://tri-countyalliance.com/calendar/office-closed-20/
CATEGORIES:Office Closings
END:VEVENT
BEGIN:VEVENT
DTSTART;TZID=UTC:20180116T093000
DTEND;TZID=UTC:20180116T100000
DTSTAMP:20260424T144015
CREATED:20171214T143720Z
LAST-MODIFIED:20180108T165127Z
UID:2205-1516095000-1516096800@tri-countyalliance.com
SUMMARY:Outreach Committee Meeting
DESCRIPTION:
URL:https://tri-countyalliance.com/calendar/outreach-committee/
LOCATION:Tri-County Alliance Office\, 186 E. Center Street\, Manchester\, CT\, 06040\, United States
CATEGORIES:Committee Meetings
ORGANIZER;CN="Peter Leeds":MAILTO:pcleeds54@gmail.com
END:VEVENT
BEGIN:VEVENT
DTSTART;TZID=UTC:20180116T100000
DTEND;TZID=UTC:20180116T110000
DTSTAMP:20260424T144015
CREATED:20171214T143853Z
LAST-MODIFIED:20180108T165054Z
UID:2207-1516096800-1516100400@tri-countyalliance.com
SUMMARY:Programs Committee Meeting
DESCRIPTION:
URL:https://tri-countyalliance.com/calendar/programs-committee/
LOCATION:Tri-County Alliance Office\, 186 E. Center Street\, Manchester\, CT\, 06040\, United States
CATEGORIES:Committee Meetings
ORGANIZER;CN="Lisa Daniels":MAILTO:lisasellshouses@cox.net
END:VEVENT
BEGIN:VEVENT
DTSTART;TZID=UTC:20180124T163000
DTEND;TZID=UTC:20180124T183000
DTSTAMP:20260424T144015
CREATED:20171214T144315Z
LAST-MODIFIED:20180102T221246Z
UID:2211-1516811400-1516818600@tri-countyalliance.com
SUMMARY:Mixer
DESCRIPTION:Cash Bar\nAppetizers Sponsored By AnnieMac Home Mortgage
URL:https://tri-countyalliance.com/calendar/mixer-23/
LOCATION:Dimitri’s Restaurant\, 3444 Main Street\, Coventry\, 06238
CATEGORIES:Mixers
ORGANIZER;CN="Marisol Dumeng":MAILTO:www.Tri.County@sbcglobal.net
END:VEVENT
BEGIN:VEVENT
DTSTART;TZID=UTC:20180125T114500
DTEND;TZID=UTC:20180125T130000
DTSTAMP:20260424T144015
CREATED:20171214T144550Z
LAST-MODIFIED:20180115T211946Z
UID:2213-1516880700-1516885200@tri-countyalliance.com
SUMMARY:Lunch and Learn
DESCRIPTION:Topic: Get More Listings! Simple and effective tools to help you get the listing!\nSponsored By Primary Residential Mortgage
URL:https://tri-countyalliance.com/calendar/lunch-and-learn-2/
LOCATION:Tri-County Alliance Office\, 186 E. Center Street\, Manchester\, CT\, 06040\, United States
CATEGORIES:Lunch & Learn
ORGANIZER;CN="Marisol Dumeng":MAILTO:www.Tri.County@sbcglobal.net
END:VEVENT
BEGIN:VEVENT
DTSTART;TZID=UTC:20180129T180000
DTEND;TZID=UTC:20180129T210000
DTSTAMP:20260424T144015
CREATED:20180125T162047Z
LAST-MODIFIED:20180125T162047Z
UID:2403-1517248800-1517259600@tri-countyalliance.com
SUMMARY:P&P Class
DESCRIPTION:Real Estate Principles and Practices Course
URL:https://tri-countyalliance.com/calendar/pp-class/
LOCATION:Tri-County Alliance Office\, 186 E. Center Street\, Manchester\, CT\, 06040\, United States
CATEGORIES:P&P Class
ORGANIZER;CN="Marisol Dumeng":MAILTO:www.Tri.County@sbcglobal.net
END:VEVENT
BEGIN:VEVENT
DTSTART;TZID=UTC:20180131T180000
DTEND;TZID=UTC:20180131T210000
DTSTAMP:20260424T144015
CREATED:20180125T163404Z
LAST-MODIFIED:20180125T163404Z
UID:2404-1517421600-1517432400@tri-countyalliance.com
SUMMARY:P&P Class
DESCRIPTION:Real Estate Principles and Practices Course
URL:https://tri-countyalliance.com/calendar/pp-class-2/
LOCATION:Tri-County Alliance Office\, 186 E. Center Street\, Manchester\, CT\, 06040\, United States
CATEGORIES:P&P Class
ORGANIZER;CN="Marisol Dumeng":MAILTO:www.Tri.County@sbcglobal.net
END:VEVENT
END:VCALENDAR