BEGIN:VCALENDAR
VERSION:2.0
PRODID:-//Tri-County Alliance - ECPv6.15.20//NONSGML v1.0//EN
CALSCALE:GREGORIAN
METHOD:PUBLISH
X-WR-CALNAME:Tri-County Alliance
X-ORIGINAL-URL:https://tri-countyalliance.com
X-WR-CALDESC:Events for Tri-County Alliance
REFRESH-INTERVAL;VALUE=DURATION:PT1H
X-Robots-Tag:noindex
X-PUBLISHED-TTL:PT1H
BEGIN:VTIMEZONE
TZID:UTC
BEGIN:STANDARD
TZOFFSETFROM:+0000
TZOFFSETTO:+0000
TZNAME:UTC
DTSTART:20170101T000000
END:STANDARD
END:VTIMEZONE
BEGIN:VEVENT
DTSTART;TZID=UTC:20180301T173000
DTEND;TZID=UTC:20180301T203000
DTSTAMP:20260424T113232
CREATED:20171214T154458Z
LAST-MODIFIED:20180209T202654Z
UID:2227-1519925400-1519936200@tri-countyalliance.com
SUMMARY:PM CE Class - Seller Counseling Session
DESCRIPTION:Sponsored by CT Pro Inspection\, LLC
URL:https://tri-countyalliance.com/calendar/pm-ce-class-3/
LOCATION:Manchester Country Club\, 305 South Main Street\, Manchester\, CT\, 06040\, United States
CATEGORIES:CE Classes
ORGANIZER;CN="Marisol Dumeng":MAILTO:www.Tri.County@sbcglobal.net
END:VEVENT
BEGIN:VEVENT
DTSTART;TZID=UTC:20180303T180000
DTEND;TZID=UTC:20180303T210000
DTSTAMP:20260424T113232
CREATED:20180125T173440Z
LAST-MODIFIED:20180306T184804Z
UID:2417-1520100000-1520110800@tri-countyalliance.com
SUMMARY:P&P Class
DESCRIPTION:CANCELLED – Due to Inclement Weather \nReal Estate Principles and Practices Course \nRescheduled for March 24\, 2018
URL:https://tri-countyalliance.com/calendar/pp-class-10/
LOCATION:Tri-County Alliance Office\, 186 E. Center Street\, Manchester\, CT\, 06040\, United States
CATEGORIES:P&P Class
ORGANIZER;CN="Marisol Dumeng":MAILTO:www.Tri.County@sbcglobal.net
END:VEVENT
BEGIN:VEVENT
DTSTART;TZID=UTC:20180305T170000
DTEND;TZID=UTC:20180305T200000
DTSTAMP:20260424T113232
CREATED:20171214T154552Z
LAST-MODIFIED:20180208T003250Z
UID:2228-1520269200-1520280000@tri-countyalliance.com
SUMMARY:PM CE Class - Realtor Safety
DESCRIPTION:Sponsored by American Eagle Financial CU
URL:https://tri-countyalliance.com/calendar/pm-ce-class-4/
LOCATION:Manchester Country Club\, 305 South Main Street\, Manchester\, CT\, 06040\, United States
CATEGORIES:CE Classes
ORGANIZER;CN="Marisol Dumeng":MAILTO:www.Tri.County@sbcglobal.net
END:VEVENT
BEGIN:VEVENT
DTSTART;TZID=UTC:20180305T180000
DTEND;TZID=UTC:20180305T210000
DTSTAMP:20260424T113232
CREATED:20180125T173601Z
LAST-MODIFIED:20180125T173601Z
UID:2418-1520272800-1520283600@tri-countyalliance.com
SUMMARY:P&P Class
DESCRIPTION:Real Estate Principles and Practices Course
URL:https://tri-countyalliance.com/calendar/pp-class-13/
LOCATION:Tri-County Alliance Office\, 186 E. Center Street\, Manchester\, CT\, 06040\, United States
CATEGORIES:P&P Class
ORGANIZER;CN="Marisol Dumeng":MAILTO:www.Tri.County@sbcglobal.net
END:VEVENT
BEGIN:VEVENT
DTSTART;TZID=UTC:20180307T180000
DTEND;TZID=UTC:20180307T210000
DTSTAMP:20260424T113232
CREATED:20180306T184841Z
LAST-MODIFIED:20180306T184908Z
UID:2536-1520445600-1520456400@tri-countyalliance.com
SUMMARY:P&P Class
DESCRIPTION:CANCELLED – Due to Inclement Weather \nReal Estate Principles and Practices Course \nRescheduled for March 29\, 2018
URL:https://tri-countyalliance.com/calendar/pp-class-23/
LOCATION:Tri-County Alliance Office\, 186 E. Center Street\, Manchester\, CT\, 06040\, United States
CATEGORIES:P&P Class
END:VEVENT
BEGIN:VEVENT
DTSTART;TZID=UTC:20180312T180000
DTEND;TZID=UTC:20180312T210000
DTSTAMP:20260424T113232
CREATED:20180125T173736Z
LAST-MODIFIED:20180125T173736Z
UID:2420-1520877600-1520888400@tri-countyalliance.com
SUMMARY:P&P Class
DESCRIPTION:Real Estate Principles and Practices Course
URL:https://tri-countyalliance.com/calendar/pp-class-15/
LOCATION:Tri-County Alliance Office\, 186 E. Center Street\, Manchester\, CT\, 06040\, United States
CATEGORIES:P&P Class
ORGANIZER;CN="Marisol Dumeng":MAILTO:www.Tri.County@sbcglobal.net
END:VEVENT
BEGIN:VEVENT
DTSTART;TZID=UTC:20180313T090000
DTEND;TZID=UTC:20180313T100000
DTSTAMP:20260424T113232
CREATED:20171214T154913Z
LAST-MODIFIED:20180313T114246Z
UID:2230-1520931600-1520935200@tri-countyalliance.com
SUMMARY:CANCELLED-Board of Directors Meeting
DESCRIPTION:MEETING CANCELLED DUE TO SNOW – Rescheduled for Monday\, March 19th
URL:https://tri-countyalliance.com/calendar/board-of-directors-meeting-23/
LOCATION:Tri-County Alliance Office\, 186 E. Center Street\, Manchester\, CT\, 06040\, United States
CATEGORIES:Board of Directors Meetings
ORGANIZER;CN="Marisol Dumeng":MAILTO:www.Tri.County@sbcglobal.net
END:VEVENT
BEGIN:VEVENT
DTSTART;TZID=UTC:20180313T114500
DTEND;TZID=UTC:20180313T130000
DTSTAMP:20260424T113232
CREATED:20171214T154655Z
LAST-MODIFIED:20180313T121935Z
UID:2229-1520941500-1520946000@tri-countyalliance.com
SUMMARY:CANCELLED-Lunch and Learn
DESCRIPTION:Cancelled due to inclement weather. New date to follow..\nTopic: Housing Market Predictions for 2018\nSponsored By: American Eagle Family Credit Union
URL:https://tri-countyalliance.com/calendar/lunch-and-learn-5/
LOCATION:Tri-County Alliance Office\, 186 E. Center Street\, Manchester\, CT\, 06040\, United States
CATEGORIES:Lunch & Learn
ORGANIZER;CN="Marisol Dumeng":MAILTO:www.Tri.County@sbcglobal.net
END:VEVENT
BEGIN:VEVENT
DTSTART;TZID=UTC:20180314T090000
DTEND;TZID=UTC:20180314T100000
DTSTAMP:20260424T113232
CREATED:20171214T155122Z
LAST-MODIFIED:20171214T164306Z
UID:2231-1521018000-1521021600@tri-countyalliance.com
SUMMARY:Education Committee Meeting
DESCRIPTION:
URL:https://tri-countyalliance.com/calendar/education-committee-meeting-15/
LOCATION:Tri-County Alliance Office\, 186 E. Center Street\, Manchester\, CT\, 06040\, United States
CATEGORIES:Committee Meetings
ORGANIZER;CN="Carol Cavalieri":MAILTO:carolcavalieri@sbcglobal.net
END:VEVENT
BEGIN:VEVENT
DTSTART;TZID=UTC:20180314T163000
DTEND;TZID=UTC:20180314T183000
DTSTAMP:20260424T113232
CREATED:20171214T155331Z
LAST-MODIFIED:20180411T175155Z
UID:2232-1521045000-1521052200@tri-countyalliance.com
SUMMARY:Mixer
DESCRIPTION:Cash Bar\nAppetizers Sponsored By Santander Bank
URL:https://tri-countyalliance.com/calendar/mixer-25/
LOCATION:Wood-N-Tap\, 236 Hartford Tpke\, Vernon\, 06066
CATEGORIES:Mixers
ORGANIZER;CN="Marisol Dumeng":MAILTO:www.Tri.County@sbcglobal.net
END:VEVENT
BEGIN:VEVENT
DTSTART;TZID=UTC:20180314T180000
DTEND;TZID=UTC:20180314T210000
DTSTAMP:20260424T113232
CREATED:20180125T173815Z
LAST-MODIFIED:20180125T173815Z
UID:2421-1521050400-1521061200@tri-countyalliance.com
SUMMARY:P&P Class
DESCRIPTION:Real Estate Principles and Practices Course
URL:https://tri-countyalliance.com/calendar/pp-class-16/
LOCATION:Tri-County Alliance Office\, 186 E. Center Street\, Manchester\, CT\, 06040\, United States
CATEGORIES:P&P Class
ORGANIZER;CN="Marisol Dumeng":MAILTO:www.Tri.County@sbcglobal.net
END:VEVENT
BEGIN:VEVENT
DTSTART;TZID=UTC:20180317T090000
DTEND;TZID=UTC:20180317T130000
DTSTAMP:20260424T113232
CREATED:20180125T173932Z
LAST-MODIFIED:20180125T173932Z
UID:2422-1521277200-1521291600@tri-countyalliance.com
SUMMARY:P&P Class
DESCRIPTION:Real Estate Principles and Practices Course
URL:https://tri-countyalliance.com/calendar/pp-class-17/
LOCATION:Tri-County Alliance Office\, 186 E. Center Street\, Manchester\, CT\, 06040\, United States
CATEGORIES:P&P Class
ORGANIZER;CN="Marisol Dumeng":MAILTO:www.Tri.County@sbcglobal.net
END:VEVENT
BEGIN:VEVENT
DTSTART;TZID=UTC:20180319T090000
DTEND;TZID=UTC:20180319T100000
DTSTAMP:20260424T113232
CREATED:20180313T114045Z
LAST-MODIFIED:20180313T114045Z
UID:2552-1521450000-1521453600@tri-countyalliance.com
SUMMARY:Board of Directors Meeting
DESCRIPTION:
URL:https://tri-countyalliance.com/calendar/board-of-directors-meeting-32/
LOCATION:Tri-County Alliance Office\, 186 E. Center Street\, Manchester\, CT\, 06040\, United States
CATEGORIES:Board of Directors Meetings
ORGANIZER;CN="Marisol Dumeng":MAILTO:www.Tri.County@sbcglobal.net
END:VEVENT
BEGIN:VEVENT
DTSTART;TZID=UTC:20180319T180000
DTEND;TZID=UTC:20180319T210000
DTSTAMP:20260424T113232
CREATED:20180125T174052Z
LAST-MODIFIED:20180125T174052Z
UID:2423-1521482400-1521493200@tri-countyalliance.com
SUMMARY:P&P Class
DESCRIPTION:Real Estate Principles and Practices Course
URL:https://tri-countyalliance.com/calendar/pp-class-18/
LOCATION:Tri-County Alliance Office\, 186 E. Center Street\, Manchester\, CT\, 06040\, United States
CATEGORIES:P&P Class
ORGANIZER;CN="Marisol Dumeng":MAILTO:www.Tri.County@sbcglobal.net
END:VEVENT
BEGIN:VEVENT
DTSTART;TZID=UTC:20180320T114500
DTEND;TZID=UTC:20180320T130000
DTSTAMP:20260424T113232
CREATED:20171214T155452Z
LAST-MODIFIED:20180410T204952Z
UID:2233-1521546300-1521550800@tri-countyalliance.com
SUMMARY:Lunch and Learn
DESCRIPTION:Topic: Lunch and Learn with a Life Coach\nDevelop Time Management\, Work-Life Balance and Goal Achievement skills needed for Success!\nPresented by Pam Drzewiecki\, Powerful Purpose Business and Life Coach\nSponsored By: Envoy Mortgage
URL:https://tri-countyalliance.com/calendar/lunch-and-learn-6/
CATEGORIES:Lunch & Learn
ORGANIZER;CN="Marisol Dumeng":MAILTO:www.Tri.County@sbcglobal.net
END:VEVENT
BEGIN:VEVENT
DTSTART;TZID=UTC:20180321T093000
DTEND;TZID=UTC:20180321T100000
DTSTAMP:20260424T113232
CREATED:20171214T155807Z
LAST-MODIFIED:20171214T164246Z
UID:2235-1521624600-1521626400@tri-countyalliance.com
SUMMARY:Outreach Committee Meeting
DESCRIPTION:
URL:https://tri-countyalliance.com/calendar/outreach-committee-meeting-4/
LOCATION:Tri-County Alliance Office\, 186 E. Center Street\, Manchester\, CT\, 06040\, United States
CATEGORIES:Committee Meetings
ORGANIZER;CN="Peter Leeds":MAILTO:pcleeds54@gmail.com
END:VEVENT
BEGIN:VEVENT
DTSTART;TZID=UTC:20180321T100000
DTEND;TZID=UTC:20180321T110000
DTSTAMP:20260424T113232
CREATED:20171214T155706Z
LAST-MODIFIED:20171214T164228Z
UID:2234-1521626400-1521630000@tri-countyalliance.com
SUMMARY:Programs Committee Meeting
DESCRIPTION:
URL:https://tri-countyalliance.com/calendar/programs-committee-meeting-25/
LOCATION:Tri-County Alliance Office\, 186 E. Center Street\, Manchester\, CT\, 06040\, United States
CATEGORIES:Committee Meetings
ORGANIZER;CN="Lisa Daniels":MAILTO:lisasellshouses@cox.net
END:VEVENT
BEGIN:VEVENT
DTSTART;TZID=UTC:20180321T180000
DTEND;TZID=UTC:20180321T210000
DTSTAMP:20260424T113232
CREATED:20180125T174148Z
LAST-MODIFIED:20180125T174148Z
UID:2424-1521655200-1521666000@tri-countyalliance.com
SUMMARY:P&P Class
DESCRIPTION:Real Estate Principles and Practices Course
URL:https://tri-countyalliance.com/calendar/pp-class-19/
LOCATION:Tri-County Alliance Office\, 186 E. Center Street\, Manchester\, CT\, 06040\, United States
CATEGORIES:P&P Class
ORGANIZER;CN="Marisol Dumeng":MAILTO:www.Tri.County@sbcglobal.net
END:VEVENT
BEGIN:VEVENT
DTSTART;TZID=UTC:20180324T090000
DTEND;TZID=UTC:20180324T130000
DTSTAMP:20260424T113232
CREATED:20180125T173648Z
LAST-MODIFIED:20180306T184425Z
UID:2419-1521882000-1521896400@tri-countyalliance.com
SUMMARY:P&P Class
DESCRIPTION:Real Estate Principles and Practices Course
URL:https://tri-countyalliance.com/calendar/pp-class-14/
LOCATION:Tri-County Alliance Office\, 186 E. Center Street\, Manchester\, CT\, 06040\, United States
CATEGORIES:P&P Class
ORGANIZER;CN="Marisol Dumeng":MAILTO:www.Tri.County@sbcglobal.net
END:VEVENT
BEGIN:VEVENT
DTSTART;TZID=UTC:20180326T180000
DTEND;TZID=UTC:20180326T210000
DTSTAMP:20260424T113232
CREATED:20180125T174233Z
LAST-MODIFIED:20180125T174233Z
UID:2425-1522087200-1522098000@tri-countyalliance.com
SUMMARY:P&P Class
DESCRIPTION:Real Estate Principles and Practices Course
URL:https://tri-countyalliance.com/calendar/pp-class-20/
LOCATION:Tri-County Alliance Office\, 186 E. Center Street\, Manchester\, CT\, 06040\, United States
CATEGORIES:P&P Class
ORGANIZER;CN="Marisol Dumeng":MAILTO:www.Tri.County@sbcglobal.net
END:VEVENT
BEGIN:VEVENT
DTSTART;TZID=UTC:20180328T180000
DTEND;TZID=UTC:20180328T210000
DTSTAMP:20260424T113232
CREATED:20180125T174319Z
LAST-MODIFIED:20180125T174319Z
UID:2426-1522260000-1522270800@tri-countyalliance.com
SUMMARY:P&P Class
DESCRIPTION:Real Estate Principles and Practices Course
URL:https://tri-countyalliance.com/calendar/pp-class-21/
LOCATION:Tri-County Alliance Office\, 186 E. Center Street\, Manchester\, CT\, 06040\, United States
CATEGORIES:P&P Class
ORGANIZER;CN="Marisol Dumeng":MAILTO:www.Tri.County@sbcglobal.net
END:VEVENT
BEGIN:VEVENT
DTSTART;TZID=UTC:20180329T180000
DTEND;TZID=UTC:20180329T210000
DTSTAMP:20260424T113232
CREATED:20180306T184521Z
LAST-MODIFIED:20180306T184521Z
UID:2534-1522346400-1522357200@tri-countyalliance.com
SUMMARY:P&P Class
DESCRIPTION:Real Estate Principles and Practices Course
URL:https://tri-countyalliance.com/calendar/pp-class-22/
CATEGORIES:P&P Class
END:VEVENT
BEGIN:VEVENT
DTSTART;VALUE=DATE:20180330
DTEND;VALUE=DATE:20180331
DTSTAMP:20260424T113232
CREATED:20171214T155847Z
LAST-MODIFIED:20171214T155847Z
UID:2236-1522368000-1522454399@tri-countyalliance.com
SUMMARY:Office Closed
DESCRIPTION:
URL:https://tri-countyalliance.com/calendar/office-closed-21/
CATEGORIES:Office Closings
END:VEVENT
END:VCALENDAR