BEGIN:VCALENDAR
VERSION:2.0
PRODID:-//Tri-County Alliance - ECPv6.15.20//NONSGML v1.0//EN
CALSCALE:GREGORIAN
METHOD:PUBLISH
X-ORIGINAL-URL:https://tri-countyalliance.com
X-WR-CALDESC:Events for Tri-County Alliance
REFRESH-INTERVAL;VALUE=DURATION:PT1H
X-Robots-Tag:noindex
X-PUBLISHED-TTL:PT1H
BEGIN:VTIMEZONE
TZID:UTC
BEGIN:STANDARD
TZOFFSETFROM:+0000
TZOFFSETTO:+0000
TZNAME:UTC
DTSTART:20170101T000000
END:STANDARD
END:VTIMEZONE
BEGIN:VEVENT
DTSTART;TZID=UTC:20180502T093000
DTEND;TZID=UTC:20180502T103000
DTSTAMP:20260424T082535
CREATED:20180109T153242Z
LAST-MODIFIED:20180424T133416Z
UID:2360-1525253400-1525257000@tri-countyalliance.com
SUMMARY:Membership/Social Media Committee Meeting
DESCRIPTION:
URL:https://tri-countyalliance.com/calendar/membership-committee-meeting-27/
LOCATION:Tri-County Alliance Office\, 186 E. Center Street\, Manchester\, CT\, 06040\, United States
CATEGORIES:Committee Meetings
ORGANIZER;CN="Steve Ferrigno":MAILTO:steven@ferrignorealtors.com
END:VEVENT
BEGIN:VEVENT
DTSTART;TZID=UTC:20180508T090000
DTEND;TZID=UTC:20180508T100000
DTSTAMP:20260424T082535
CREATED:20171214T162602Z
LAST-MODIFIED:20171214T162602Z
UID:2246-1525770000-1525773600@tri-countyalliance.com
SUMMARY:Board of Directors Meeting
DESCRIPTION:
URL:https://tri-countyalliance.com/calendar/board-of-directors-meeting-25/
LOCATION:Tri-County Alliance Office\, 186 E. Center Street\, Manchester\, CT\, 06040\, United States
CATEGORIES:Board of Directors Meetings
ORGANIZER;CN="Marisol Dumeng":MAILTO:www.Tri.County@sbcglobal.net
END:VEVENT
BEGIN:VEVENT
DTSTART;TZID=UTC:20180509T114500
DTEND;TZID=UTC:20180509T130000
DTSTAMP:20260424T082535
CREATED:20171214T162708Z
LAST-MODIFIED:20180425T190518Z
UID:2247-1525866300-1525870800@tri-countyalliance.com
SUMMARY:Lunch and Learn
DESCRIPTION:Topic: Housing Market Predictions for 2018\nSponsored By: American Eagle Family Credit Union
URL:https://tri-countyalliance.com/calendar/lunch-and-learn-9/
LOCATION:Tri-County Alliance Office\, 186 E. Center Street\, Manchester\, CT\, 06040\, United States
CATEGORIES:Lunch & Learn
ORGANIZER;CN="Marisol Dumeng":MAILTO:www.Tri.County@sbcglobal.net
END:VEVENT
BEGIN:VEVENT
DTSTART;TZID=UTC:20180515T180000
DTEND;TZID=UTC:20180515T200000
DTSTAMP:20260424T082535
CREATED:20180424T133854Z
LAST-MODIFIED:20180514T214333Z
UID:2607-1526407200-1526414400@tri-countyalliance.com
SUMMARY:CANCELLED-Fill the Freezer Walkathon
DESCRIPTION:On Tuesday\, May 15\, 2018\, we will be participating in the Fill the Freezer Walkathon. You will have 45 minutes to complete as many laps as possible around the Walkathon course set up at Center Springs Park in Manchester. The funds collected will go to MACC Charities Community Kitchen to help pay for much needed fresh meat. Checks should be made payable to Tri-County Alliance of Realtors. 100% of the proceeds will go to MACC. Click Here for Pledge Form \nFill The Freezer Walk-a-thon will begin at 6:00 p.m. following opening remarks.The walk begins at Manchester Parks and Recreation parking lot at 39 Lodge Drive. The walking loop is 1.3 miles. Participants are expected to hand in pledge sheets and donations at the time of the walk.  All participants will get free ice cream courtesy of High Park Markets. For more information\, contact the Board office at 860-646-2450 or email Tri.County@sbcglobal.net. \n“Help us fill the freezer with proteins for the 1\,500 families in our community that face hunger on a daily basis and need a hand up until they can get back on their feet.” Thank you for supporting the MACC Community Emergency Food Pantry. \nOur mission: Mobilizing our community to break cycles of povety. Website: www. MACC-CT.org
URL:https://tri-countyalliance.com/calendar/fill-the-freezer-walkathon/
LOCATION:Manchester Parks and Recreation Parking Lot\, 39 Lodge Drive\, Manchester\, 06040\, United States
CATEGORIES:Community Outreach
ORGANIZER;CN="Peter Leeds":MAILTO:pcleeds54@gmail.com
END:VEVENT
BEGIN:VEVENT
DTSTART;TZID=UTC:20180516T163000
DTEND;TZID=UTC:20180516T183000
DTSTAMP:20260424T082535
CREATED:20171214T163944Z
LAST-MODIFIED:20180524T173531Z
UID:2251-1526488200-1526495400@tri-countyalliance.com
SUMMARY:Mixer
DESCRIPTION:Cash Bar\nAppetizers Sponsored by American Eagle Financial Credit Union
URL:https://tri-countyalliance.com/calendar/mixer-27/
LOCATION:Rooftop 120\, 120 Hebron Avenue\, Glastonbury\, 06033\, United States
CATEGORIES:Mixers
ORGANIZER;CN="Marisol Dumeng":MAILTO:www.Tri.County@sbcglobal.net
END:VEVENT
BEGIN:VEVENT
DTSTART;TZID=UTC:20180517T090000
DTEND;TZID=UTC:20180517T100000
DTSTAMP:20260424T082535
CREATED:20171214T164047Z
LAST-MODIFIED:20171214T164047Z
UID:2252-1526547600-1526551200@tri-countyalliance.com
SUMMARY:Education Committee Meeting
DESCRIPTION:
URL:https://tri-countyalliance.com/calendar/education-committee-meeting-17/
LOCATION:Tri-County Alliance Office\, 186 E. Center Street\, Manchester\, CT\, 06040\, United States
CATEGORIES:Committee Meetings
ORGANIZER;CN="Carol Cavalieri":MAILTO:carolcavalieri@sbcglobal.net
END:VEVENT
BEGIN:VEVENT
DTSTART;TZID=UTC:20180517T130000
DTEND;TZID=UTC:20180517T140000
DTSTAMP:20260424T082535
CREATED:20171214T163637Z
LAST-MODIFIED:20180524T173029Z
UID:2249-1526562000-1526565600@tri-countyalliance.com
SUMMARY:Programs/Outreach Committee Meeting
DESCRIPTION:
URL:https://tri-countyalliance.com/calendar/programs-committee-meeting-27/
LOCATION:Tri-County Alliance Office\, 186 E. Center Street\, Manchester\, CT\, 06040\, United States
CATEGORIES:Committee Meetings
ORGANIZER;CN="Lisa Daniels":MAILTO:lisasellshouses@cox.net
END:VEVENT
BEGIN:VEVENT
DTSTART;TZID=UTC:20180522T083000
DTEND;TZID=UTC:20180522T100000
DTSTAMP:20260424T082535
CREATED:20171214T164459Z
LAST-MODIFIED:20180514T173823Z
UID:2253-1526977800-1526983200@tri-countyalliance.com
SUMMARY:Membership Breakfast Meeting
DESCRIPTION:MAY BREAKFAST MEETING\nUpdate on Crumbling Foundations \nGuest Speakers:\nJonathan Gourley from the Environmental  Science Program at Trinity College\nand Tim Heim from CT Coalition Against Crumbling Foundations \nSponsored by:\nGallasso Agency – Farmers Insurance\n \nCLICK HERE TO REGISTER
URL:https://tri-countyalliance.com/calendar/membership-breakfast/
LOCATION:A Villa Louisa\, 60 Villa Louisa Road\, Bolton\, CT\, 06043\, United States
CATEGORIES:Membership Breakfast Meeting
ORGANIZER;CN="Marisol Dumeng":MAILTO:www.Tri.County@sbcglobal.net
END:VEVENT
BEGIN:VEVENT
DTSTART;TZID=UTC:20180524T103000
DTEND;TZID=UTC:20180524T113000
DTSTAMP:20260424T082535
CREATED:20180524T173243Z
LAST-MODIFIED:20180524T173243Z
UID:2641-1527157800-1527161400@tri-countyalliance.com
SUMMARY:RPAC Fundraising and Political Committee Meeting
DESCRIPTION:
URL:https://tri-countyalliance.com/calendar/rpac-fundraising-and-political-committee-meeting-5/
LOCATION:Tri-County Alliance Office\, 186 E. Center Street\, Manchester\, CT\, 06040\, United States
CATEGORIES:Committee Meetings
ORGANIZER;CN="Teri Gardner":MAILTO:terigardner21@comcast.net
END:VEVENT
BEGIN:VEVENT
DTSTART;TZID=UTC:20180524T114500
DTEND;TZID=UTC:20180524T130000
DTSTAMP:20260424T082535
CREATED:20171214T164625Z
LAST-MODIFIED:20180131T174519Z
UID:2254-1527162300-1527166800@tri-countyalliance.com
SUMMARY:Lunch and Learn
DESCRIPTION:Topic: TBD\nSponsored By: Flagstar Bank
URL:https://tri-countyalliance.com/calendar/lunch-and-learn-10/
LOCATION:Tri-County Alliance Office\, 186 E. Center Street\, Manchester\, CT\, 06040\, United States
CATEGORIES:Lunch & Learn
ORGANIZER;CN="Marisol Dumeng":MAILTO:www.Tri.County@sbcglobal.net
END:VEVENT
BEGIN:VEVENT
DTSTART;VALUE=DATE:20180528
DTEND;VALUE=DATE:20180529
DTSTAMP:20260424T082535
CREATED:20171214T164656Z
LAST-MODIFIED:20180424T135933Z
UID:2255-1527465600-1527551999@tri-countyalliance.com
SUMMARY:Office Closed
DESCRIPTION:
URL:https://tri-countyalliance.com/calendar/office-closed-22/
CATEGORIES:Office Closings
END:VEVENT
END:VCALENDAR