BEGIN:VCALENDAR
VERSION:2.0
PRODID:-//Tri-County Alliance - ECPv6.15.20//NONSGML v1.0//EN
CALSCALE:GREGORIAN
METHOD:PUBLISH
X-ORIGINAL-URL:https://tri-countyalliance.com
X-WR-CALDESC:Events for Tri-County Alliance
REFRESH-INTERVAL;VALUE=DURATION:PT1H
X-Robots-Tag:noindex
X-PUBLISHED-TTL:PT1H
BEGIN:VTIMEZONE
TZID:UTC
BEGIN:STANDARD
TZOFFSETFROM:+0000
TZOFFSETTO:+0000
TZNAME:UTC
DTSTART:20170101T000000
END:STANDARD
END:VTIMEZONE
BEGIN:VEVENT
DTSTART;VALUE=DATE:20180704
DTEND;VALUE=DATE:20180705
DTSTAMP:20260424T054228
CREATED:20171214T184218Z
LAST-MODIFIED:20171214T184218Z
UID:2265-1530662400-1530748799@tri-countyalliance.com
SUMMARY:Office Closed
DESCRIPTION:
URL:https://tri-countyalliance.com/calendar/office-closed-23/
CATEGORIES:Office Closings
END:VEVENT
BEGIN:VEVENT
DTSTART;TZID=UTC:20180711T114500
DTEND;TZID=UTC:20180711T130000
DTSTAMP:20260424T054228
CREATED:20171214T184325Z
LAST-MODIFIED:20180612T130854Z
UID:2266-1531309500-1531314000@tri-countyalliance.com
SUMMARY:Lunch and Learn
DESCRIPTION:Topic: Top Apps for Realtors\nSponsored By: Schaefer Inspection Service\, Inc.
URL:https://tri-countyalliance.com/calendar/lunch-and-learn-13/
LOCATION:Tri-County Alliance Office\, 186 E. Center Street\, Manchester\, CT\, 06040\, United States
CATEGORIES:Lunch & Learn
ORGANIZER;CN="Marisol Dumeng":MAILTO:www.Tri.County@sbcglobal.net
END:VEVENT
BEGIN:VEVENT
DTSTART;TZID=UTC:20180712T180000
DTEND;TZID=UTC:20180712T210000
DTSTAMP:20260424T054228
CREATED:20180511T190418Z
LAST-MODIFIED:20180717T171816Z
UID:2619-1531418400-1531429200@tri-countyalliance.com
SUMMARY:CT Realtors Gubernatorial Democratic Debate
DESCRIPTION:A Night With the Gubernatorial Candidates: \n“Taste of New Haven” Food\, Beer\, Wine and Non-Alcoholic Beverages Included. Special Prize Drawings – Numerous Chances to Win! Register today to increase your chances of winning!! \nThere will be free parking or you can join us on the Tri-County bus. LIMITED SEATING – LOCK IN YOUR SEAT TODAY! Complimentary tickets for CTR members and 1 guest. \n\nLink to register for the event: https://www.ctrealtors.com/forms/debates-2018/ \n\nBus will be leaving\nEmail Tri.County@sbcglobal.net or call the office at 860-646-2450 if you plan on joining us on the bus.
URL:https://tri-countyalliance.com/calendar/cr-realtors-gubernatiorial-debates/
LOCATION:Shubert in New Haven\, 247 College Street\, New Haven\, CT\, 06510\, United States
ORGANIZER;CN="Marisol Dumeng":MAILTO:www.Tri.County@sbcglobal.net
END:VEVENT
BEGIN:VEVENT
DTSTART;TZID=UTC:20180718T163000
DTEND;TZID=UTC:20180718T183000
DTSTAMP:20260424T054228
CREATED:20171214T185046Z
LAST-MODIFIED:20180612T132144Z
UID:2269-1531931400-1531938600@tri-countyalliance.com
SUMMARY:Mixer
DESCRIPTION:Cash Bar\nAppetizers Sponsored By Freedom Mortgage\nLocation: Artisanal Burger in Manchester
URL:https://tri-countyalliance.com/calendar/mixer-29/
LOCATION:Artisanal Burger Company\, 1436 Pleasant Valley Road\, Manchester\, CT\, 06042\, United States
CATEGORIES:Mixers
ORGANIZER;CN="Marisol Dumeng":MAILTO:www.Tri.County@sbcglobal.net
END:VEVENT
BEGIN:VEVENT
DTSTART;TZID=UTC:20180725T114500
DTEND;TZID=UTC:20180725T130000
DTSTAMP:20260424T054228
CREATED:20171214T185146Z
LAST-MODIFIED:20180718T134315Z
UID:2270-1532519100-1532523600@tri-countyalliance.com
SUMMARY:Lunch and Learn
DESCRIPTION:Topic: Come learn about converting Zillow\, Trulia\, and Realtor.com leads using Facebook & Other Social Media Applications!\nSponsored By Flagstar Bank
URL:https://tri-countyalliance.com/calendar/lunch-and-learn-14/
LOCATION:Tri-County Alliance Office\, 186 E. Center Street\, Manchester\, CT\, 06040\, United States
CATEGORIES:Lunch & Learn
ORGANIZER;CN="Marisol Dumeng":MAILTO:www.Tri.County@sbcglobal.net
END:VEVENT
BEGIN:VEVENT
DTSTART;TZID=UTC:20180726T090000
DTEND;TZID=UTC:20180726T100000
DTSTAMP:20260424T054228
CREATED:20171214T185303Z
LAST-MODIFIED:20171214T185303Z
UID:2271-1532595600-1532599200@tri-countyalliance.com
SUMMARY:Education Committee Meeting
DESCRIPTION:
URL:https://tri-countyalliance.com/calendar/education-committee-meeting-19/
LOCATION:Tri-County Alliance Office\, 186 E. Center Street\, Manchester\, CT\, 06040\, United States
CATEGORIES:Committee Meetings
ORGANIZER;CN="Carol Cavalieri":MAILTO:carolcavalieri@sbcglobal.net
END:VEVENT
END:VCALENDAR