BEGIN:VCALENDAR
VERSION:2.0
PRODID:-//Tri-County Alliance - ECPv6.15.20//NONSGML v1.0//EN
CALSCALE:GREGORIAN
METHOD:PUBLISH
X-WR-CALNAME:Tri-County Alliance
X-ORIGINAL-URL:https://tri-countyalliance.com
X-WR-CALDESC:Events for Tri-County Alliance
REFRESH-INTERVAL;VALUE=DURATION:PT1H
X-Robots-Tag:noindex
X-PUBLISHED-TTL:PT1H
BEGIN:VTIMEZONE
TZID:UTC
BEGIN:STANDARD
TZOFFSETFROM:+0000
TZOFFSETTO:+0000
TZNAME:UTC
DTSTART:20170101T000000
END:STANDARD
END:VTIMEZONE
BEGIN:VEVENT
DTSTART;TZID=UTC:20180801T093000
DTEND;TZID=UTC:20180801T103000
DTSTAMP:20260424T041844
CREATED:20180109T144013Z
LAST-MODIFIED:20180109T144013Z
UID:2334-1533115800-1533119400@tri-countyalliance.com
SUMMARY:Communications and Social Media Committee Meeting
DESCRIPTION:
URL:https://tri-countyalliance.com/calendar/communications-and-social-media-committee-meeting-8/
LOCATION:Tri-County Alliance Office\, 186 E. Center Street\, Manchester\, CT\, 06040\, United States
CATEGORIES:Committee Meetings
ORGANIZER;CN="Norm DeLaura":MAILTO:norm.delaura@flagstar.com
END:VEVENT
BEGIN:VEVENT
DTSTART;TZID=UTC:20180801T093000
DTEND;TZID=UTC:20180801T103000
DTSTAMP:20260424T041844
CREATED:20180109T153530Z
LAST-MODIFIED:20180109T153530Z
UID:2364-1533115800-1533119400@tri-countyalliance.com
SUMMARY:Membership Committee Meeting
DESCRIPTION:
URL:https://tri-countyalliance.com/calendar/membership-committee-meeting-30/
LOCATION:Tri-County Alliance Office\, 186 E. Center Street\, Manchester\, CT\, 06040\, United States
CATEGORIES:Committee Meetings
ORGANIZER;CN="Steve Ferrigno":MAILTO:steven@ferrignorealtors.com
END:VEVENT
BEGIN:VEVENT
DTSTART;VALUE=DATE:20180806
DTEND;VALUE=DATE:20180807
DTSTAMP:20260424T041844
CREATED:20180723T154602Z
LAST-MODIFIED:20180723T154602Z
UID:2841-1533513600-1533599999@tri-countyalliance.com
SUMMARY:Office Closed
DESCRIPTION:Office Closed
URL:https://tri-countyalliance.com/calendar/office-closed-28/
LOCATION:Tri-County Alliance Office\, 186 E. Center Street\, Manchester\, CT\, 06040\, United States
CATEGORIES:Office Closings
ORGANIZER;CN="Marisol Dumeng":MAILTO:www.Tri.County@sbcglobal.net
END:VEVENT
BEGIN:VEVENT
DTSTART;TZID=UTC:20180809T114500
DTEND;TZID=UTC:20180809T130000
DTSTAMP:20260424T041844
CREATED:20171214T190622Z
LAST-MODIFIED:20180718T134122Z
UID:2272-1533815100-1533819600@tri-countyalliance.com
SUMMARY:Lunch and Learn
DESCRIPTION:Topic: Ask the Appraiser – The perfect opportunity to ask the Head of Norcom’s Appraisal Department any questions you may have pertaining to appraisals!\nSponsored By: Norcom Mortgage
URL:https://tri-countyalliance.com/calendar/lunch-and-learn-15/
LOCATION:Tri-County Alliance Office\, 186 E. Center Street\, Manchester\, CT\, 06040\, United States
ORGANIZER;CN="Marisol Dumeng":MAILTO:www.Tri.County@sbcglobal.net
END:VEVENT
BEGIN:VEVENT
DTSTART;TZID=UTC:20180814T090000
DTEND;TZID=UTC:20180814T100000
DTSTAMP:20260424T041844
CREATED:20171214T190726Z
LAST-MODIFIED:20171214T190726Z
UID:2273-1534237200-1534240800@tri-countyalliance.com
SUMMARY:Board of Directors Meeting
DESCRIPTION:
URL:https://tri-countyalliance.com/calendar/board-of-directors-meeting-27/
LOCATION:Tri-County Alliance Office\, 186 E. Center Street\, Manchester\, CT\, 06040\, United States
CATEGORIES:Board of Directors Meetings
ORGANIZER;CN="Marisol Dumeng":MAILTO:www.Tri.County@sbcglobal.net
END:VEVENT
BEGIN:VEVENT
DTSTART;TZID=UTC:20180815T100000
DTEND;TZID=UTC:20180815T110000
DTSTAMP:20260424T041844
CREATED:20171214T191203Z
LAST-MODIFIED:20180717T133524Z
UID:2274-1534327200-1534330800@tri-countyalliance.com
SUMMARY:Programs/Outreach Committee Meeting
DESCRIPTION:
URL:https://tri-countyalliance.com/calendar/programs-committee-meeting-29/
LOCATION:Tri-County Alliance Office\, 186 E. Center Street\, Manchester\, CT\, 06040\, United States
CATEGORIES:Committee Meetings
ORGANIZER;CN="Lisa Daniels":MAILTO:lisasellshouses@cox.net
END:VEVENT
BEGIN:VEVENT
DTSTART;TZID=UTC:20180816T090000
DTEND;TZID=UTC:20180816T100000
DTSTAMP:20260424T041844
CREATED:20171214T191334Z
LAST-MODIFIED:20180817T132526Z
UID:2276-1534410000-1534413600@tri-countyalliance.com
SUMMARY:Cancelled - Education Committee Meeting
DESCRIPTION:
URL:https://tri-countyalliance.com/calendar/education-committee-meeting-20/
LOCATION:Tri-County Alliance Office\, 186 E. Center Street\, Manchester\, CT\, 06040\, United States
CATEGORIES:Committee Meetings
ORGANIZER;CN="Carol Cavalieri":MAILTO:carolcavalieri@sbcglobal.net
END:VEVENT
BEGIN:VEVENT
DTSTART;TZID=UTC:20180816T163000
DTEND;TZID=UTC:20180816T183000
DTSTAMP:20260424T041844
CREATED:20171214T191655Z
LAST-MODIFIED:20180711T165429Z
UID:2277-1534437000-1534444200@tri-countyalliance.com
SUMMARY:Mixer
DESCRIPTION:Location: Market Grille in Manchester\, CT\nSponsored By Flagstar Bank
URL:https://tri-countyalliance.com/calendar/mixer-30/
LOCATION:The Market Grille\, 110 Buckland Hills Drive\, Manchester\, CT\, 06042\, United States
CATEGORIES:Mixers
ORGANIZER;CN="Marisol Dumeng":MAILTO:www.Tri.County@sbcglobal.net
END:VEVENT
BEGIN:VEVENT
DTSTART;TZID=UTC:20180822T140000
DTEND;TZID=UTC:20180822T150000
DTSTAMP:20260424T041844
CREATED:20180817T132415Z
LAST-MODIFIED:20180817T132415Z
UID:2883-1534946400-1534950000@tri-countyalliance.com
SUMMARY:Nomination Committee Meeting
DESCRIPTION:
URL:https://tri-countyalliance.com/calendar/nomination-committee-meeting/
LOCATION:Tri-County Alliance Office\, 186 E. Center Street\, Manchester\, CT\, 06040\, United States
CATEGORIES:Committee Meetings
ORGANIZER;CN="Marisol Dumeng":MAILTO:www.Tri.County@sbcglobal.net
END:VEVENT
BEGIN:VEVENT
DTSTART;TZID=UTC:20180829T114500
DTEND;TZID=UTC:20180829T130000
DTSTAMP:20260424T041844
CREATED:20171214T191749Z
LAST-MODIFIED:20180718T135235Z
UID:2278-1535543100-1535547600@tri-countyalliance.com
SUMMARY:Lunch and Learn
DESCRIPTION:Topic: TBD\nSponsored by Primary Residential Mortgage\, Inc.
URL:https://tri-countyalliance.com/calendar/lunch-and-learn-16/
LOCATION:Tri-County Alliance Office\, 186 E. Center Street\, Manchester\, CT\, 06040\, United States
CATEGORIES:Lunch & Learn
ORGANIZER;CN="Marisol Dumeng":MAILTO:www.Tri.County@sbcglobal.net
END:VEVENT
END:VCALENDAR