BEGIN:VCALENDAR
VERSION:2.0
PRODID:-//Tri-County Alliance - ECPv6.15.20//NONSGML v1.0//EN
CALSCALE:GREGORIAN
METHOD:PUBLISH
X-WR-CALNAME:Tri-County Alliance
X-ORIGINAL-URL:https://tri-countyalliance.com
X-WR-CALDESC:Events for Tri-County Alliance
REFRESH-INTERVAL;VALUE=DURATION:PT1H
X-Robots-Tag:noindex
X-PUBLISHED-TTL:PT1H
BEGIN:VTIMEZONE
TZID:UTC
BEGIN:STANDARD
TZOFFSETFROM:+0000
TZOFFSETTO:+0000
TZNAME:UTC
DTSTART:20170101T000000
END:STANDARD
END:VTIMEZONE
BEGIN:VEVENT
DTSTART;VALUE=DATE:20180903
DTEND;VALUE=DATE:20180904
DTSTAMP:20260424T024734
CREATED:20171214T192012Z
LAST-MODIFIED:20171214T192012Z
UID:2279-1535932800-1536019199@tri-countyalliance.com
SUMMARY:Office Closed
DESCRIPTION:
URL:https://tri-countyalliance.com/calendar/office-closed-24/
CATEGORIES:Office Closings
END:VEVENT
BEGIN:VEVENT
DTSTART;TZID=UTC:20180905T093000
DTEND;TZID=UTC:20180905T103000
DTSTAMP:20260424T024734
CREATED:20180109T144056Z
LAST-MODIFIED:20180109T144056Z
UID:2335-1536139800-1536143400@tri-countyalliance.com
SUMMARY:Communications and Social Media Committee Meeting
DESCRIPTION:
URL:https://tri-countyalliance.com/calendar/communications-and-social-media-committee-meeting-9/
LOCATION:Tri-County Alliance Office\, 186 E. Center Street\, Manchester\, CT\, 06040\, United States
CATEGORIES:Committee Meetings
ORGANIZER;CN="Norm DeLaura":MAILTO:norm.delaura@flagstar.com
END:VEVENT
BEGIN:VEVENT
DTSTART;TZID=UTC:20180905T093000
DTEND;TZID=UTC:20180905T103000
DTSTAMP:20260424T024734
CREATED:20180109T153610Z
LAST-MODIFIED:20180109T153610Z
UID:2365-1536139800-1536143400@tri-countyalliance.com
SUMMARY:Membership Committee Meeting
DESCRIPTION:
URL:https://tri-countyalliance.com/calendar/membership-committee-meeting-31/
LOCATION:Tri-County Alliance Office\, 186 E. Center Street\, Manchester\, CT\, 06040\, United States
CATEGORIES:Committee Meetings
ORGANIZER;CN="Steve Ferrigno":MAILTO:steven@ferrignorealtors.com
END:VEVENT
BEGIN:VEVENT
DTSTART;TZID=UTC:20180910T173000
DTEND;TZID=UTC:20180910T203000
DTSTAMP:20260424T024734
CREATED:20180717T140046Z
LAST-MODIFIED:20180801T144746Z
UID:2815-1536600600-1536611400@tri-countyalliance.com
SUMMARY:P & P Class
DESCRIPTION:
URL:https://tri-countyalliance.com/calendar/p-p-class/
LOCATION:Tri-County Alliance Office\, 186 E. Center Street\, Manchester\, CT\, 06040\, United States
CATEGORIES:P&P Class
ORGANIZER;CN="Robert Ferrigno":MAILTO:rferrigno@ferrignorealtors.com
END:VEVENT
BEGIN:VEVENT
DTSTART;TZID=UTC:20180911T090000
DTEND;TZID=UTC:20180911T100000
DTSTAMP:20260424T024734
CREATED:20171214T192111Z
LAST-MODIFIED:20171214T192111Z
UID:2280-1536656400-1536660000@tri-countyalliance.com
SUMMARY:Board of Directors Meeting
DESCRIPTION:
URL:https://tri-countyalliance.com/calendar/board-of-directors-meeting-28/
LOCATION:Tri-County Alliance Office\, 186 E. Center Street\, Manchester\, CT\, 06040\, United States
CATEGORIES:Board of Directors Meetings
ORGANIZER;CN="Marisol Dumeng":MAILTO:www.Tri.County@sbcglobal.net
END:VEVENT
BEGIN:VEVENT
DTSTART;TZID=UTC:20180912T163000
DTEND;TZID=UTC:20180912T183000
DTSTAMP:20260424T024734
CREATED:20171214T192522Z
LAST-MODIFIED:20180711T171120Z
UID:2281-1536769800-1536777000@tri-countyalliance.com
SUMMARY:Mixer
DESCRIPTION:Location: Beni’s Restaurant in Vernon\, CT \nSponsored By MacDermid\, Reynolds & Glissman
URL:https://tri-countyalliance.com/calendar/mixer-31/
LOCATION:Beni’s Restaurant\, 1280 Hartford Turnpike\, Vernon\, CT\, 06066\, United States
CATEGORIES:Mixers
ORGANIZER;CN="Marisol Dumeng":MAILTO:www.Tri.County@sbcglobal.net
END:VEVENT
BEGIN:VEVENT
DTSTART;TZID=UTC:20180912T173000
DTEND;TZID=UTC:20180912T203000
DTSTAMP:20260424T024734
CREATED:20180717T140448Z
LAST-MODIFIED:20180717T140448Z
UID:2816-1536773400-1536784200@tri-countyalliance.com
SUMMARY:P & P Class
DESCRIPTION:
URL:https://tri-countyalliance.com/calendar/p-p-class-2/
LOCATION:Tri-County Alliance Office\, 186 E. Center Street\, Manchester\, CT\, 06040\, United States
CATEGORIES:P&P Class
ORGANIZER;CN="Robert Ferrigno":MAILTO:rferrigno@ferrignorealtors.com
END:VEVENT
BEGIN:VEVENT
DTSTART;TZID=UTC:20180913T114500
DTEND;TZID=UTC:20180913T130000
DTSTAMP:20260424T024734
CREATED:20171219T165040Z
LAST-MODIFIED:20180914T174929Z
UID:2282-1536839100-1536843600@tri-countyalliance.com
SUMMARY:Cancelled - Lunch and Learn
DESCRIPTION:Topic: TBD\nSponsored By Embrace Home Loans
URL:https://tri-countyalliance.com/calendar/lunch-and-learn-17/
LOCATION:Tri-County Alliance Office\, 186 E. Center Street\, Manchester\, CT\, 06040\, United States
CATEGORIES:Lunch & Learn
ORGANIZER;CN="Marisol Dumeng":MAILTO:www.Tri.County@sbcglobal.net
END:VEVENT
BEGIN:VEVENT
DTSTART;TZID=UTC:20180913T173000
DTEND;TZID=UTC:20180913T193000
DTSTAMP:20260424T024734
CREATED:20180913T192821Z
LAST-MODIFIED:20180913T192821Z
UID:2930-1536859800-1536867000@tri-countyalliance.com
SUMMARY:Fill the Freezer Walk
DESCRIPTION:
URL:https://tri-countyalliance.com/calendar/fill-the-freezer-walk/
LOCATION:Center Springs Park\, 39 Lodge Drive\, Manchester\, CT\, 06040\, United States
ORGANIZER;CN="Marisol Dumeng":MAILTO:www.Tri.County@sbcglobal.net
END:VEVENT
BEGIN:VEVENT
DTSTART;TZID=UTC:20180915T090000
DTEND;TZID=UTC:20180915T130000
DTSTAMP:20260424T024734
CREATED:20180717T145633Z
LAST-MODIFIED:20180717T145633Z
UID:2822-1537002000-1537016400@tri-countyalliance.com
SUMMARY:P & P Class
DESCRIPTION:
URL:https://tri-countyalliance.com/calendar/p-p-class-6/
LOCATION:Tri-County Alliance Office\, 186 E. Center Street\, Manchester\, CT\, 06040\, United States
CATEGORIES:P&P Class
ORGANIZER;CN="Robert Ferrigno":MAILTO:rferrigno@ferrignorealtors.com
END:VEVENT
BEGIN:VEVENT
DTSTART;TZID=UTC:20180917T173000
DTEND;TZID=UTC:20180917T203000
DTSTAMP:20260424T024734
CREATED:20180717T141557Z
LAST-MODIFIED:20180717T141557Z
UID:2818-1537205400-1537216200@tri-countyalliance.com
SUMMARY:P & P Class
DESCRIPTION:
URL:https://tri-countyalliance.com/calendar/p-p-class-3/
LOCATION:Tri-County Alliance Office\, 186 E. Center Street\, Manchester\, CT\, 06040\, United States
CATEGORIES:P&P Class
ORGANIZER;CN="Robert Ferrigno":MAILTO:rferrigno@ferrignorealtors.com
END:VEVENT
BEGIN:VEVENT
DTSTART;TZID=UTC:20180919T100000
DTEND;TZID=UTC:20180919T110000
DTSTAMP:20260424T024734
CREATED:20171219T165223Z
LAST-MODIFIED:20180717T133928Z
UID:2283-1537351200-1537354800@tri-countyalliance.com
SUMMARY:Programs/Outreach Committee Meeting
DESCRIPTION:
URL:https://tri-countyalliance.com/calendar/programs-committee-meeting-30/
LOCATION:Tri-County Alliance Office\, 186 E. Center Street\, Manchester\, CT\, 06040\, United States
CATEGORIES:Committee Meetings
ORGANIZER;CN="Lisa Daniels":MAILTO:lisasellshouses@cox.net
END:VEVENT
BEGIN:VEVENT
DTSTART;TZID=UTC:20180919T173000
DTEND;TZID=UTC:20180919T203000
DTSTAMP:20260424T024734
CREATED:20180717T141903Z
LAST-MODIFIED:20180717T141903Z
UID:2819-1537378200-1537389000@tri-countyalliance.com
SUMMARY:P & P Class
DESCRIPTION:
URL:https://tri-countyalliance.com/calendar/p-p-class-4/
LOCATION:Tri-County Alliance Office\, 186 E. Center Street\, Manchester\, CT\, 06040\, United States
CATEGORIES:P&P Class
ORGANIZER;CN="Robert Ferrigno":MAILTO:rferrigno@ferrignorealtors.com
END:VEVENT
BEGIN:VEVENT
DTSTART;TZID=UTC:20180920T090000
DTEND;TZID=UTC:20180920T100000
DTSTAMP:20260424T024734
CREATED:20171219T165530Z
LAST-MODIFIED:20171219T165530Z
UID:2285-1537434000-1537437600@tri-countyalliance.com
SUMMARY:Education Committee Meeting
DESCRIPTION:
URL:https://tri-countyalliance.com/calendar/education-committee-meeting-21/
LOCATION:Tri-County Alliance Office\, 186 E. Center Street\, Manchester\, CT\, 06040\, United States
CATEGORIES:Committee Meetings
ORGANIZER;CN="Carol Cavalieri":MAILTO:carolcavalieri@sbcglobal.net
END:VEVENT
BEGIN:VEVENT
DTSTART;TZID=UTC:20180920T100000
DTEND;TZID=UTC:20180920T110000
DTSTAMP:20260424T024734
CREATED:20180822T154011Z
LAST-MODIFIED:20180822T154011Z
UID:2899-1537437600-1537441200@tri-countyalliance.com
SUMMARY:RPAC Fundraising and Political Committee Meeting
DESCRIPTION:
URL:https://tri-countyalliance.com/calendar/rpac-fundraising-and-political-committee-meeting-6/
LOCATION:Tri-County Alliance Office\, 186 E. Center Street\, Manchester\, CT\, 06040\, United States
CATEGORIES:Committee Meetings
ORGANIZER;CN="Frost Krist":MAILTO:frostkrist@aol.com
END:VEVENT
BEGIN:VEVENT
DTSTART;TZID=UTC:20180924T173000
DTEND;TZID=UTC:20180924T203000
DTSTAMP:20260424T024734
CREATED:20180717T150031Z
LAST-MODIFIED:20180717T150031Z
UID:2824-1537810200-1537821000@tri-countyalliance.com
SUMMARY:P & P Class
DESCRIPTION:
URL:https://tri-countyalliance.com/calendar/p-p-class-5/
LOCATION:Tri-County Alliance Office\, 186 E. Center Street\, Manchester\, CT\, 06040\, United States
CATEGORIES:P&P Class
ORGANIZER;CN="Robert Ferrigno":MAILTO:rferrigno@ferrignorealtors.com
END:VEVENT
BEGIN:VEVENT
DTSTART;TZID=UTC:20180925T090000
DTEND;TZID=UTC:20180925T100000
DTSTAMP:20260424T024734
CREATED:20180918T133553Z
LAST-MODIFIED:20180918T133553Z
UID:2934-1537866000-1537869600@tri-countyalliance.com
SUMMARY:Budget Committee Meeting
DESCRIPTION:
URL:https://tri-countyalliance.com/calendar/budget-committee-meeting-5/
LOCATION:Tri-County Alliance Office\, 186 E. Center Street\, Manchester\, CT\, 06040\, United States
CATEGORIES:Committee Meetings
ORGANIZER;CN="Marisol Dumeng":MAILTO:www.Tri.County@sbcglobal.net
END:VEVENT
BEGIN:VEVENT
DTSTART;TZID=UTC:20180926T114500
DTEND;TZID=UTC:20180926T130000
DTSTAMP:20260424T024734
CREATED:20171219T165732Z
LAST-MODIFIED:20180711T172608Z
UID:2286-1537962300-1537966800@tri-countyalliance.com
SUMMARY:Lunch and Learn
DESCRIPTION:Topic: TBD\nSponsored By Homebridge Financial Services
URL:https://tri-countyalliance.com/calendar/lunch-and-learn-18/
LOCATION:Tri-County Alliance Office\, 186 E. Center Street\, Manchester\, CT\, 06040\, United States
CATEGORIES:Lunch & Learn
ORGANIZER;CN="Marisol Dumeng":MAILTO:www.Tri.County@sbcglobal.net
END:VEVENT
BEGIN:VEVENT
DTSTART;TZID=UTC:20180926T173000
DTEND;TZID=UTC:20180926T203000
DTSTAMP:20260424T024734
CREATED:20180717T150116Z
LAST-MODIFIED:20180717T150116Z
UID:2825-1537983000-1537993800@tri-countyalliance.com
SUMMARY:P & P Class
DESCRIPTION:
URL:https://tri-countyalliance.com/calendar/p-p-class-7/
LOCATION:Tri-County Alliance Office\, 186 E. Center Street\, Manchester\, CT\, 06040\, United States
CATEGORIES:P&P Class
ORGANIZER;CN="Robert Ferrigno":MAILTO:rferrigno@ferrignorealtors.com
END:VEVENT
BEGIN:VEVENT
DTSTART;TZID=UTC:20180927T083000
DTEND;TZID=UTC:20180927T100000
DTSTAMP:20260424T024734
CREATED:20171219T165832Z
LAST-MODIFIED:20180919T161618Z
UID:2287-1538037000-1538042400@tri-countyalliance.com
SUMMARY:Membership Breakfast Meeting
DESCRIPTION:Featuring Our Famous Lawyer Panel:\nMichael Bonanno with Tavano\, McCuin\, Bonanno & Collins\, LLC\nGary Lavigne with Lavigne\, Mark\, Rogers & Bruggeman\, LLC\nDouglas Manion with Kahan\, Kerensky & Capossela\, LLP \nSponsored By: American Eagle Financial Credit Union \n*Full Breakfast Buffet\n*RPAC Prizes\n*Production Awards – 2nd Quarter 2018 \nDon’t forget to send in your Awards Affidavit for 2nd Quarter 2018!! \nCLICK HERE FOR THE AWARD AFFIDAVIT FORM \nCLICK HERE TO REGISTER \n 
URL:https://tri-countyalliance.com/calendar/membership-breakfast-meeting-7/
LOCATION:Manchester Country Club\, 305 South Main Street\, Manchester\, CT\, 06040\, United States
CATEGORIES:Membership Breakfast Meeting
ORGANIZER;CN="Marisol Dumeng":MAILTO:www.Tri.County@sbcglobal.net
END:VEVENT
BEGIN:VEVENT
DTSTART;TZID=UTC:20180929T090000
DTEND;TZID=UTC:20180929T130000
DTSTAMP:20260424T024734
CREATED:20180717T150149Z
LAST-MODIFIED:20180717T150149Z
UID:2826-1538211600-1538226000@tri-countyalliance.com
SUMMARY:P & P Class
DESCRIPTION:
URL:https://tri-countyalliance.com/calendar/p-p-class-8/
LOCATION:Tri-County Alliance Office\, 186 E. Center Street\, Manchester\, CT\, 06040\, United States
CATEGORIES:P&P Class
ORGANIZER;CN="Robert Ferrigno":MAILTO:rferrigno@ferrignorealtors.com
END:VEVENT
END:VCALENDAR