BEGIN:VCALENDAR
VERSION:2.0
PRODID:-//Tri-County Alliance - ECPv6.15.20//NONSGML v1.0//EN
CALSCALE:GREGORIAN
METHOD:PUBLISH
X-WR-CALNAME:Tri-County Alliance
X-ORIGINAL-URL:https://tri-countyalliance.com
X-WR-CALDESC:Events for Tri-County Alliance
REFRESH-INTERVAL;VALUE=DURATION:PT1H
X-Robots-Tag:noindex
X-PUBLISHED-TTL:PT1H
BEGIN:VTIMEZONE
TZID:UTC
BEGIN:STANDARD
TZOFFSETFROM:+0000
TZOFFSETTO:+0000
TZNAME:UTC
DTSTART:20180101T000000
END:STANDARD
END:VTIMEZONE
BEGIN:VEVENT
DTSTART;TZID=UTC:20190101T080000
DTEND;TZID=UTC:20190101T170000
DTSTAMP:20260423T195859
CREATED:20181204T213404Z
LAST-MODIFIED:20181204T213404Z
UID:3219-1546329600-1546362000@tri-countyalliance.com
SUMMARY:Office Closed
DESCRIPTION:
URL:https://tri-countyalliance.com/calendar/office-closed-31/
CATEGORIES:Office Closings
END:VEVENT
BEGIN:VEVENT
DTSTART;TZID=UTC:20190108T090000
DTEND;TZID=UTC:20190108T100000
DTSTAMP:20260423T195859
CREATED:20181226T175009Z
LAST-MODIFIED:20181226T175009Z
UID:3256-1546938000-1546941600@tri-countyalliance.com
SUMMARY:Board of Directors Meeting
DESCRIPTION:
URL:https://tri-countyalliance.com/calendar/board-of-directors-meeting-33/
LOCATION:Tri-County Alliance Office\, 186 E. Center Street\, Manchester\, CT\, 06040\, United States
CATEGORIES:Board of Directors Meetings
ORGANIZER;CN="Marisol Dumeng":MAILTO:www.Tri.County@sbcglobal.net
END:VEVENT
BEGIN:VEVENT
DTSTART;TZID=UTC:20190109T093000
DTEND;TZID=UTC:20190109T103000
DTSTAMP:20260423T195859
CREATED:20181226T175134Z
LAST-MODIFIED:20181226T175134Z
UID:3257-1547026200-1547029800@tri-countyalliance.com
SUMMARY:Membership/Social Media Committee Meeting
DESCRIPTION:
URL:https://tri-countyalliance.com/calendar/membership-social-media-committee-meeting/
LOCATION:Tri-County Alliance Office\, 186 E. Center Street\, Manchester\, CT\, 06040\, United States
CATEGORIES:Committee Meetings,Membership Meetings
ORGANIZER;CN="Steve Ferrigno":MAILTO:steven@ferrignorealtors.com
END:VEVENT
BEGIN:VEVENT
DTSTART;TZID=UTC:20190114T173000
DTEND;TZID=UTC:20190114T203000
DTSTAMP:20260423T195859
CREATED:20181221T152603Z
LAST-MODIFIED:20181221T152603Z
UID:3232-1547487000-1547497800@tri-countyalliance.com
SUMMARY:Real Estate P&P Course
DESCRIPTION:
URL:https://tri-countyalliance.com/calendar/real-estate-pp-course/
LOCATION:Tri-County Alliance Office\, 186 E. Center Street\, Manchester\, CT\, 06040\, United States
CATEGORIES:P&P Class
ORGANIZER;CN="Robert Ferrigno":MAILTO:rferrigno@ferrignorealtors.com
END:VEVENT
BEGIN:VEVENT
DTSTART;TZID=UTC:20190116T173000
DTEND;TZID=UTC:20190116T203000
DTSTAMP:20260423T195859
CREATED:20181226T154322Z
LAST-MODIFIED:20181226T154322Z
UID:3235-1547659800-1547670600@tri-countyalliance.com
SUMMARY:Real Estate P&P Course
DESCRIPTION:
URL:https://tri-countyalliance.com/calendar/real-estate-pp-course-2/
LOCATION:Tri-County Alliance Office\, 186 E. Center Street\, Manchester\, CT\, 06040\, United States
CATEGORIES:P&P Class
ORGANIZER;CN="Robert Ferrigno":MAILTO:rferrigno@ferrignorealtors.com
END:VEVENT
BEGIN:VEVENT
DTSTART;TZID=UTC:20190117T090000
DTEND;TZID=UTC:20190117T100000
DTSTAMP:20260423T195859
CREATED:20181226T180631Z
LAST-MODIFIED:20181226T180631Z
UID:3261-1547715600-1547719200@tri-countyalliance.com
SUMMARY:Education Committee Meeting
DESCRIPTION:
URL:https://tri-countyalliance.com/calendar/education-committee-meeting-24/
LOCATION:Tri-County Alliance Office\, 186 E. Center Street\, Manchester\, CT\, 06040\, United States
CATEGORIES:Committee Meetings,Education
END:VEVENT
BEGIN:VEVENT
DTSTART;TZID=UTC:20190117T103000
DTEND;TZID=UTC:20190117T113000
DTSTAMP:20260423T195900
CREATED:20181226T180531Z
LAST-MODIFIED:20190111T175704Z
UID:3260-1547721000-1547724600@tri-countyalliance.com
SUMMARY:Programs/Outreach Committee Meeting
DESCRIPTION:
URL:https://tri-countyalliance.com/calendar/programs-outreach-committee-meeting-2/
LOCATION:Tri-County Alliance Office\, 186 E. Center Street\, Manchester\, CT\, 06040\, United States
CATEGORIES:Committee Meetings,Community Outreach
END:VEVENT
BEGIN:VEVENT
DTSTART;TZID=UTC:20190117T114500
DTEND;TZID=UTC:20190117T130000
DTSTAMP:20260423T195900
CREATED:20181226T180038Z
LAST-MODIFIED:20190102T151621Z
UID:3258-1547725500-1547730000@tri-countyalliance.com
SUMMARY:Lunch & Learn
DESCRIPTION:TOPIC: Tax Reform and Real Estate Agents\nCome and learn about the massive changes to the tax code and its impact on realtors as individuals and on their businesses. \nSponsored by Priority Tax Services
URL:https://tri-countyalliance.com/calendar/lunch-learn-33/
LOCATION:Tri-County Alliance Office\, 186 E. Center Street\, Manchester\, CT\, 06040\, United States
CATEGORIES:Lunch & Learn
ORGANIZER;CN="Marisol Dumeng":MAILTO:www.Tri.County@sbcglobal.net
END:VEVENT
BEGIN:VEVENT
DTSTART;TZID=UTC:20190121T173000
DTEND;TZID=UTC:20190121T203000
DTSTAMP:20260423T195900
CREATED:20181226T154938Z
LAST-MODIFIED:20181226T154938Z
UID:3236-1548091800-1548102600@tri-countyalliance.com
SUMMARY:Real Estate P&P Course
DESCRIPTION:
URL:https://tri-countyalliance.com/calendar/real-estate-pp-course-3/
LOCATION:Tri-County Alliance Office\, 186 E. Center Street\, Manchester\, CT\, 06040\, United States
CATEGORIES:P&P Class
ORGANIZER;CN="Robert Ferrigno":MAILTO:rferrigno@ferrignorealtors.com
END:VEVENT
BEGIN:VEVENT
DTSTART;TZID=UTC:20190123T163000
DTEND;TZID=UTC:20190123T183000
DTSTAMP:20260423T195900
CREATED:20181226T181157Z
LAST-MODIFIED:20190102T160130Z
UID:3263-1548261000-1548268200@tri-countyalliance.com
SUMMARY:Mixer
DESCRIPTION:Location: Dimitri’s Restaurant in Coventry\nCash Bar\nAppetizers sponsored by Norcom Mortgage
URL:https://tri-countyalliance.com/calendar/mixer-35/
LOCATION:Dimitri’s Restaurant\, 3444 Main Street\, Coventry\, 06238
CATEGORIES:Mixers
ORGANIZER;CN="Marisol Dumeng":MAILTO:www.Tri.County@sbcglobal.net
END:VEVENT
BEGIN:VEVENT
DTSTART;TZID=UTC:20190123T173000
DTEND;TZID=UTC:20190123T203000
DTSTAMP:20260423T195900
CREATED:20181226T155353Z
LAST-MODIFIED:20181226T155353Z
UID:3237-1548264600-1548275400@tri-countyalliance.com
SUMMARY:Real Estate P&P Course
DESCRIPTION:
URL:https://tri-countyalliance.com/calendar/real-estate-pp-course-4/
LOCATION:Tri-County Alliance Office\, 186 E. Center Street\, Manchester\, CT\, 06040\, United States
CATEGORIES:P&P Class
ORGANIZER;CN="Robert Ferrigno":MAILTO:rferrigno@ferrignorealtors.com
END:VEVENT
BEGIN:VEVENT
DTSTART;TZID=UTC:20190128T173000
DTEND;TZID=UTC:20190128T203000
DTSTAMP:20260423T195900
CREATED:20181226T155513Z
LAST-MODIFIED:20181226T155513Z
UID:3238-1548696600-1548707400@tri-countyalliance.com
SUMMARY:Real Estate P&P Course
DESCRIPTION:
URL:https://tri-countyalliance.com/calendar/real-estate-pp-course-5/
LOCATION:Tri-County Alliance Office\, 186 E. Center Street\, Manchester\, CT\, 06040\, United States
CATEGORIES:P&P Class
ORGANIZER;CN="Robert Ferrigno":MAILTO:rferrigno@ferrignorealtors.com
END:VEVENT
BEGIN:VEVENT
DTSTART;TZID=UTC:20190129T114500
DTEND;TZID=UTC:20190129T130000
DTSTAMP:20260423T195900
CREATED:20181226T180732Z
LAST-MODIFIED:20190128T162233Z
UID:3262-1548762300-1548766800@tri-countyalliance.com
SUMMARY:Lunch & Learn
DESCRIPTION:TOPIC: Let’s talk about the Government Shutdown and\nthe mortgage changes that take effect in 2019. \n\nWhat’s actually shut down\nFannie and Freddie guideline revisions. What does that mean?\nFHA\, USDA\, VA. Are there any delays?\nIRS Transcripts. What do we do to collect that info?\nInterest rates now\, and forecast for the rest of the year.\nThe Chenoa program for first time homebuyers.\n\nSponsored by Primary Residential Mortgage\, Inc. \nREGISTRATION REQUIRED\nClick here to register
URL:https://tri-countyalliance.com/calendar/lunch-learn-35/
LOCATION:Tri-County Alliance Office\, 186 E. Center Street\, Manchester\, CT\, 06040\, United States
CATEGORIES:Lunch & Learn
ORGANIZER;CN="Marisol Dumeng":MAILTO:www.Tri.County@sbcglobal.net
END:VEVENT
BEGIN:VEVENT
DTSTART;TZID=UTC:20190130T173000
DTEND;TZID=UTC:20190130T203000
DTSTAMP:20260423T195900
CREATED:20181226T155552Z
LAST-MODIFIED:20190301T150418Z
UID:3239-1548869400-1548880200@tri-countyalliance.com
SUMMARY:Real Estate P&P Course - RESCHEDULED DUE TO WEATHER
DESCRIPTION:Makeup Class scheduled for 2/23/2019 (8:00AM – 11:00AM) at the board office.
URL:https://tri-countyalliance.com/calendar/real-estate-pp-course-6/
LOCATION:Tri-County Alliance Office\, 186 E. Center Street\, Manchester\, CT\, 06040\, United States
CATEGORIES:P&P Class
ORGANIZER;CN="Robert Ferrigno":MAILTO:rferrigno@ferrignorealtors.com
END:VEVENT
END:VCALENDAR