BEGIN:VCALENDAR
VERSION:2.0
PRODID:-//Tri-County Alliance - ECPv6.15.20//NONSGML v1.0//EN
CALSCALE:GREGORIAN
METHOD:PUBLISH
X-WR-CALNAME:Tri-County Alliance
X-ORIGINAL-URL:https://tri-countyalliance.com
X-WR-CALDESC:Events for Tri-County Alliance
REFRESH-INTERVAL;VALUE=DURATION:PT1H
X-Robots-Tag:noindex
X-PUBLISHED-TTL:PT1H
BEGIN:VTIMEZONE
TZID:UTC
BEGIN:STANDARD
TZOFFSETFROM:+0000
TZOFFSETTO:+0000
TZNAME:UTC
DTSTART:20180101T000000
END:STANDARD
END:VTIMEZONE
BEGIN:VEVENT
DTSTART;TZID=UTC:20190304T110000
DTEND;TZID=UTC:20190304T140000
DTSTAMP:20260423T165559
CREATED:20190301T142953Z
LAST-MODIFIED:20190304T180603Z
UID:3598-1551697200-1551708000@tri-countyalliance.com
SUMMARY:CANCELLED DUE TO SNOW - RPAC Phone Bank
DESCRIPTION:
URL:https://tri-countyalliance.com/calendar/rpac-phone-bank/
LOCATION:Tri-County Alliance Office\, 186 E. Center Street\, Manchester\, CT\, 06040\, United States
END:VEVENT
BEGIN:VEVENT
DTSTART;TZID=UTC:20190304T173000
DTEND;TZID=UTC:20190304T203000
DTSTAMP:20260423T165559
CREATED:20181226T160234Z
LAST-MODIFIED:20181226T160234Z
UID:3248-1551720600-1551731400@tri-countyalliance.com
SUMMARY:Real Estate P&P Course
DESCRIPTION:
URL:https://tri-countyalliance.com/calendar/real-estate-pp-course-15/
LOCATION:Tri-County Alliance Office\, 186 E. Center Street\, Manchester\, CT\, 06040\, United States
CATEGORIES:P&P Class
ORGANIZER;CN="Robert Ferrigno":MAILTO:rferrigno@ferrignorealtors.com
END:VEVENT
BEGIN:VEVENT
DTSTART;TZID=UTC:20190305T114500
DTEND;TZID=UTC:20190305T130000
DTSTAMP:20260423T165559
CREATED:20181228T171346Z
LAST-MODIFIED:20190304T180423Z
UID:3278-1551786300-1551790800@tri-countyalliance.com
SUMMARY:Lunch & Learn
DESCRIPTION:Topic: Let’s talk about The Credit Report \n\nHow and why are Credit Reports used?\nWhat is a Credit Score and how can my clients fix it?\nUnethical Credit Repair Tactics – how to deal with them?\nWhat has changed in the Credit  Reporting Game?\nHow can I best advise my client to increase their score?\n\nSponsored by Liberty Bank\nREGISTRATION REQUIRED.Click here to register.
URL:https://tri-countyalliance.com/calendar/lunch-learn-42/
LOCATION:Tri-County Alliance Office\, 186 E. Center Street\, Manchester\, CT\, 06040\, United States
CATEGORIES:Lunch & Learn
END:VEVENT
BEGIN:VEVENT
DTSTART;TZID=UTC:20190306T093000
DTEND;TZID=UTC:20190306T103000
DTSTAMP:20260423T165559
CREATED:20181228T171433Z
LAST-MODIFIED:20181228T173006Z
UID:3279-1551864600-1551868200@tri-countyalliance.com
SUMMARY:Membership/Social Media Committee Meeting
DESCRIPTION:
URL:https://tri-countyalliance.com/calendar/membership-social-media-committee-meeting-3/
LOCATION:Tri-County Alliance Office\, 186 E. Center Street\, Manchester\, CT\, 06040\, United States
CATEGORIES:Committee Meetings,Membership Meetings
ORGANIZER;CN="Steve Ferrigno":MAILTO:steven@ferrignorealtors.com
END:VEVENT
BEGIN:VEVENT
DTSTART;TZID=UTC:20190306T173000
DTEND;TZID=UTC:20190306T203000
DTSTAMP:20260423T165559
CREATED:20181226T160323Z
LAST-MODIFIED:20181226T160323Z
UID:3249-1551893400-1551904200@tri-countyalliance.com
SUMMARY:Real Estate P&P Course
DESCRIPTION:
URL:https://tri-countyalliance.com/calendar/real-estate-pp-course-16/
LOCATION:Tri-County Alliance Office\, 186 E. Center Street\, Manchester\, CT\, 06040\, United States
CATEGORIES:P&P Class
ORGANIZER;CN="Robert Ferrigno":MAILTO:rferrigno@ferrignorealtors.com
END:VEVENT
BEGIN:VEVENT
DTSTART;TZID=UTC:20190307T083000
DTEND;TZID=UTC:20190307T093000
DTSTAMP:20260423T165559
CREATED:20190426T142140Z
LAST-MODIFIED:20190426T142140Z
UID:3734-1551947400-1551951000@tri-countyalliance.com
SUMMARY:Broker Breakfast
DESCRIPTION:Join us for a free continental breakfast and discover what Tri-County Alliance of REALTORS® can do for you and your agents!\nREGISTRATION REQUIRED: Click here to register.
URL:https://tri-countyalliance.com/calendar/broker-breakfast/
LOCATION:Tri-County Alliance Office\, 186 E. Center Street\, Manchester\, CT\, 06040\, United States
CATEGORIES:Broker Breakfast
ORGANIZER;CN="Marisol Dumeng":MAILTO:www.Tri.County@sbcglobal.net
END:VEVENT
BEGIN:VEVENT
DTSTART;TZID=UTC:20190311T173000
DTEND;TZID=UTC:20190311T203000
DTSTAMP:20260423T165559
CREATED:20181226T160354Z
LAST-MODIFIED:20181226T160354Z
UID:3250-1552325400-1552336200@tri-countyalliance.com
SUMMARY:Real Estate P&P Course
DESCRIPTION:
URL:https://tri-countyalliance.com/calendar/real-estate-pp-course-17/
LOCATION:Tri-County Alliance Office\, 186 E. Center Street\, Manchester\, CT\, 06040\, United States
CATEGORIES:P&P Class
ORGANIZER;CN="Robert Ferrigno":MAILTO:rferrigno@ferrignorealtors.com
END:VEVENT
BEGIN:VEVENT
DTSTART;TZID=UTC:20190312T090000
DTEND;TZID=UTC:20190312T100000
DTSTAMP:20260423T165559
CREATED:20181228T173206Z
LAST-MODIFIED:20181228T173206Z
UID:3280-1552381200-1552384800@tri-countyalliance.com
SUMMARY:Board of Directors Meeting
DESCRIPTION:
URL:https://tri-countyalliance.com/calendar/board-of-directors-meeting-35/
LOCATION:Tri-County Alliance Office\, 186 E. Center Street\, Manchester\, CT\, 06040\, United States
CATEGORIES:Board of Directors Meetings
ORGANIZER;CN="Marisol Dumeng":MAILTO:www.Tri.County@sbcglobal.net
END:VEVENT
BEGIN:VEVENT
DTSTART;TZID=UTC:20190313T110000
DTEND;TZID=UTC:20190313T140000
DTSTAMP:20260423T165559
CREATED:20190304T180652Z
LAST-MODIFIED:20190304T180652Z
UID:3606-1552474800-1552485600@tri-countyalliance.com
SUMMARY:RPAC Phone Bank
DESCRIPTION:
URL:https://tri-countyalliance.com/calendar/rpac-phone-bank-2/
LOCATION:Tri-County Alliance Office\, 186 E. Center Street\, Manchester\, CT\, 06040\, United States
CATEGORIES:RPAC Phone-A-Thon
END:VEVENT
BEGIN:VEVENT
DTSTART;TZID=UTC:20190313T173000
DTEND;TZID=UTC:20190313T203000
DTSTAMP:20260423T165559
CREATED:20181226T160428Z
LAST-MODIFIED:20181226T160428Z
UID:3251-1552498200-1552509000@tri-countyalliance.com
SUMMARY:Real Estate P&P Course
DESCRIPTION:
URL:https://tri-countyalliance.com/calendar/real-estate-pp-course-18/
LOCATION:Tri-County Alliance Office\, 186 E. Center Street\, Manchester\, CT\, 06040\, United States
CATEGORIES:P&P Class
ORGANIZER;CN="Robert Ferrigno":MAILTO:rferrigno@ferrignorealtors.com
END:VEVENT
BEGIN:VEVENT
DTSTART;TZID=UTC:20190314T163000
DTEND;TZID=UTC:20190314T183000
DTSTAMP:20260423T165559
CREATED:20181228T173259Z
LAST-MODIFIED:20190306T144430Z
UID:3281-1552581000-1552588200@tri-countyalliance.com
SUMMARY:Mixer
DESCRIPTION:Location: Wood-N-Tap in Vernon\nCash Bar\nAppetizers sponsored by Primary Residential Mortgage\, Inc.
URL:https://tri-countyalliance.com/calendar/mixer-37/
LOCATION:Wood-N-Tap\, 236 Hartford Tpke\, Vernon\, 06066
CATEGORIES:Mixers
END:VEVENT
BEGIN:VEVENT
DTSTART;TZID=UTC:20190316T090000
DTEND;TZID=UTC:20190316T120000
DTSTAMP:20260423T165559
CREATED:20190301T150057Z
LAST-MODIFIED:20190301T150120Z
UID:3599-1552726800-1552737600@tri-countyalliance.com
SUMMARY:Real Estate P&P Course
DESCRIPTION:2/20/2019 Makeup Class
URL:https://tri-countyalliance.com/calendar/real-estate-pp-course-23/
LOCATION:Tri-County Alliance Office\, 186 E. Center Street\, Manchester\, CT\, 06040\, United States
CATEGORIES:P&P Class
ORGANIZER;CN="Robert Ferrigno":MAILTO:rferrigno@ferrignorealtors.com
END:VEVENT
BEGIN:VEVENT
DTSTART;TZID=UTC:20190318T173000
DTEND;TZID=UTC:20190318T203000
DTSTAMP:20260423T165559
CREATED:20181226T160502Z
LAST-MODIFIED:20181226T160502Z
UID:3252-1552930200-1552941000@tri-countyalliance.com
SUMMARY:Real Estate P&P Course
DESCRIPTION:
URL:https://tri-countyalliance.com/calendar/real-estate-pp-course-19/
LOCATION:Tri-County Alliance Office\, 186 E. Center Street\, Manchester\, CT\, 06040\, United States
CATEGORIES:P&P Class
ORGANIZER;CN="Robert Ferrigno":MAILTO:rferrigno@ferrignorealtors.com
END:VEVENT
BEGIN:VEVENT
DTSTART;TZID=UTC:20190320T100000
DTEND;TZID=UTC:20190320T110000
DTSTAMP:20260423T165559
CREATED:20190102T163430Z
LAST-MODIFIED:20190102T163430Z
UID:3288-1553076000-1553079600@tri-countyalliance.com
SUMMARY:Programs/Outreach Committee Meeting
DESCRIPTION:
URL:https://tri-countyalliance.com/calendar/programs-outreach-committee-meeting-4/
LOCATION:Tri-County Alliance Office\, 186 E. Center Street\, Manchester\, CT\, 06040\, United States
CATEGORIES:Committee Meetings
END:VEVENT
BEGIN:VEVENT
DTSTART;TZID=UTC:20190320T114500
DTEND;TZID=UTC:20190320T130000
DTSTAMP:20260423T165559
CREATED:20181228T173335Z
LAST-MODIFIED:20190315T144221Z
UID:3282-1553082300-1553086800@tri-countyalliance.com
SUMMARY:Lunch & Learn
DESCRIPTION:Topic: Understanding Government Lending Products \nSponsored by Envoy Mortgage \nREGISTRATION REQUIRED: Click here to register.
URL:https://tri-countyalliance.com/calendar/lunch-learn-43/
LOCATION:Tri-County Alliance Office\, 186 E. Center Street\, Manchester\, CT\, 06040\, United States
CATEGORIES:Lunch & Learn
END:VEVENT
BEGIN:VEVENT
DTSTART;TZID=UTC:20190320T173000
DTEND;TZID=UTC:20190320T203000
DTSTAMP:20260423T165559
CREATED:20181226T160537Z
LAST-MODIFIED:20181226T160537Z
UID:3253-1553103000-1553113800@tri-countyalliance.com
SUMMARY:Real Estate P&P Course
DESCRIPTION:
URL:https://tri-countyalliance.com/calendar/real-estate-pp-course-20/
LOCATION:Tri-County Alliance Office\, 186 E. Center Street\, Manchester\, CT\, 06040\, United States
CATEGORIES:P&P Class
ORGANIZER;CN="Robert Ferrigno":MAILTO:rferrigno@ferrignorealtors.com
END:VEVENT
BEGIN:VEVENT
DTSTART;TZID=UTC:20190321T090000
DTEND;TZID=UTC:20190321T100000
DTSTAMP:20260423T165559
CREATED:20190102T163529Z
LAST-MODIFIED:20190102T163529Z
UID:3289-1553158800-1553162400@tri-countyalliance.com
SUMMARY:Education Committee Meeting
DESCRIPTION:
URL:https://tri-countyalliance.com/calendar/education-committee-meeting-26/
LOCATION:Tri-County Alliance Office\, 186 E. Center Street\, Manchester\, CT\, 06040\, United States
CATEGORIES:Committee Meetings,Education
END:VEVENT
BEGIN:VEVENT
DTSTART;TZID=UTC:20190325T173000
DTEND;TZID=UTC:20190325T203000
DTSTAMP:20260423T165559
CREATED:20181226T160610Z
LAST-MODIFIED:20181226T160610Z
UID:3254-1553535000-1553545800@tri-countyalliance.com
SUMMARY:Real Estate P&P Course
DESCRIPTION:
URL:https://tri-countyalliance.com/calendar/real-estate-pp-course-21/
LOCATION:Tri-County Alliance Office\, 186 E. Center Street\, Manchester\, CT\, 06040\, United States
CATEGORIES:P&P Class
ORGANIZER;CN="Robert Ferrigno":MAILTO:rferrigno@ferrignorealtors.com
END:VEVENT
BEGIN:VEVENT
DTSTART;TZID=UTC:20190327T173000
DTEND;TZID=UTC:20190327T203000
DTSTAMP:20260423T165559
CREATED:20181226T160655Z
LAST-MODIFIED:20181226T160655Z
UID:3255-1553707800-1553718600@tri-countyalliance.com
SUMMARY:Real Estate P&P Course (Final Exam)
DESCRIPTION:
URL:https://tri-countyalliance.com/calendar/real-estate-pp-course-final-exam/
LOCATION:Tri-County Alliance Office\, 186 E. Center Street\, Manchester\, CT\, 06040\, United States
CATEGORIES:P&P Class
ORGANIZER;CN="Robert Ferrigno":MAILTO:rferrigno@ferrignorealtors.com
END:VEVENT
BEGIN:VEVENT
DTSTART;VALUE=DATE:20190328
DTEND;VALUE=DATE:20190329
DTSTAMP:20260423T165559
CREATED:20190322T141521Z
LAST-MODIFIED:20190322T141521Z
UID:3671-1553731200-1553817599@tri-countyalliance.com
SUMMARY:Office Closed - Offsite Training
DESCRIPTION:
URL:https://tri-countyalliance.com/calendar/office-closed-offsite-training/
CATEGORIES:Office Closings
END:VEVENT
END:VCALENDAR